BEGIN:VCALENDAR
VERSION:2.0
PRODID:-//Mac&#039;s Restaurant - ECPv6.10.0//NONSGML v1.0//EN
CALSCALE:GREGORIAN
METHOD:PUBLISH
X-WR-CALNAME:Mac&#039;s Restaurant
X-ORIGINAL-URL:https://macslivemusic.com
X-WR-CALDESC:Events for Mac&#039;s Restaurant
REFRESH-INTERVAL;VALUE=DURATION:PT1H
X-Robots-Tag:noindex
X-PUBLISHED-TTL:PT1H
BEGIN:VTIMEZONE
TZID:America/Los_Angeles
BEGIN:DAYLIGHT
TZOFFSETFROM:-0800
TZOFFSETTO:-0700
TZNAME:PDT
DTSTART:20220313T100000
END:DAYLIGHT
BEGIN:STANDARD
TZOFFSETFROM:-0700
TZOFFSETTO:-0800
TZNAME:PST
DTSTART:20221106T090000
END:STANDARD
END:VTIMEZONE
BEGIN:VEVENT
DTSTART;TZID=America/Los_Angeles:20220129T190000
DTEND;TZID=America/Los_Angeles:20220129T220000
DTSTAMP:20260423T223525
CREATED:20190327T215405Z
LAST-MODIFIED:20220126T195948Z
UID:3694-1643482800-1643493600@macslivemusic.com
SUMMARY:Rock 'n Rewind
DESCRIPTION:$7 cover \nPlease tip the artists! \n\n\n\n\n\nRock ‘n Rewind is a dynamic classic rock band that consists of players with a passion for rock ‘n roll\, who love to have fun and engage their audiences. \nBand founder\, George Nash Khier\, has been performing since the ’70s. He plays keyboards\, rhythm guitar and harmonica\, and provides back-up and lead vocals. Among other projects\, he was a member of The Falling Spikes during the late ’80s\, followed by The London Flush (Yardbirds tribute band). George is a Eugene legend\, known and loved by many in the community. \nKnown for his soulful shredding and passion for the blues\, lead-guitar player and vocalist Dan Parslow has toured and recorded for decades. He’s performed with many artists\, including Bill Kreutzmann (Grateful Dead)\, Taj Mahal\, Buffy Sainte-Marie\, Mike Gordon (Phish)\, Steve Kimock. Luther “Guitar Jr.” Johnson\, and Charlie Musselwhite. Dan has released 15 solo albums\, in addition to multiple live recordings. \nAlex Huber is a professional drummer\, saxophonist\, singer and technical writer. He’s studied drumming for 18 years with many renowned drummers\, including Michael Shrieve\, Kenny Reed and Bibbs Goff. Alex has appeared on three albums and one short film. He currently performs with a variety of blues\, rock and jazz groups\, most recently with the Barb Dzuro Trio\, the Magic Wanders\, and Rock ‘n Rewind. \nBass Guitarist and vocalist Marcus Mueller is a studio musician and performing artist. He was a member of multiple bands for years in and around his home town of San Francisco\, California before moving to Eugene Oregon\, where he now makes his home. Marcus has jammed with numerous notable artists\, including Gregg Allman and Huey Lewis. \nJeff Volk is a self-made singer and percussionist\, a newbie to the industry who satisfies his number one bucket list every time he performs live. He has a powerful and engaging stage presence\,with a raw and penetrating voice. And\, he loves puppies!
URL:https://macslivemusic.com/event/rockin-rewind/
LOCATION:Mac’s Nightclub\, 1626 Willamette St\, Eugene\, OR\, 97401\, United States
ATTACH;FMTTYPE=image/jpeg:https://macslivemusic.com/content/uploads/2019/03/Rock-n-Rewind-pic-1-2020-scaled.jpeg
END:VEVENT
END:VCALENDAR