BEGIN:VCALENDAR
VERSION:2.0
PRODID:-//Mac&#039;s Restaurant - ECPv6.10.0//NONSGML v1.0//EN
CALSCALE:GREGORIAN
METHOD:PUBLISH
X-ORIGINAL-URL:https://macslivemusic.com
X-WR-CALDESC:Events for Mac&#039;s Restaurant
REFRESH-INTERVAL;VALUE=DURATION:PT1H
X-Robots-Tag:noindex
X-PUBLISHED-TTL:PT1H
BEGIN:VTIMEZONE
TZID:America/Los_Angeles
BEGIN:DAYLIGHT
TZOFFSETFROM:-0800
TZOFFSETTO:-0700
TZNAME:PDT
DTSTART:20220313T100000
END:DAYLIGHT
BEGIN:STANDARD
TZOFFSETFROM:-0700
TZOFFSETTO:-0800
TZNAME:PST
DTSTART:20221106T090000
END:STANDARD
END:VTIMEZONE
BEGIN:VEVENT
DTSTART;TZID=America/Los_Angeles:20220326T190000
DTEND;TZID=America/Los_Angeles:20220326T223000
DTSTAMP:20260423T174030
CREATED:20171031T231228Z
LAST-MODIFIED:20220225T230831Z
UID:1512-1648321200-1648333800@macslivemusic.com
SUMMARY:The Blue Owens Band
DESCRIPTION:Blues/R&B \n$7 Cover \n\n\nBlue Owens has been blowing the harmonica since the day he was gifted a harp while hitchhiking across the States as a teen. Prior to landing in the Pacific Northwest\, and becoming deeply rooted in the Eugene\, Oregon blues scene\, Blue spent some years in Austin\, Texas hanging out with his friend\, the blues great\, James Cotton. It was with Cotton that Blue perfected his craft.The Blue Owens Band has honed their original songs in front of live audiences\, responding to their listeners\, “working the tip jar” in the traditional\, old-blues way\, bringing down the roof with house-rocking\, hard-driving blues. The band’s original tunes are fueled by Blue’s jaw dropping harmonica riffs. \nEither a band is great together or they aren’t great at all\, and with The Blue Owens Band\, it is clear as daylight that all of these blues cats are great\, hand-picked musicians who love what they do and love bringing it for you.
URL:https://macslivemusic.com/event/blue-owens-band/
LOCATION:Mac’s Nightclub\, 1626 Willamette St\, Eugene\, OR\, 97401\, United States
ATTACH;FMTTYPE=image/jpeg:https://macslivemusic.com/content/uploads/2017/10/Blue_Owens_jam.jpg
END:VEVENT
END:VCALENDAR