BEGIN:VCALENDAR
VERSION:2.0
PRODID:-//Mac&#039;s Restaurant - ECPv6.10.0//NONSGML v1.0//EN
CALSCALE:GREGORIAN
METHOD:PUBLISH
X-WR-CALNAME:Mac&#039;s Restaurant
X-ORIGINAL-URL:https://macslivemusic.com
X-WR-CALDESC:Events for Mac&#039;s Restaurant
REFRESH-INTERVAL;VALUE=DURATION:PT1H
X-Robots-Tag:noindex
X-PUBLISHED-TTL:PT1H
BEGIN:VTIMEZONE
TZID:America/Los_Angeles
BEGIN:DAYLIGHT
TZOFFSETFROM:-0800
TZOFFSETTO:-0700
TZNAME:PDT
DTSTART:20220313T100000
END:DAYLIGHT
BEGIN:STANDARD
TZOFFSETFROM:-0700
TZOFFSETTO:-0800
TZNAME:PST
DTSTART:20221106T090000
END:STANDARD
END:VTIMEZONE
BEGIN:VEVENT
DTSTART;TZID=America/Los_Angeles:20220406T190000
DTEND;TZID=America/Los_Angeles:20220406T220000
DTSTAMP:20260423T151542
CREATED:20220225T001518Z
LAST-MODIFIED:20220328T185848Z
UID:5185-1649271600-1649282400@macslivemusic.com
SUMMARY:RDBS Blues Showcase Featuring Joanne Broh & Jerry Zybach
DESCRIPTION:Joanne Broh is a column of energy\, known for her powerful\, soulful voice and the passion of her performance. She is considered one of the most popular vocalists of blues\, jazz\, and Motown around the NW. A dynamic blend of smokin’ blues and R&B with a splash of funk\, Joanne Broh will get you dancing and wanting more!\nJerry is known throughout the Pacific Northwest and Northern California for his smokin’ electric slide guitarwork\, his masterful finger-picking Delta blues\, and his tasteful slide and solo work on his homemade cigar box guitars. His music is always foot-stompin’\, danceable\, and authentic — combining traditional blues with a contemporary energy.\n( Eugene Register Guard )\n​All Ages\n \nNo Cover \nPlease Tip the artists! \nHank has shared the stage with delta-blues legend Honeyboy Edwards\, Smash Mouth\, Merle Haggard\, Norton Buffalo\, Gregg Rolie\, Marcia Ball\, Sista Monica Parker\, Amy Clawson & Pam Tillis\, Terry Robb\, Magic Dick\, Lee Oskar\, The Fabulous Thunderbirds\, Karen Lovely\, Deanna Bogart\, Roger Fisher (from Heart)\, Curtis Salgado\, DK Stewart\, Lloyd Jones\, Paul deLay and many other well-known national and international acts. \n  ​ \nHank and his band\, (The Hank Shreve Band) have performed at numerous notable venues/events such as The Waterfront Blues Festival\, Big Sky Blues Festival\, Fourth At The Fort Festival\, Willamette Blues/Brews Festival\, Eugene Celebration\, Oregon State Fair\, Highway 99 Blues Club (Seattle)\, Jazzbones (Tacoma)\, Sasquatch Brewfest (Eugene)….The Hank Shreve Band has won the CBA’s Muddy Award for Best New Act 2012\, and Best Regional Act 2013\, 2014\, 2016\, and 2018. \nApart from being one of Eugene\, Oregon’s  respected and well-known musicians\, Hank is an official Artist-In-Residency at Music Masters in South Eugene where he teaches music with a curriculum that includes Harmonica\, Drums\, Guitar\, Lap-Steel and Piano. 
URL:https://macslivemusic.com/event/rdbs-blues-showcase-featuring-hank-bill-shreve/
LOCATION:Mac’s Nightclub\, 1626 Willamette St\, Eugene\, OR\, 97401\, United States
ATTACH;FMTTYPE=image/jpeg:https://macslivemusic.com/content/uploads/2021/01/JoanneBroh_01160s__HeadshotsEugene.jpg
END:VEVENT
END:VCALENDAR