BEGIN:VCALENDAR
VERSION:2.0
PRODID:-//Mac&#039;s Restaurant - ECPv6.10.0//NONSGML v1.0//EN
CALSCALE:GREGORIAN
METHOD:PUBLISH
X-ORIGINAL-URL:https://macslivemusic.com
X-WR-CALDESC:Events for Mac&#039;s Restaurant
REFRESH-INTERVAL;VALUE=DURATION:PT1H
X-Robots-Tag:noindex
X-PUBLISHED-TTL:PT1H
BEGIN:VTIMEZONE
TZID:America/Los_Angeles
BEGIN:DAYLIGHT
TZOFFSETFROM:-0800
TZOFFSETTO:-0700
TZNAME:PDT
DTSTART:20220313T100000
END:DAYLIGHT
BEGIN:STANDARD
TZOFFSETFROM:-0700
TZOFFSETTO:-0800
TZNAME:PST
DTSTART:20221106T090000
END:STANDARD
END:VTIMEZONE
BEGIN:VEVENT
DTSTART;TZID=America/Los_Angeles:20220429T190000
DTEND;TZID=America/Los_Angeles:20220429T230000
DTSTAMP:20260423T104106
CREATED:20211117T212510Z
LAST-MODIFIED:20220328T225833Z
UID:5065-1651258800-1651273200@macslivemusic.com
SUMMARY:Ben Rice
DESCRIPTION:$7 Cover \n2019 Blues Blast Award Recipient “Sean Costello Rising Star” \n3x Blues Music Award Nominee 2019 \nhttps://www.benricelive.com/ \nBen Rice has been leaving huge impressions on audiences around the Northwest and winning awards for his vocals and guitar playing for the last seven years. In 2014 at the International Blues Challenge in Memphis\, Tennessee\, he left the audience speechless with a raw emotional delivery of his version of “Key To The Highway.” On his second consecutive trip to the International Blues Challenge\, he made the finals in the solo/duo category and was awarded the St. Blues Guitarist award for best guitarist. \n   His debut on the international stage in 2014\, was a landmark step forward in his career from being a regional act playing primarily around the NW to a national and international touring artist. Captivating audiences and presenting himself as someone who has a lot of depth in the various soundscapes of American music\, Ben is gaining fans all over the world who love his playing\, singing\, songs\, and stage performance. \n   His original music blends Soul\, Delta-Blues\, Rockabilly\, Jazz\, and Funk into a Roots Stew. Influenced heavily by his parents record collection\, from Al Green to Alice Cooper\, Teddy Pendergrass to Marshall Tucker\, at a young age Ben began investigating Blues and it’s history. Starting with B.B. King and going through the various regions and time periods\, he is inspired and influenced by historical figures like Muddy Waters\, Mississippi Fred McDowell\, Robert Johnson\, Big Bill Broonzy\, and Skip James to name a few. Ben spent his college years studying Jazz Guitar at the University of Oregon as well as classical music while also playing in the Celtic Folk ensemble and Mariachi group on campus. He is well versed in a lot of musical styles that all contribute to the unique sound of his originals. \n   As a performer Ben looks to the greats for inspiration and is always striving to connect with the audience through his music and stories. He also has an interesting arsenal of guitars playing resophonic guitars and homemade cigar box guitars. More important than the visual appeal Ben has an amazing way of making these guitars sound\, often bringing audiences to tears with his slide playing. \n   Ben Rice has been a growing talent in the NW\, winning awards for his singing\, guitar work\, writing\, and performing. He is stepping into the national and international scene using the vast influences of the American music to fuel his music and performance.
URL:https://macslivemusic.com/event/ben-rice/
LOCATION:Mac’s Nightclub\, 1626 Willamette St\, Eugene\, OR\, 97401\, United States
END:VEVENT
END:VCALENDAR