BEGIN:VCALENDAR
VERSION:2.0
PRODID:-//Mac&#039;s Restaurant - ECPv6.10.0//NONSGML v1.0//EN
CALSCALE:GREGORIAN
METHOD:PUBLISH
X-WR-CALNAME:Mac&#039;s Restaurant
X-ORIGINAL-URL:https://macslivemusic.com
X-WR-CALDESC:Events for Mac&#039;s Restaurant
REFRESH-INTERVAL;VALUE=DURATION:PT1H
X-Robots-Tag:noindex
X-PUBLISHED-TTL:PT1H
BEGIN:VTIMEZONE
TZID:America/Los_Angeles
BEGIN:DAYLIGHT
TZOFFSETFROM:-0800
TZOFFSETTO:-0700
TZNAME:PDT
DTSTART:20220313T100000
END:DAYLIGHT
BEGIN:STANDARD
TZOFFSETFROM:-0700
TZOFFSETTO:-0800
TZNAME:PST
DTSTART:20221106T090000
END:STANDARD
END:VTIMEZONE
BEGIN:VEVENT
DTSTART;TZID=America/Los_Angeles:20220706T190000
DTEND;TZID=America/Los_Angeles:20220706T220000
DTSTAMP:20260423T060159
CREATED:20220511T232904Z
LAST-MODIFIED:20220511T232904Z
UID:5300-1657134000-1657144800@macslivemusic.com
SUMMARY:Rainy Day Blues Society Showcase
DESCRIPTION:Outside weather permitting \nNo Cover \n$5 Minimum Purchase \nPlease tip the artists! \nFeaturing a variety of local\, regional & national artists
URL:https://macslivemusic.com/event/rainy-day-blues-society-showcase-2/
LOCATION:Mac’s Nightclub\, 1626 Willamette St\, Eugene\, OR\, 97401\, United States
ATTACH;FMTTYPE=image/png:https://macslivemusic.com/content/uploads/2022/05/RDBSLogo_Hugh_blackletters.png
END:VEVENT
END:VCALENDAR