BEGIN:VCALENDAR
VERSION:2.0
PRODID:-//Mac&#039;s Restaurant - ECPv6.10.0//NONSGML v1.0//EN
CALSCALE:GREGORIAN
METHOD:PUBLISH
X-ORIGINAL-URL:https://macslivemusic.com
X-WR-CALDESC:Events for Mac&#039;s Restaurant
REFRESH-INTERVAL;VALUE=DURATION:PT1H
X-Robots-Tag:noindex
X-PUBLISHED-TTL:PT1H
BEGIN:VTIMEZONE
TZID:America/Los_Angeles
BEGIN:DAYLIGHT
TZOFFSETFROM:-0800
TZOFFSETTO:-0700
TZNAME:PDT
DTSTART:20220313T100000
END:DAYLIGHT
BEGIN:STANDARD
TZOFFSETFROM:-0700
TZOFFSETTO:-0800
TZNAME:PST
DTSTART:20221106T090000
END:STANDARD
END:VTIMEZONE
BEGIN:VEVENT
DTSTART;VALUE=DATE:20220726
DTEND;VALUE=DATE:20220727
DTSTAMP:20260423T060253
CREATED:20220511T232734Z
LAST-MODIFIED:20220714T222621Z
UID:5297-1658793600-1658879999@macslivemusic.com
SUMMARY:Closed
DESCRIPTION:Closed
URL:https://macslivemusic.com/event/roosters-blues-jam-44/
LOCATION:Mac’s Nightclub\, 1626 Willamette St\, Eugene\, OR\, 97401\, United States
ATTACH;FMTTYPE=image/jpeg:https://macslivemusic.com/content/uploads/2021/06/Rooster-Blues-Jam-11x17-1-scaled.jpg
END:VEVENT
END:VCALENDAR