BEGIN:VCALENDAR
VERSION:2.0
PRODID:-//Mac&#039;s Restaurant - ECPv6.10.0//NONSGML v1.0//EN
CALSCALE:GREGORIAN
METHOD:PUBLISH
X-ORIGINAL-URL:https://macslivemusic.com
X-WR-CALDESC:Events for Mac&#039;s Restaurant
REFRESH-INTERVAL;VALUE=DURATION:PT1H
X-Robots-Tag:noindex
X-PUBLISHED-TTL:PT1H
BEGIN:VTIMEZONE
TZID:America/Los_Angeles
BEGIN:DAYLIGHT
TZOFFSETFROM:-0800
TZOFFSETTO:-0700
TZNAME:PDT
DTSTART:20220313T100000
END:DAYLIGHT
BEGIN:STANDARD
TZOFFSETFROM:-0700
TZOFFSETTO:-0800
TZNAME:PST
DTSTART:20221106T090000
END:STANDARD
END:VTIMEZONE
BEGIN:VEVENT
DTSTART;TZID=America/Los_Angeles:20220819T190000
DTEND;TZID=America/Los_Angeles:20220819T220000
DTSTAMP:20260423T033815
CREATED:20220518T235456Z
LAST-MODIFIED:20220720T210723Z
UID:5359-1660935600-1660946400@macslivemusic.com
SUMMARY:Darline Jackson's "My Band"
DESCRIPTION:Outside weather permitting \nNo Cover \n$7 Minimum Purchase \nPlease tip the artists! \n\nDarline Jackson’s “my Band” will elevate your event to a pleasurable and memorable one that lingers long after the night ends. You get the experience of talented performers who combine professionalism\, enthusiasm with a high level of competence to create an atmosphere of fun and excitement.\n\n\nIf you want to dance or enjoy easy listening\, while you relax and dine\, then Darline Jackson’s “my Band” is the band you want at your event! We cover a genre of music spanning decades\, satisfying musical tastes from nearly all age groups.\n\n\nMy band featuring Darline Jackson\, the powerhouse soul diva\, on lead vocals\, backed by keyboards\, saxophone\, and drums.
URL:https://macslivemusic.com/event/darline-jacksons-my-band-5/
LOCATION:Mac’s Nightclub\, 1626 Willamette St\, Eugene\, OR\, 97401\, United States
ATTACH;FMTTYPE=image/jpeg:https://macslivemusic.com/content/uploads/2022/05/darline.jpg
END:VEVENT
END:VCALENDAR