BEGIN:VCALENDAR
VERSION:2.0
PRODID:-//Mac&#039;s Restaurant - ECPv6.10.0//NONSGML v1.0//EN
CALSCALE:GREGORIAN
METHOD:PUBLISH
X-WR-CALNAME:Mac&#039;s Restaurant
X-ORIGINAL-URL:https://macslivemusic.com
X-WR-CALDESC:Events for Mac&#039;s Restaurant
REFRESH-INTERVAL;VALUE=DURATION:PT1H
X-Robots-Tag:noindex
X-PUBLISHED-TTL:PT1H
BEGIN:VTIMEZONE
TZID:America/Los_Angeles
BEGIN:DAYLIGHT
TZOFFSETFROM:-0800
TZOFFSETTO:-0700
TZNAME:PDT
DTSTART:20220313T100000
END:DAYLIGHT
BEGIN:STANDARD
TZOFFSETFROM:-0700
TZOFFSETTO:-0800
TZNAME:PST
DTSTART:20221106T090000
END:STANDARD
END:VTIMEZONE
BEGIN:VEVENT
DTSTART;TZID=America/Los_Angeles:20221001T190000
DTEND;TZID=America/Los_Angeles:20221001T220000
DTSTAMP:20260422T224535
CREATED:20220126T220735Z
LAST-MODIFIED:20221020T193430Z
UID:5161-1664650800-1664661600@macslivemusic.com
SUMMARY:Paul Biondi\, Skip Jones & Friends
DESCRIPTION:Featuring Paul Biondi\, Skip Jones\, Gus Russell & Rick Markstrom \n$7 Minimum Purchase \nPlease tip the artists!
URL:https://macslivemusic.com/event/paul-biondi-skip-jones-friends-4/
LOCATION:Mac’s Nightclub\, 1626 Willamette St\, Eugene\, OR\, 97401\, United States
ATTACH;FMTTYPE=image/jpeg:https://macslivemusic.com/content/uploads/2022/01/Paul-Gus-RIck-Skip-scaled.jpg
END:VEVENT
BEGIN:VEVENT
DTSTART;TZID=America/Los_Angeles:20221001T200000
DTEND;TZID=America/Los_Angeles:20221001T230000
DTSTAMP:20260422T224535
CREATED:20220923T180051Z
LAST-MODIFIED:20220923T184715Z
UID:5477-1664654400-1664665200@macslivemusic.com
SUMMARY:"Dale"
DESCRIPTION:$7 Cover \nClassic Rockologist / one man band \nDale has over 50 years experience performing with various high profile artists & for high profile events including for Senators\, & President Obama\, twice! \nMulti-keyboard artist performing the music of: \nThe Beatles\, Pink Floyd\, The Doors\, Moody Blues\, Elton John\, Bon Jovi\, Billy Idol\, Santana\, Phil Collins\, The Pretenders\, The Animals\, The Human League\, CCR\, Roy Orbison\, David Bowie\, Neil Young\, Alan Parsons\, Stevie Ray Vaughn\, Eric Clapton\, Jimi Hendrix\, Bob Dylan\, The Kinks\, Genesis\, Tom Petty & many more! \nDale’s catalog is incredibly expansive\, want to hear a specific song? Just ask! Dale is always open to requests!
URL:https://macslivemusic.com/event/dale/
LOCATION:Mac’s Nightclub\, 1626 Willamette St\, Eugene\, OR\, 97401\, United States
END:VEVENT
END:VCALENDAR