BEGIN:VCALENDAR
VERSION:2.0
PRODID:-//Mac&#039;s Restaurant - ECPv6.10.0//NONSGML v1.0//EN
CALSCALE:GREGORIAN
METHOD:PUBLISH
X-ORIGINAL-URL:https://macslivemusic.com
X-WR-CALDESC:Events for Mac&#039;s Restaurant
REFRESH-INTERVAL;VALUE=DURATION:PT1H
X-Robots-Tag:noindex
X-PUBLISHED-TTL:PT1H
BEGIN:VTIMEZONE
TZID:America/Los_Angeles
BEGIN:DAYLIGHT
TZOFFSETFROM:-0800
TZOFFSETTO:-0700
TZNAME:PDT
DTSTART:20220313T100000
END:DAYLIGHT
BEGIN:STANDARD
TZOFFSETFROM:-0700
TZOFFSETTO:-0800
TZNAME:PST
DTSTART:20221106T090000
END:STANDARD
END:VTIMEZONE
BEGIN:VEVENT
DTSTART;TZID=America/Los_Angeles:20221029T200000
DTEND;TZID=America/Los_Angeles:20221029T230000
DTSTAMP:20260422T224627
CREATED:20220720T212854Z
LAST-MODIFIED:20220923T184513Z
UID:5423-1667073600-1667084400@macslivemusic.com
SUMMARY:60's Psychedelic Ball
DESCRIPTION:$10 Cover \n$7 Minimum Purchase \nPlease tip the artists! \nFollowing the wildly successful Woodstock 50-year Anniversary Tribute Show\, The Rolling Stones “Rock & Roll Circus” Tribute show\, “The 60’s Psychedelic Ball” & the “Twin Tribute” show  Featuring the music of the Rolling stones & Creedence Clearwater Revival at Mac’s Restaurant and Nightclub\, Rock ‘n Rewind will be bringing   “The 60’s Psychedelic Ball” to Mac’s this Halloween weekend! Grab your tie-dyed duds\, pop some flowers in your hair and get ready to enjoy the best of the ’60s & 70’s. \nPrizes for best costume! (does not have to be psychedelic themed) \nFor more information\, visit Facebook.com/RocknRewind.
URL:https://macslivemusic.com/event/twin-tribute-show/
LOCATION:Mac’s Nightclub\, 1626 Willamette St\, Eugene\, OR\, 97401\, United States
ATTACH;FMTTYPE=image/jpeg:https://macslivemusic.com/content/uploads/2021/07/Rock-n-Rewind-pic-1-2020-scaled.jpeg
END:VEVENT
END:VCALENDAR