BEGIN:VCALENDAR
VERSION:2.0
PRODID:-//Mac&#039;s Restaurant - ECPv6.10.0//NONSGML v1.0//EN
CALSCALE:GREGORIAN
METHOD:PUBLISH
X-ORIGINAL-URL:https://macslivemusic.com
X-WR-CALDESC:Events for Mac&#039;s Restaurant
REFRESH-INTERVAL;VALUE=DURATION:PT1H
X-Robots-Tag:noindex
X-PUBLISHED-TTL:PT1H
BEGIN:VTIMEZONE
TZID:America/Los_Angeles
BEGIN:DAYLIGHT
TZOFFSETFROM:-0800
TZOFFSETTO:-0700
TZNAME:PDT
DTSTART:20220313T100000
END:DAYLIGHT
BEGIN:STANDARD
TZOFFSETFROM:-0700
TZOFFSETTO:-0800
TZNAME:PST
DTSTART:20221106T090000
END:STANDARD
END:VTIMEZONE
BEGIN:VEVENT
DTSTART;TZID=America/Los_Angeles:20221229T200000
DTEND;TZID=America/Los_Angeles:20221229T223000
DTSTAMP:20260422T155036
CREATED:20221205T221721Z
LAST-MODIFIED:20221205T221721Z
UID:5623-1672344000-1672353000@macslivemusic.com
SUMMARY:NW Premium Comedy
DESCRIPTION:$15 Advance (Online Only) Click here to get your tickets today! \n$20 Day of show \nHosted by James”Blame” & James Manning The Third \nFeaturing: Luke Miller\, Carl Lee & Amanda Arnold \n  \nLuke Miller: https://www.instagram.com/lukemillersucks/?hl=en \nCarl Lee: https://carlleecomedy.com/ \nAmanda Arnold: https://www.facebook.com/AmandaArnoldComedy/videos
URL:https://macslivemusic.com/event/nw-premium-comedy-2/
LOCATION:Mac’s Nightclub\, 1626 Willamette St\, Eugene\, OR\, 97401\, United States
ATTACH;FMTTYPE=image/jpeg:https://macslivemusic.com/content/uploads/2022/12/ECCDec29-scaled.jpg
END:VEVENT
END:VCALENDAR