BEGIN:VCALENDAR
VERSION:2.0
PRODID:-//Mac&#039;s Restaurant - ECPv6.10.0//NONSGML v1.0//EN
CALSCALE:GREGORIAN
METHOD:PUBLISH
X-ORIGINAL-URL:https://macslivemusic.com
X-WR-CALDESC:Events for Mac&#039;s Restaurant
REFRESH-INTERVAL;VALUE=DURATION:PT1H
X-Robots-Tag:noindex
X-PUBLISHED-TTL:PT1H
BEGIN:VTIMEZONE
TZID:America/Los_Angeles
BEGIN:DAYLIGHT
TZOFFSETFROM:-0800
TZOFFSETTO:-0700
TZNAME:PDT
DTSTART:20230312T100000
END:DAYLIGHT
BEGIN:STANDARD
TZOFFSETFROM:-0700
TZOFFSETTO:-0800
TZNAME:PST
DTSTART:20231105T090000
END:STANDARD
END:VTIMEZONE
BEGIN:VEVENT
DTSTART;TZID=America/Los_Angeles:20230121T200000
DTEND;TZID=America/Los_Angeles:20230121T230000
DTSTAMP:20260422T160210
CREATED:20220720T211959Z
LAST-MODIFIED:20221122T224256Z
UID:5421-1674331200-1674342000@macslivemusic.com
SUMMARY:Brian Chevalier & Heavy Chevy
DESCRIPTION:$7 Cover \n$7 Minimum Purchase \nPlease tip the artists! \nBrian Chevalier and Heavy Chevy create old-school music with a new intensity. The blues\, zydeco and Americana group takes on a wide-range of styles and genres\, creating a fusion of blues sounds. \nComprised of award-winning vocalist Darcy Lee\, saxophonist Jesse Yonally and electric and slide guitarist Brian Chevalier\, the Heavy Chevy band weaves instrumental sounds with vocals to create powerful musical tension that veers into soul\, funk\, classic rock\, electric blues\, Mississippi hill-stomp and zydeco tunes.
URL:https://macslivemusic.com/event/macs-20th-anniversary-weekend-with-brian-chevalier-heavy-chevy/
LOCATION:Mac’s Nightclub\, 1626 Willamette St\, Eugene\, OR\, 97401\, United States
ATTACH;FMTTYPE=image/jpeg:https://macslivemusic.com/content/uploads/2019/11/heavy.jpg
END:VEVENT
END:VCALENDAR