BEGIN:VCALENDAR
VERSION:2.0
PRODID:-//Mac&#039;s Restaurant - ECPv6.10.0//NONSGML v1.0//EN
CALSCALE:GREGORIAN
METHOD:PUBLISH
X-ORIGINAL-URL:https://macslivemusic.com
X-WR-CALDESC:Events for Mac&#039;s Restaurant
REFRESH-INTERVAL;VALUE=DURATION:PT1H
X-Robots-Tag:noindex
X-PUBLISHED-TTL:PT1H
BEGIN:VTIMEZONE
TZID:America/Los_Angeles
BEGIN:DAYLIGHT
TZOFFSETFROM:-0800
TZOFFSETTO:-0700
TZNAME:PDT
DTSTART:20230312T100000
END:DAYLIGHT
BEGIN:STANDARD
TZOFFSETFROM:-0700
TZOFFSETTO:-0800
TZNAME:PST
DTSTART:20231105T090000
END:STANDARD
END:VTIMEZONE
BEGIN:VEVENT
DTSTART;TZID=America/Los_Angeles:20230329T190000
DTEND;TZID=America/Los_Angeles:20230329T220000
DTSTAMP:20260422T084436
CREATED:20220720T211636Z
LAST-MODIFIED:20230328T165543Z
UID:5419-1680116400-1680127200@macslivemusic.com
SUMMARY:The Lloyd Tolbert Band Featuring: Blue Owens & Hugh Schmittle
DESCRIPTION:No Cover \n$7 Minimum Purchase \nPlease tip the artists! \n“Blues with Soul” \nLloyd L Tolbert has played harmonica for over 40 years and is a fixture in Eugene’s local blues scene. He is currently fronting The Lloyd L Tolbert Band. Regular band members include: Rick Markstrom – drums & vocals and Michael Hatgis – bass & vocals. Byron Case on bass In 2010 Lloyd was awarded first place at the Northwest Harmonica Championships.
URL:https://macslivemusic.com/event/the-blue-owens-band-4/
LOCATION:Mac’s Nightclub\, 1626 Willamette St\, Eugene\, OR\, 97401\, United States
ATTACH;FMTTYPE=image/jpeg:https://macslivemusic.com/content/uploads/2022/07/lloyd.jpg
END:VEVENT
END:VCALENDAR