BEGIN:VCALENDAR
VERSION:2.0
PRODID:-//Mac&#039;s Restaurant - ECPv6.10.0//NONSGML v1.0//EN
CALSCALE:GREGORIAN
METHOD:PUBLISH
X-WR-CALNAME:Mac&#039;s Restaurant
X-ORIGINAL-URL:https://macslivemusic.com
X-WR-CALDESC:Events for Mac&#039;s Restaurant
REFRESH-INTERVAL;VALUE=DURATION:PT1H
X-Robots-Tag:noindex
X-PUBLISHED-TTL:PT1H
BEGIN:VTIMEZONE
TZID:America/Los_Angeles
BEGIN:DAYLIGHT
TZOFFSETFROM:-0800
TZOFFSETTO:-0700
TZNAME:PDT
DTSTART:20230312T100000
END:DAYLIGHT
BEGIN:STANDARD
TZOFFSETFROM:-0700
TZOFFSETTO:-0800
TZNAME:PST
DTSTART:20231105T090000
END:STANDARD
END:VTIMEZONE
BEGIN:VEVENT
DTSTART;TZID=America/Los_Angeles:20230330T190000
DTEND;TZID=America/Los_Angeles:20230330T210000
DTSTAMP:20260422T084012
CREATED:20230315T203510Z
LAST-MODIFIED:20230315T203616Z
UID:5752-1680202800-1680210000@macslivemusic.com
SUMMARY:NW Premium Comedy Featuring: Kermet Apio
DESCRIPTION:$20 cover Click here to get your advance tickets! \nHosted by James “Blame” & James Manning the 3rd \nHeadliner: Kermet Apio \nFeaturing:Abhishek Kulkarni & Lynette Manning \n  \nKermet Apio: https://www.ikerm.com \n\n\n\nBorn and raised in Honolulu\, Hawaii\, Kermet Apio enjoyed a childhood in paradise. He spent his time watching television\, playing\, and procrastinating everything else. To this day\, he still does all three extensively. \nAfter graduating from high school\, Kermet moved to Seattle to attend the University of Washington. Seattle became home. In early 1989\, Kermet did his first open mike night at the Comedy Underground in Seattle. Comedy was a fun hobby. In May of 1990\, he quit his job\, said good bye to health care and benefits\, and took the leap to performing full time. It is still his only job skill. \nHe was the winner of the 2009 Great American Comedy Festival and has had numerous appearances on television and radio. He has showcased at comedy festivals in Aspen\, Las Vegas\, and Vancouver and has performed in 47 states and 3 Canadian provinces. He is a past winner of the Seattle Comedy Competition and was a semi-finalist in the San Francisco Comedy Competition. Also\, in 1988 he was Dishwasher of the Month at the Sea-Tac Airport Denny’s. \nKermet is married and the proud father of two wonderful children. He enjoys his family\, baseball\, and pie. He does not enjoy opera\, sitting in traffic\, and writing about himself in the third person. \nAbhishek Kulkarni: https://www.facebook.com/abhishek.comic/ \nFormer investment banker turned struggling stand-up comic. Currently the resident Social Media Manager @ SnG Comedy.  \n\nLynette Manning: https://lynettemanning.com/ \nLynette Manning is a comedian from Olympia\, WA and the first female member of the Olympia based comedy group U Got It Productions. \nSince hitting the scene in 2021\, Lynette has been travelling all over the Pacific Northwest & beyond\, connecting with audience members through laughter over her life experiences.  Lynette has been accepted and performed at Comedy Festivals in Washington\, Oregon\, Colorado\, South Dakota\, Michigan & New York. \nWhen Lynette is not on stage\, she is busy being an office professional\, toddler mom & wife to a very supportive husband that doesn’t mind hearing her talk about sleeping with the cast of “300” over and over again to complete strangers.
URL:https://macslivemusic.com/event/nw-premium-comedy-featuring-kermit-apio/
LOCATION:Mac’s Nightclub\, 1626 Willamette St\, Eugene\, OR\, 97401\, United States
ATTACH;FMTTYPE=image/jpeg:https://macslivemusic.com/content/uploads/2023/03/March30-scaled.jpg
END:VEVENT
END:VCALENDAR