BEGIN:VCALENDAR
VERSION:2.0
PRODID:-//Mac&#039;s Restaurant - ECPv6.10.0//NONSGML v1.0//EN
CALSCALE:GREGORIAN
METHOD:PUBLISH
X-ORIGINAL-URL:https://macslivemusic.com
X-WR-CALDESC:Events for Mac&#039;s Restaurant
REFRESH-INTERVAL;VALUE=DURATION:PT1H
X-Robots-Tag:noindex
X-PUBLISHED-TTL:PT1H
BEGIN:VTIMEZONE
TZID:America/Los_Angeles
BEGIN:DAYLIGHT
TZOFFSETFROM:-0800
TZOFFSETTO:-0700
TZNAME:PDT
DTSTART:20230312T100000
END:DAYLIGHT
BEGIN:STANDARD
TZOFFSETFROM:-0700
TZOFFSETTO:-0800
TZNAME:PST
DTSTART:20231105T090000
END:STANDARD
END:VTIMEZONE
BEGIN:VEVENT
DTSTART;TZID=America/Los_Angeles:20230331T200000
DTEND;TZID=America/Los_Angeles:20230331T230000
DTSTAMP:20260422T084450
CREATED:20221111T212908Z
LAST-MODIFIED:20230223T232510Z
UID:5579-1680292800-1680303600@macslivemusic.com
SUMMARY:Brian James & The Revival
DESCRIPTION:$10 Cover \n$7 Minimum Purchase \nPlease tip the artists! \nBrian James\, Guitar\, Vocals\, Songwriter\n\nNashville guitar slinger and frontman Brian James brings his brand of blues and soul revival to the stage every time he sets foot on it. The Nashville 2014 Blues Challenge Winner and 2015 NIMA Nomination (Best Performer) reawakens the real music inspired by the pioneers while authentically contributing to the future of roots music. As a fiery national touring act\, Brian James and his band have played festivals and clubs\, building a loyal following anywhere they go. The energy\, emotion and feeling pours out of every step of that strut as he glides across the stage its an interactive\, infectious exchange\, like a dance\, with his audience. He’s just doing what he loves and when you are in the crowd\, you feel it. This guy is real and … he’s real good. \n“To watch Brian onstage is to be totally enthralled and charmed by him. He is a cross between Jimi Hendrix with a touch of the Allman Brothers mixed right in to bring a performance that is all Brian James.” – (Andy Ellis\, The Guitar Show)
URL:https://macslivemusic.com/event/brian-james-the-revival-3/
LOCATION:Mac’s Nightclub\, 1626 Willamette St\, Eugene\, OR\, 97401\, United States
ATTACH;FMTTYPE=image/jpeg:https://macslivemusic.com/content/uploads/2019/08/Brian-James2.jpg
END:VEVENT
END:VCALENDAR