BEGIN:VCALENDAR
VERSION:2.0
PRODID:-//Mac&#039;s Restaurant - ECPv6.10.0//NONSGML v1.0//EN
CALSCALE:GREGORIAN
METHOD:PUBLISH
X-ORIGINAL-URL:https://macslivemusic.com
X-WR-CALDESC:Events for Mac&#039;s Restaurant
REFRESH-INTERVAL;VALUE=DURATION:PT1H
X-Robots-Tag:noindex
X-PUBLISHED-TTL:PT1H
BEGIN:VTIMEZONE
TZID:America/Los_Angeles
BEGIN:DAYLIGHT
TZOFFSETFROM:-0800
TZOFFSETTO:-0700
TZNAME:PDT
DTSTART:20230312T100000
END:DAYLIGHT
BEGIN:STANDARD
TZOFFSETFROM:-0700
TZOFFSETTO:-0800
TZNAME:PST
DTSTART:20231105T090000
END:STANDARD
END:VTIMEZONE
BEGIN:VEVENT
DTSTART;TZID=America/Los_Angeles:20230415T200000
DTEND;TZID=America/Los_Angeles:20230415T230000
DTSTAMP:20260422T084312
CREATED:20230308T235807Z
LAST-MODIFIED:20230308T235807Z
UID:5732-1681588800-1681599600@macslivemusic.com
SUMMARY:London's Calling
DESCRIPTION:$8 Cover \n$7 minimum purchase \nPlease tip the artists! \nPresented by Rock’n Rewind: Featuring songs from the Beatles through the Pretenders! \n 
URL:https://macslivemusic.com/event/londons-calling/
LOCATION:Mac’s Nightclub\, 1626 Willamette St\, Eugene\, OR\, 97401\, United States
ATTACH;FMTTYPE=image/jpeg:https://macslivemusic.com/content/uploads/2023/03/rockin-new.jpg
END:VEVENT
END:VCALENDAR