BEGIN:VCALENDAR
VERSION:2.0
PRODID:-//Mac&#039;s Restaurant - ECPv6.10.0//NONSGML v1.0//EN
CALSCALE:GREGORIAN
METHOD:PUBLISH
X-ORIGINAL-URL:https://macslivemusic.com
X-WR-CALDESC:Events for Mac&#039;s Restaurant
REFRESH-INTERVAL;VALUE=DURATION:PT1H
X-Robots-Tag:noindex
X-PUBLISHED-TTL:PT1H
BEGIN:VTIMEZONE
TZID:America/Los_Angeles
BEGIN:DAYLIGHT
TZOFFSETFROM:-0800
TZOFFSETTO:-0700
TZNAME:PDT
DTSTART:20230312T100000
END:DAYLIGHT
BEGIN:STANDARD
TZOFFSETFROM:-0700
TZOFFSETTO:-0800
TZNAME:PST
DTSTART:20231105T090000
END:STANDARD
END:VTIMEZONE
BEGIN:VEVENT
DTSTART;TZID=America/Los_Angeles:20230427T190000
DTEND;TZID=America/Los_Angeles:20230427T210000
DTSTAMP:20260422T084314
CREATED:20230418T185217Z
LAST-MODIFIED:20230418T195748Z
UID:5778-1682622000-1682629200@macslivemusic.com
SUMMARY:NW Premium Comedy: Featuring Taylor Clark
DESCRIPTION:Skateboarder\, Comic\, Dad….We have a fabulous night of comedy coming up for you!! Seattle comic Taylor Clark as featured in Thrasher magazine will be joined by the talented Seattle comic Allison Fine and Eugene comic Chadhurst Sharpe for a fabulous fun night of laughs. Don’t miss this one! \n$20 advance (Online only) Click here to get your tickets today! \n$20 at the door \nHosted By James “Blame” & James Manning The Third \nHeadliner: Taylor Clark \nFeaturing: Chadhurst Sharpe & Allison Fine \nTaylor Clark: https://www.taylorclarkcomedy.com/ \n\nTaylor is a Seattle-based adult-skateboarder\, husband\, father and comic. \nIn 2019 he performed at the world famous Laughing Skull comedy contest and recorded his debut album “Addictive Tickle” at his home club\, Laughs Comedy spot in Seattle Washington.  \nAt the height of the pandemic\, after sitting on the album for over a year\, Taylor released it\, leading with several of his skateboard jokes. He put them on instagram and the jokes went viral. Mainstream skate icons like Steve Caballero\, and even Tony Hawk started following him.  \nIn the May 2021 issue of Thrasher Magazine\, considered the Bible of skateboarding\, Taylor received a two page interview about his skate jokes. That same month he also got a four page article written about him in “Low Card Skateboard magazine.”and an interview in Gary Vaynerchucks “ONE37PM”.  \nSince then\, Taylor landed a contract with Excel Forward Management\, has garnered an awesome gang of fans\, and has been touring ever since.  \nTaylor has headlined over 30 Skate-Shop Comedy shows and counting. He also headlines the comedy show at the “Tampa Pro” skate contest every year\, and has opened for Mark Normand\, Joe List\, Jeff Ross and many others.  \nHe is also now the Talent Director of the Seattle International Comedy Competition and can be seen touring around Washington all November with a gaggle of extremely talented young comics.  \nCheck out his web series “Comedians at Skateparks” on YouTube\, and his podcast\, “Addictive Tickle” streaming on all platforms. \nWhen he’s not raising his son\, he’s either skating\, writing jokes\, or on tour. Follow him to sit shotgun for Taylor’s unique comedy mis-adventures.   \n:
URL:https://macslivemusic.com/event/nw-premium-comedy-featuring-taylor-clark/
LOCATION:Mac’s Nightclub\, 1626 Willamette St\, Eugene\, OR\, 97401\, United States
ATTACH;FMTTYPE=image/jpeg:https://macslivemusic.com/content/uploads/2023/04/april27-1-scaled.jpg
END:VEVENT
END:VCALENDAR