BEGIN:VCALENDAR
VERSION:2.0
PRODID:-//Mac&#039;s Restaurant - ECPv6.10.0//NONSGML v1.0//EN
CALSCALE:GREGORIAN
METHOD:PUBLISH
X-ORIGINAL-URL:https://macslivemusic.com
X-WR-CALDESC:Events for Mac&#039;s Restaurant
REFRESH-INTERVAL;VALUE=DURATION:PT1H
X-Robots-Tag:noindex
X-PUBLISHED-TTL:PT1H
BEGIN:VTIMEZONE
TZID:America/Los_Angeles
BEGIN:DAYLIGHT
TZOFFSETFROM:-0800
TZOFFSETTO:-0700
TZNAME:PDT
DTSTART:20230312T100000
END:DAYLIGHT
BEGIN:STANDARD
TZOFFSETFROM:-0700
TZOFFSETTO:-0800
TZNAME:PST
DTSTART:20231105T090000
END:STANDARD
END:VTIMEZONE
BEGIN:VEVENT
DTSTART;TZID=America/Los_Angeles:20230428T200000
DTEND;TZID=America/Los_Angeles:20230428T230000
DTSTAMP:20260422T084216
CREATED:20230308T233318Z
LAST-MODIFIED:20230308T233614Z
UID:5722-1682712000-1682722800@macslivemusic.com
SUMMARY:Blue Flame Dames
DESCRIPTION:$10 Cover \nhttp://www.ellenwhyte.com/i \nhttp://www.joannebroh.com \nEllen Whyte\, Oregon Music Hall of Fame inductee\, Grammy nominated singer/songwriter\, and Cascade Blues Muddy Awards Hall of Fame inductee will come to Mac’s Restaurant & Nightclub for a very special show April 28. Ellen is known for her astonishing vocals\, as she gracefully moves among genres from blues to jazz to funk and ballads. Her percussive rhythm guitar work is well suited to her voice. \n  \nShe will join Eugene’s own Joanne Broh\, winner Female Blues Vocalist and Soul Blues Band from Rainy Day Blues Society\, Journey to Memphis (International Blues Challenge) finalist from Cascade Blues Society\, “Wicked Cool” recording #18 on Living Blues Radio chart for this unique show. Joanne is a column of energy\, known for her powerful\, soulful voice and the passion of her performance. She is considered one of the best singers of blues and jazz. \n  \nEllen and Joanne are joined with guitar master (and long time collaborator with both women)\, Garry Meziere\, and phenomenal drummer Ed Pierce
URL:https://macslivemusic.com/event/blue-flame-dames/
LOCATION:Mac’s Nightclub\, 1626 Willamette St\, Eugene\, OR\, 97401\, United States
ATTACH;FMTTYPE=image/jpeg:https://macslivemusic.com/content/uploads/2023/03/BF_Dames_web.jpg
END:VEVENT
END:VCALENDAR