BEGIN:VCALENDAR
VERSION:2.0
PRODID:-//Mac&#039;s Restaurant - ECPv6.10.0//NONSGML v1.0//EN
CALSCALE:GREGORIAN
METHOD:PUBLISH
X-WR-CALNAME:Mac&#039;s Restaurant
X-ORIGINAL-URL:https://macslivemusic.com
X-WR-CALDESC:Events for Mac&#039;s Restaurant
REFRESH-INTERVAL;VALUE=DURATION:PT1H
X-Robots-Tag:noindex
X-PUBLISHED-TTL:PT1H
BEGIN:VTIMEZONE
TZID:America/Los_Angeles
BEGIN:DAYLIGHT
TZOFFSETFROM:-0800
TZOFFSETTO:-0700
TZNAME:PDT
DTSTART:20260308T100000
END:DAYLIGHT
BEGIN:STANDARD
TZOFFSETFROM:-0700
TZOFFSETTO:-0800
TZNAME:PST
DTSTART:20261101T090000
END:STANDARD
END:VTIMEZONE
BEGIN:VEVENT
DTSTART;TZID=America/Los_Angeles:20260424T200000
DTEND;TZID=America/Los_Angeles:20260424T230000
DTSTAMP:20260424T025926
CREATED:20170916T002455Z
LAST-MODIFIED:20260325T204306Z
UID:1485-1777060800-1777071600@macslivemusic.com
SUMMARY:The Hank Shreve Band
DESCRIPTION:$10 Cover \n$9 Minimum Purchase \nPlease tip the artists! \nhttps://www.hankshreveband.com/ \nAward winning Blues \n\nHank Shreve began playing harmonica at the age of 8 and has established himself as a major harmonica talent on the blues scene in the Pacific Northwest. Between the age of 8 – 18\, he became proficient on other instruments such as Vocals\, Drums\, Keyboards\, Guitar\, Dobro and Lap-Steel. \n   \nHe received the Northwest Harmonica Championship in 2006\, and the CBA’s ”Muddy Award” for Best Harmonica in both 2009 and 2013. Hank was a featured artist in the  Harmonica Blow-off at the 2009 Waterfront Blues Festival along with Rick Estrin and Randy Chortkoff. He also was a featured harmonica player at Harpdog Brown’s ‘International Harmonica Showcase’ in White Rock\, Canada.  \nIn addition to many music luminaries\, he has shared the stage with delta-blues legend Honeyboy Edwards\, Smash Mouth\, Merle Haggard\, Norton Buffalo\, Gregg Rolie\, Marcia Ball\, Sista Monica Parker\, Amy Clawson & Pam Tillis\, Terry Robb\, Magic Dick\, Lee Oskar\, The Fabulous Thunderbirds\, Karen Lovely\, Deanna Bogart\, Roger Fisher (from Heart)\, Curtis Salgado\, DK Stewart\, Lloyd Jones\, Paul deLay and many other well-known national and international acts. \n  ​ \nHank and his band\, (The Hank Shreve Band) have performed at numerous notable venues/events such as The Waterfront Blues Festival\, Big Sky Blues Festival\, Fourth At The Fort Festival\, Seven Feathers Casino\, Three Rivers Casino\, Willamette Blues/Brews Festival\, Eugene Celebration\, Oregon State Fair\, Highway 99 Blues Club (Seattle)\, Jazzbones (Tacoma)\, Sasquatch Brewfest (Eugene)\, just to name a few! The Hank Shreve Band has won the CBA’s Muddy Award for Best New Act 2012\, and Best Regional Act 2013\, 2014\, & 2016. \nApart from being one of Eugene\, Oregon’s  respected and well-known musicians\, Hank teaches music with a curriculum that includes Harmonica\, Drums\, Guitar\, Lap-Steel and Piano. He is an official Artist-In-Residency at Music Masters in South Eugene where he teaches. 
URL:https://macslivemusic.com/event/hank-shreve-band-2/
LOCATION:Mac’s Nightclub\, 1626 Willamette St\, Eugene\, OR\, 97401\, United States
END:VEVENT
END:VCALENDAR