BEGIN:VCALENDAR
VERSION:2.0
PRODID:-//Mac&#039;s Restaurant - ECPv6.10.0//NONSGML v1.0//EN
CALSCALE:GREGORIAN
METHOD:PUBLISH
X-WR-CALNAME:Mac&#039;s Restaurant
X-ORIGINAL-URL:https://macslivemusic.com
X-WR-CALDESC:Events for Mac&#039;s Restaurant
REFRESH-INTERVAL;VALUE=DURATION:PT1H
X-Robots-Tag:noindex
X-PUBLISHED-TTL:PT1H
BEGIN:VTIMEZONE
TZID:America/Los_Angeles
BEGIN:DAYLIGHT
TZOFFSETFROM:-0800
TZOFFSETTO:-0700
TZNAME:PDT
DTSTART:20190310T100000
END:DAYLIGHT
BEGIN:STANDARD
TZOFFSETFROM:-0700
TZOFFSETTO:-0800
TZNAME:PST
DTSTART:20191103T090000
END:STANDARD
END:VTIMEZONE
BEGIN:VEVENT
DTSTART;TZID=America/Los_Angeles:20190816T200000
DTEND;TZID=America/Los_Angeles:20190816T233000
DTSTAMP:20260421T155646
CREATED:20190725T195704Z
LAST-MODIFIED:20190725T224252Z
UID:3875-1565985600-1565998200@macslivemusic.com
SUMMARY:Woodstock Tribute Show
DESCRIPTION:$7 Cover 8pm \nFeaturing Rock’n Rewind \nFeaturing songs by: \nArlo Gutherie \nCountry Joe & The Fish \nSantana \nCanned Heat \nMountain \nGrateful Dead \nCCR \nJanis Joplin \nThe Who \nJefferson Airplane \nJoe Cocker \nTen Years After \nThe Band \nC\,S\, N & Y \nJimi Hendrix \n 
URL:https://macslivemusic.com/event/woodstock-tribute/
LOCATION:Mac’s Nightclub\, 1626 Willamette St\, Eugene\, OR\, 97401\, United States
ATTACH;FMTTYPE=image/jpeg:https://macslivemusic.com/content/uploads/2019/07/8-16-2019-macs.jpg
END:VEVENT
BEGIN:VEVENT
DTSTART;TZID=America/Los_Angeles:20190815T180000
DTEND;TZID=America/Los_Angeles:20190815T220000
DTSTAMP:20260421T155646
CREATED:20190725T224146Z
LAST-MODIFIED:20190725T224146Z
UID:3888-1565892000-1565906400@macslivemusic.com
SUMMARY:Woodstock 50th Anniversary Screening & Mac's 17th Anniversary!
DESCRIPTION:We will be screening the original recording of Woodstock!  \n6pm to 10pm\, No cover\, All Ages \nPeriod clothing encouraged! \nCostume contest with prizes!
URL:https://macslivemusic.com/event/woodstock-50th-anniversary-screening-macs-17th-anniversary/
LOCATION:Mac’s Nightclub\, 1626 Willamette St\, Eugene\, OR\, 97401\, United States
ATTACH;FMTTYPE=image/jpeg:https://macslivemusic.com/content/uploads/2019/07/Woodstock-2019-Poster-11-x-17-B.jpg
END:VEVENT
BEGIN:VEVENT
DTSTART;TZID=America/Los_Angeles:20190809T200000
DTEND;TZID=America/Los_Angeles:20190809T233000
DTSTAMP:20260421T155646
CREATED:20190423T224132Z
LAST-MODIFIED:20190801T204408Z
UID:3729-1565380800-1565393400@macslivemusic.com
SUMMARY:The Lloyd Tolbert Band
DESCRIPTION:Blues \n$6 Cover
URL:https://macslivemusic.com/event/the-lloyd-tolbert-band-2/
LOCATION:Mac’s Nightclub\, 1626 Willamette St\, Eugene\, OR\, 97401\, United States
ATTACH;FMTTYPE=image/jpeg:https://macslivemusic.com/content/uploads/2019/04/LLT-Band_MACS_080919.jpg
END:VEVENT
BEGIN:VEVENT
DTSTART;VALUE=DATE:20190803
DTEND;VALUE=DATE:20190804
DTSTAMP:20260421T155646
CREATED:20190725T205458Z
LAST-MODIFIED:20190725T205551Z
UID:3886-1564790400-1564876799@macslivemusic.com
SUMMARY:Enjoy the Whiteaker block party!
DESCRIPTION:
URL:https://macslivemusic.com/event/enjoy-the-whiteaker-block-party/
LOCATION:Mac’s Nightclub\, 1626 Willamette St\, Eugene\, OR\, 97401\, United States
END:VEVENT
BEGIN:VEVENT
DTSTART;TZID=America/Los_Angeles:20190802T200000
DTEND;TZID=America/Los_Angeles:20190802T233000
DTSTAMP:20260421T155646
CREATED:20190725T192942Z
LAST-MODIFIED:20190725T192942Z
UID:3872-1564776000-1564788600@macslivemusic.com
SUMMARY:Karen Lovely/Deb Ryder Double Threat
DESCRIPTION:
URL:https://macslivemusic.com/event/karen-lovely-deb-ryder-double-threat/
LOCATION:Mac’s Nightclub\, 1626 Willamette St\, Eugene\, OR\, 97401\, United States
ATTACH;FMTTYPE=image/jpeg:https://macslivemusic.com/content/uploads/2019/07/karen-deb.jpg
END:VEVENT
BEGIN:VEVENT
DTSTART;TZID=America/Los_Angeles:20190730T190000
DTEND;TZID=America/Los_Angeles:20190730T230000
DTSTAMP:20260421T155646
CREATED:20170421T215301Z
LAST-MODIFIED:20190627T195117Z
UID:1323-1564513200-1564527600@macslivemusic.com
SUMMARY:Rooster's Blues Jam
DESCRIPTION:Hosted By Skip Jones & Byron Case \nNo Cover\nWith\n$3 Featured Micros All Night!
URL:https://macslivemusic.com/event/roosters-blues-jam-7/
LOCATION:Mac’s Nightclub\, 1626 Willamette St\, Eugene\, OR\, 97401\, United States
END:VEVENT
BEGIN:VEVENT
DTSTART;VALUE=DATE:20190704
DTEND;VALUE=DATE:20190707
DTSTAMP:20260421T155646
CREATED:20190627T201932Z
LAST-MODIFIED:20190627T201932Z
UID:3861-1562198400-1562457599@macslivemusic.com
SUMMARY:Closed
DESCRIPTION:
URL:https://macslivemusic.com/event/closed-17/
LOCATION:Mac’s Nightclub\, 1626 Willamette St\, Eugene\, OR\, 97401\, United States
END:VEVENT
BEGIN:VEVENT
DTSTART;TZID=America/Los_Angeles:20190630T190000
DTEND;TZID=America/Los_Angeles:20190630T210000
DTSTAMP:20260421T155646
CREATED:20190327T211258Z
LAST-MODIFIED:20190517T215222Z
UID:3673-1561921200-1561928400@macslivemusic.com
SUMMARY:Trivia Night
DESCRIPTION:No Cover \nPrizes for top teams!
URL:https://macslivemusic.com/event/trivia-night-6/
LOCATION:Mac’s Nightclub\, 1626 Willamette St\, Eugene\, OR\, 97401\, United States
ATTACH;FMTTYPE=image/jpeg:https://macslivemusic.com/content/uploads/2019/04/WDYK-page-001.jpg
END:VEVENT
BEGIN:VEVENT
DTSTART;TZID=America/Los_Angeles:20190628T200000
DTEND;TZID=America/Los_Angeles:20190628T230000
DTSTAMP:20260421T155646
CREATED:20180726T193603Z
LAST-MODIFIED:20190627T193001Z
UID:2455-1561752000-1561762800@macslivemusic.com
SUMMARY:Daddy Rabbit
DESCRIPTION:Classic Rock & Originals \n$5 Cover
URL:https://macslivemusic.com/event/daddy-rabbit-3/
LOCATION:Mac’s Nightclub\, 1626 Willamette St\, Eugene\, OR\, 97401\, United States
ATTACH;FMTTYPE=image/jpeg:https://macslivemusic.com/content/uploads/2018/07/daddy-rabbit.jpg
END:VEVENT
BEGIN:VEVENT
DTSTART;TZID=America/Los_Angeles:20190627T190000
DTEND;TZID=America/Los_Angeles:20190627T220000
DTSTAMP:20260421T155646
CREATED:20190327T215633Z
LAST-MODIFIED:20190517T215341Z
UID:3697-1561662000-1561672800@macslivemusic.com
SUMMARY:Dueling Pianos
DESCRIPTION:Featuring Skip Jones & Hank Shreve
URL:https://macslivemusic.com/event/dueling-pianos-12/
LOCATION:Mac’s Nightclub\, 1626 Willamette St\, Eugene\, OR\, 97401\, United States
ATTACH;FMTTYPE=image/jpeg:https://macslivemusic.com/content/uploads/2017/09/the_piano_duel_of_the_ducks_by_snappysnape-d3c3cyq.jpg
END:VEVENT
BEGIN:VEVENT
DTSTART;TZID=America/Los_Angeles:20190625T190000
DTEND;TZID=America/Los_Angeles:20190625T230000
DTSTAMP:20260421T155646
CREATED:20170915T231023Z
LAST-MODIFIED:20190517T214453Z
UID:1482-1561489200-1561503600@macslivemusic.com
SUMMARY:Rooster's Blues Jam
DESCRIPTION:Hosted By Skip Jones & Byron Case \n  \nNo Cover
URL:https://macslivemusic.com/event/macs-halloween-bash-roosters-blues-jam/
LOCATION:Mac’s Nightclub\, 1626 Willamette St\, Eugene\, OR\, 97401\, United States
END:VEVENT
BEGIN:VEVENT
DTSTART;TZID=America/Los_Angeles:20190624T190000
DTEND;TZID=America/Los_Angeles:20190624T220000
DTSTAMP:20260421T155646
CREATED:20190411T181037Z
LAST-MODIFIED:20190517T214705Z
UID:3712-1561402800-1561413600@macslivemusic.com
SUMMARY:Open Mic
DESCRIPTION:Showcase your talents! \nAll Ages! \nMondays at Mac’s \nHosted by Skip Jones \nSign ups at 6:00pm \nFirst act starts at 7:00pm \n 
URL:https://macslivemusic.com/event/open-mic-2/
LOCATION:Mac’s Nightclub\, 1626 Willamette St\, Eugene\, OR\, 97401\, United States
END:VEVENT
BEGIN:VEVENT
DTSTART;TZID=America/Los_Angeles:20190623T190000
DTEND;TZID=America/Los_Angeles:20190623T210000
DTSTAMP:20260421T155646
CREATED:20190327T211351Z
LAST-MODIFIED:20190517T215138Z
UID:3675-1561316400-1561323600@macslivemusic.com
SUMMARY:Trivia Night
DESCRIPTION:No Cover \nPrizes for top teams!
URL:https://macslivemusic.com/event/trivia-night-7/
LOCATION:Mac’s Nightclub\, 1626 Willamette St\, Eugene\, OR\, 97401\, United States
ATTACH;FMTTYPE=image/jpeg:https://macslivemusic.com/content/uploads/2019/04/WDYK-page-001.jpg
END:VEVENT
BEGIN:VEVENT
DTSTART;TZID=America/Los_Angeles:20190618T190000
DTEND;TZID=America/Los_Angeles:20190618T230000
DTSTAMP:20260421T155646
CREATED:20170915T230539Z
LAST-MODIFIED:20190517T214436Z
UID:1480-1560884400-1560898800@macslivemusic.com
SUMMARY:Rooster's Blues Jam
DESCRIPTION:Hosted By Skip Jones & Byron Case \nNo Cover\nWith\n$3 Featured Micros All Night!
URL:https://macslivemusic.com/event/roosters-blues-jam-8/
LOCATION:Mac’s Nightclub\, 1626 Willamette St\, Eugene\, OR\, 97401\, United States
ATTACH;FMTTYPE=image/jpeg:https://macslivemusic.com/content/uploads/2016/12/Rooster_Blues_Jam.jpg
END:VEVENT
BEGIN:VEVENT
DTSTART;TZID=America/Los_Angeles:20190617T190000
DTEND;TZID=America/Los_Angeles:20190617T220000
DTSTAMP:20260421T155646
CREATED:20190411T180956Z
LAST-MODIFIED:20190517T214646Z
UID:3710-1560798000-1560808800@macslivemusic.com
SUMMARY:Open Mic
DESCRIPTION:Showcase your talents! \nAll Ages! \nMondays at Mac’s \nHosted by Skip Jones \nSign ups at 6:00pm \nFirst act starts at 7:00pm \n 
URL:https://macslivemusic.com/event/open-mic/
LOCATION:Mac’s Nightclub\, 1626 Willamette St\, Eugene\, OR\, 97401\, United States
ATTACH;FMTTYPE=image/jpeg:https://macslivemusic.com/content/uploads/2019/05/OPEN-MIC-NITE-Poster-page-0011.jpg
END:VEVENT
BEGIN:VEVENT
DTSTART;TZID=America/Los_Angeles:20190616T190000
DTEND;TZID=America/Los_Angeles:20190616T210000
DTSTAMP:20260421T155646
CREATED:20190327T211529Z
LAST-MODIFIED:20190517T215150Z
UID:3679-1560711600-1560718800@macslivemusic.com
SUMMARY:Trivia Night
DESCRIPTION:No Cover \nPrizes for top teams!
URL:https://macslivemusic.com/event/trivia-night-9/
LOCATION:Mac’s Nightclub\, 1626 Willamette St\, Eugene\, OR\, 97401\, United States
ATTACH;FMTTYPE=image/jpeg:https://macslivemusic.com/content/uploads/2019/04/WDYK-page-001.jpg
END:VEVENT
BEGIN:VEVENT
DTSTART;VALUE=DATE:20190609
DTEND;VALUE=DATE:20190611
DTSTAMP:20260421T155646
CREATED:20190529T183234Z
LAST-MODIFIED:20190529T183234Z
UID:3827-1560038400-1560211199@macslivemusic.com
SUMMARY:Closed
DESCRIPTION:
URL:https://macslivemusic.com/event/closed-16/
LOCATION:Mac’s Nightclub\, 1626 Willamette St\, Eugene\, OR\, 97401\, United States
END:VEVENT
BEGIN:VEVENT
DTSTART;TZID=America/Los_Angeles:20190603T190000
DTEND;TZID=America/Los_Angeles:20190603T220000
DTSTAMP:20260421T155646
CREATED:20190514T195639Z
LAST-MODIFIED:20190514T195639Z
UID:3805-1559588400-1559599200@macslivemusic.com
SUMMARY:Open Mic Night
DESCRIPTION:Hosted By Skip Jones \nAll Ages \nSign up at 6pm
URL:https://macslivemusic.com/event/open-mic-night-4/
LOCATION:Mac’s Nightclub\, 1626 Willamette St\, Eugene\, OR\, 97401\, United States
ATTACH;FMTTYPE=image/jpeg:https://macslivemusic.com/content/uploads/2019/05/OPEN-MIC-NITE-Poster-page-0011.jpg
END:VEVENT
BEGIN:VEVENT
DTSTART;TZID=America/Los_Angeles:20190602T190000
DTEND;TZID=America/Los_Angeles:20190602T210000
DTSTAMP:20260421T155646
CREATED:20190514T195438Z
LAST-MODIFIED:20190514T195438Z
UID:3803-1559502000-1559509200@macslivemusic.com
SUMMARY:Trivia Night
DESCRIPTION:Free! \nPrizes for top teams!
URL:https://macslivemusic.com/event/trivia-night-14/
LOCATION:Mac’s Nightclub\, 1626 Willamette St\, Eugene\, OR\, 97401\, United States
ATTACH;FMTTYPE=image/jpeg:https://macslivemusic.com/content/uploads/2019/04/WDYK-page-001.jpg
END:VEVENT
BEGIN:VEVENT
DTSTART;VALUE=DATE:20190527
DTEND;VALUE=DATE:20190528
DTSTAMP:20260421T155646
CREATED:20190424T212925Z
LAST-MODIFIED:20190424T212925Z
UID:3788-1558915200-1559001599@macslivemusic.com
SUMMARY:Closed
DESCRIPTION:
URL:https://macslivemusic.com/event/closed-15/
LOCATION:OR
END:VEVENT
BEGIN:VEVENT
DTSTART;TZID=America/Los_Angeles:20190526T180000
DTEND;TZID=America/Los_Angeles:20190526T200000
DTSTAMP:20260421T155646
CREATED:20190424T212442Z
LAST-MODIFIED:20190424T212442Z
UID:3782-1558893600-1558900800@macslivemusic.com
SUMMARY:Trivia Night!
DESCRIPTION:Prizes for top teams \nFree
URL:https://macslivemusic.com/event/trivia-night-13/
LOCATION:Mac’s Nightclub\, 1626 Willamette St\, Eugene\, OR\, 97401\, United States
ATTACH;FMTTYPE=image/jpeg:https://macslivemusic.com/content/uploads/2019/04/WDYK-page-001.jpg
END:VEVENT
BEGIN:VEVENT
DTSTART;TZID=America/Los_Angeles:20190520T190000
DTEND;TZID=America/Los_Angeles:20190520T210000
DTSTAMP:20260421T155646
CREATED:20190424T211232Z
LAST-MODIFIED:20190424T211321Z
UID:3773-1558378800-1558386000@macslivemusic.com
SUMMARY:Open Mic Night!
DESCRIPTION:Hosted By Skip Jones \nAll Ages \nSign up at 6pm
URL:https://macslivemusic.com/event/open-mic-night-3/
LOCATION:Mac’s Nightclub\, 1626 Willamette St\, Eugene\, OR\, 97401\, United States
ATTACH;FMTTYPE=image/jpeg:https://macslivemusic.com/content/uploads/2019/04/OPEN-MIC-NITE-Poster-page-001.jpg
END:VEVENT
BEGIN:VEVENT
DTSTART;TZID=America/Los_Angeles:20190519T180000
DTEND;TZID=America/Los_Angeles:20190519T200000
DTSTAMP:20260421T155646
CREATED:20190424T211008Z
LAST-MODIFIED:20190424T211008Z
UID:3771-1558288800-1558296000@macslivemusic.com
SUMMARY:Trivia Night
DESCRIPTION:Prizes for top teams! \nall Ages \nFree.
URL:https://macslivemusic.com/event/trivia-night-12/
LOCATION:Mac’s Nightclub\, 1626 Willamette St\, Eugene\, OR\, 97401\, United States
ATTACH;FMTTYPE=image/jpeg:https://macslivemusic.com/content/uploads/2019/04/WDYK-page-001.jpg
END:VEVENT
BEGIN:VEVENT
DTSTART;TZID=America/Los_Angeles:20190513T190000
DTEND;TZID=America/Los_Angeles:20190513T220000
DTSTAMP:20260421T155646
CREATED:20190424T205430Z
LAST-MODIFIED:20190424T205430Z
UID:3757-1557774000-1557784800@macslivemusic.com
SUMMARY:Open Mic Night
DESCRIPTION:Hosted by Skip Jones \nAll ages
URL:https://macslivemusic.com/event/open-mic-night-2/
LOCATION:Mac’s Nightclub\, 1626 Willamette St\, Eugene\, OR\, 97401\, United States
ATTACH;FMTTYPE=image/jpeg:https://macslivemusic.com/content/uploads/2019/04/OPEN-MIC-NITE-Poster-page-001.jpg
END:VEVENT
BEGIN:VEVENT
DTSTART;TZID=America/Los_Angeles:20190512T180000
DTEND;TZID=America/Los_Angeles:20190512T200000
DTSTAMP:20260421T155646
CREATED:20190423T232042Z
LAST-MODIFIED:20190423T232042Z
UID:3754-1557684000-1557691200@macslivemusic.com
SUMMARY:Trivia Night
DESCRIPTION:Prizes for top teams! \nFree to join!
URL:https://macslivemusic.com/event/trivia-night-11/
LOCATION:Mac’s Nightclub\, 1626 Willamette St\, Eugene\, OR\, 97401\, United States
ATTACH;FMTTYPE=image/jpeg:https://macslivemusic.com/content/uploads/2019/04/WDYK-page-001.jpg
END:VEVENT
BEGIN:VEVENT
DTSTART;TZID=America/Los_Angeles:20190510T200000
DTEND;TZID=America/Los_Angeles:20190510T233000
DTSTAMP:20260421T155646
CREATED:20190423T230415Z
LAST-MODIFIED:20190423T230415Z
UID:3748-1557518400-1557531000@macslivemusic.com
SUMMARY:John Clifton
DESCRIPTION:$7 Cover \n\n\nAs a co-founder (w/ brother Bill Clifton) of Fresno’s The MoFo Party Band\, John Clifton has solidified himself as one of Central California’s most in demand Blues frontmen since he started in the late ’80’s.  His from the gut vocal and harmonica presence and high energy performances have captivated audiences worldwide. \n  \nHitting the road hard since the early days and performing over 150 dates a year\, John regularly tours in the U.S. and has headlined some of the most well known venues and festivals throughout Europe such as the Beersel Blues Festival in Belgium\, and the Blues Express and Polish Boogie Festivals\, both in Poland.  He has also electrified audiences on festivals and in venues throughout the islands of New Zealand and Fiji! \n  \nIN 2016\, The John Clifton Blues Band performed on the Doheny Blues Festival\, California’s largest and most prestigious festivals\, with Edgar Winter and Lynyrd Skynyrd headlining.  He also injected a shot of adrenaline to the acclaimed Edition de Bain de Blues Festival in France. \n  \nWith style and prowess on the level of Kim Wilson and Rod Piazza\, John has always kept it real with his own voice and identity and never set out to be a copy of any of his musical heroes. As a showman he delivers straight from the heart\, soul\, and gut\, staying clear of the typical clichés and novelties. \n  \nHe also keeps things fresh and exciting by effortlessly infusing styles from West Coast to Chicago Blues\, classic R&B and Soul\, to some hard driving vintage Rock’n’Roll. \n  \nJohn’s reputation and performances have earned him the respect of many of the greats as he has been invited on stage with the likes of James Cotton\, Rod Piazza\, Tommy Castro\, John Mayall\, Huey Lewis\, Willie Big Eyes Smith\, Luther Tucker\, Kim Wilson\, Billy Boy Arnold\, James Harman\, and Rusty Zinn.  He was also given the honor of opening for BB King\, winning and being a multiple nominee for the Modesto Area Music Awards\, and receiving the “Declaration of Appreciation” from the State of California for his contribution to the arts. \nJohn has performed  as a featured harmonica player 7 times and the prestigious Mark Hummel’s Blues Harmonica Blow out show and has been ask to join in as a guest on many occasions with Mark Hummel and many other of the top blues harmonica players in the world \n  \nIn addition\, John was asked to tour and record as the featured harmonica player with Big Bill Morganfield\, Blues Hall of Fame inductee and son of Muddy Waters\, on his 2016 release “Blood Stains On The Wall”. \n  \nHe has also brought his skills as a producer to the studio with a band from Poland called The Boogie Boys\, featuring piano giant Bartek Szopinski\, and winning the Polish Blues Award for “Best Blues Album 2013” for their CD “Made In Cali”. \n  \nProducer David Z best known for his work with Prince\, Etta James\, Billy Idol and many others\, chose John’s song “Anytime Is Cool” for the 2017 motion picture release “Shattered” John and Band were also asked to appear in the movie and were featured in the first scene. \n  \nJohn captured the attention of Scott Abeyta\, owner of Rip Cat Records in Southern California\, and was added to a roster that included The Blasters\, the 44’s\, and Kid Ramos among many other great names.  He released his first solo album “Let Yourself Go” in 2015 to worldwide acclaim and airplay\, and the single “Let Your Self Go” charted in the Top 10 on the Duke University WXDU Americana Show. \n  \nThe album boasts guest performances by Kid Ramos\, Rusty Zinn\, brother Bill Clifton\, Bartek Szopinski\, Marty Dodson\, and Bob Welsh.  Scott Abeyta holds down the main guitar duties\, and fellow Fresno music icons Roger Perry\, Jake Finney\, and John Shafer are also featured. \n  \n2018 Brings a new CD on Rip Cat Records “Nightlife”  .The new CD has been getting great reviews and song “Still A Fool” from Nightlife was the #10 of the top new releases on Top 15 Rack of Blues Radio show on BB Kings Bluesville on Sirus XM Radio. Also an extensive tour in support of “Nightlife” in the Mid West and East Coast for the summer 2018. \n  \nJohn Clifton…one of those rare musicians that has dedicated himself to the Blues and has found continued success and relevance by remaining dedicated\, excited\, hardworking\, and focused. \n\n\n  \n\n\n  \n\n\n\n\n\nNotable Performances\n\n\n\nUSA \nDoheney Blues Festival\, Dana Point CA \nMount Dora Blues & Groove Fest \, Mount Dora FL \nBlues and Bones Festival Eagle ID \nBiscuits and Blues San Francisco CA \nAlley Fest Longview TX \nNew Blues Festival Long Beach CA \nWilbert’s\, Cleveland OH \nSan Francisco Blues Festival San Francisco CA \nBB’s Lawnside\, Kansas City MO \nThe Shrine\, New York NY \nThe Parkside\, New York NY \nSt Georges Country Store\, St Georges DE \nThe Big Easy \, Houston TX \nBB’s Jazz Blues & Soups \, St Louis MO \nMidway Tavern \,Mishawaka IN \nSoul City\, Tulsa OK \nThe Garage\, Portland OR \nINTERNATIONAL \nBelgian Rhythm & Blues Festival Peer BE \nKwadendamme Blues Fest. Kwadendamme NL \nPolish Boogie Festival\, Chorzow PL \nFiji International Blues Festival Suva Fiji \nSan Felipe Blues and Arts Fiesta\, San Felipe Baja MX \nGisborne Blues Fest\, Gisborne NZ \nBlues Express Festival\, Zakerwo PL \nCrossroads\, Antwerp BE \nBlues Heaven Festival\, Frederikshaven DK \nMoor Blues Festival\, Zottengham BE \nSeven Nights to Blues Festival Lille  FR \nEutin Blues Festival\, Eutin DE \nKeeping The Blues Alive Vlierden NL \nJazz and Blues Rally\, Luxemburg \nAustrian Boogie Fest\, Vienna AU \nBluesy Blues Fest\, Ridderkirk NL \nThe Shack\, Oude Meer NL \nBaine Du Blues \, Bretagne FR \n 
URL:https://macslivemusic.com/event/john-clifton/
LOCATION:Mac’s Nightclub\, 1626 Willamette St\, Eugene\, OR\, 97401\, United States
ATTACH;FMTTYPE=image/jpeg:https://macslivemusic.com/content/uploads/2019/04/newpromo7.jpg
END:VEVENT
BEGIN:VEVENT
DTSTART;TZID=America/Los_Angeles:20190506T190000
DTEND;TZID=America/Los_Angeles:20190506T220000
DTSTAMP:20260421T155646
CREATED:20190423T224902Z
LAST-MODIFIED:20190423T224902Z
UID:3738-1557169200-1557180000@macslivemusic.com
SUMMARY:Open Mic Night
DESCRIPTION:Hosted by Skip Jones \nAll Ages \nSign up at 6pm \nfirst act at 7pm
URL:https://macslivemusic.com/event/open-mic-night/
LOCATION:Mac’s Nightclub\, 1626 Willamette St\, Eugene\, OR\, 97401\, United States
ATTACH;FMTTYPE=image/jpeg:https://macslivemusic.com/content/uploads/2019/04/OPEN-MIC-NITE-Poster-page-001.jpg
END:VEVENT
BEGIN:VEVENT
DTSTART;TZID=America/Los_Angeles:20190505T180000
DTEND;TZID=America/Los_Angeles:20190505T210000
DTSTAMP:20260421T155646
CREATED:20190423T224616Z
LAST-MODIFIED:20190423T224616Z
UID:3735-1557079200-1557090000@macslivemusic.com
SUMMARY:Trivia Night
DESCRIPTION:Free to play! \nPrizes for top teams! \n 
URL:https://macslivemusic.com/event/trivia-night-10/
LOCATION:Mac’s Nightclub\, 1626 Willamette St\, Eugene\, OR\, 97401\, United States
ATTACH;FMTTYPE=image/jpeg:https://macslivemusic.com/content/uploads/2019/04/WDYK-page-001.jpg
END:VEVENT
BEGIN:VEVENT
DTSTART;TZID=America/Los_Angeles:20190501T180000
DTEND;TZID=America/Los_Angeles:20190501T210000
DTSTAMP:20260421T155646
CREATED:20190423T223756Z
LAST-MODIFIED:20190423T223756Z
UID:3725-1556733600-1556744400@macslivemusic.com
SUMMARY:Jazz & Variety
DESCRIPTION:With Paul Biondi & Gus Russell
URL:https://macslivemusic.com/event/jazz-variety-5/
LOCATION:Mac’s Nightclub\, 1626 Willamette St\, Eugene\, OR\, 97401\, United States
ATTACH;FMTTYPE=image/jpeg:https://macslivemusic.com/content/uploads/2016/12/Paul_Biondi.jpg
END:VEVENT
BEGIN:VEVENT
DTSTART;TZID=America/Los_Angeles:20190429T190000
DTEND;TZID=America/Los_Angeles:20190429T220000
DTSTAMP:20260421T155646
CREATED:20190411T181223Z
LAST-MODIFIED:20190411T181223Z
UID:3714-1556564400-1556575200@macslivemusic.com
SUMMARY:Open Mic
DESCRIPTION:Showcase your talents! \nAll Ages! \nRaffle prizes every hour! \nMondays at Mac’s \nHosted by Skip Jones \nSign ups at 6:00pm \nFirst act starts at 7:00pm \n 
URL:https://macslivemusic.com/event/open-mic-3/
LOCATION:Mac’s Nightclub\, 1626 Willamette St\, Eugene\, OR\, 97401\, United States
END:VEVENT
END:VCALENDAR