BEGIN:VCALENDAR
VERSION:2.0
PRODID:-//Mac&#039;s Restaurant - ECPv6.10.0//NONSGML v1.0//EN
CALSCALE:GREGORIAN
METHOD:PUBLISH
X-WR-CALNAME:Mac&#039;s Restaurant
X-ORIGINAL-URL:https://macslivemusic.com
X-WR-CALDESC:Events for Mac&#039;s Restaurant
REFRESH-INTERVAL;VALUE=DURATION:PT1H
X-Robots-Tag:noindex
X-PUBLISHED-TTL:PT1H
BEGIN:VTIMEZONE
TZID:America/Los_Angeles
BEGIN:DAYLIGHT
TZOFFSETFROM:-0800
TZOFFSETTO:-0700
TZNAME:PDT
DTSTART:20180311T100000
END:DAYLIGHT
BEGIN:STANDARD
TZOFFSETFROM:-0700
TZOFFSETTO:-0800
TZNAME:PST
DTSTART:20181104T090000
END:STANDARD
BEGIN:DAYLIGHT
TZOFFSETFROM:-0800
TZOFFSETTO:-0700
TZNAME:PDT
DTSTART:20190310T100000
END:DAYLIGHT
BEGIN:STANDARD
TZOFFSETFROM:-0700
TZOFFSETTO:-0800
TZNAME:PST
DTSTART:20191103T090000
END:STANDARD
END:VTIMEZONE
BEGIN:VEVENT
DTSTART;TZID=America/Los_Angeles:20190119T200000
DTEND;TZID=America/Los_Angeles:20190119T230000
DTSTAMP:20260422T150642
CREATED:20170203T230816Z
LAST-MODIFIED:20181227T231100Z
UID:785-1547928000-1547938800@macslivemusic.com
SUMMARY:The Jivemasters
DESCRIPTION:www.thejivemasters.com/ \n$6 cover \n“The Jivemasters” play an eclectic blend of Soul\, R&B\, and Jump Blues with emphasis on strong lead and harmony vocals. Members of the band have toured with national acts such as “The Elvin Bishop Band\,” “The Drifters\, “Clarence Gatemouth Brown\,” and “The Platters.” They also have been members of many local bands like “Soulicious\,” “The Swingin’ Marmalukeys\,” and “The Revelators.” \nWe perform as a trio or a quartet depending on the venue and the budget and are at home on large concert stages\, festivals\, night clubs\, cafes\, weddings\, wineries\, or even in someone’s living room for a private party. \n 
URL:https://macslivemusic.com/event/the-jivemasters-2/
LOCATION:OR
ATTACH;FMTTYPE=image/gif:https://macslivemusic.com/content/uploads/2017/02/bandpic1.gif
END:VEVENT
BEGIN:VEVENT
DTSTART;TZID=America/Los_Angeles:20190118T200000
DTEND;TZID=America/Los_Angeles:20190118T230000
DTSTAMP:20260422T150642
CREATED:20161230T005506Z
LAST-MODIFIED:20181227T231431Z
UID:492-1547841600-1547852400@macslivemusic.com
SUMMARY:Soulicious
DESCRIPTION:Soulicious \nFunk/Soul/R&B \n8:00pm   $6 Cover
URL:https://macslivemusic.com/event/soulicious-2/
LOCATION:Mac’s Nightclub\, 1626 Willamette St\, Eugene\, OR\, 97401\, United States
END:VEVENT
BEGIN:VEVENT
DTSTART;TZID=America/Los_Angeles:20190117T190000
DTEND;TZID=America/Los_Angeles:20190117T220000
DTSTAMP:20260422T150642
CREATED:20181227T234015Z
LAST-MODIFIED:20181227T234049Z
UID:2764-1547751600-1547762400@macslivemusic.com
SUMMARY:Dueling Pianos
DESCRIPTION:Hosted by Skip Jones & Hank Shreve \nAll Ages \nNo Cover
URL:https://macslivemusic.com/event/dueling-pianos-5/
LOCATION:Mac’s Nightclub\, 1626 Willamette St\, Eugene\, OR\, 97401\, United States
END:VEVENT
BEGIN:VEVENT
DTSTART;TZID=America/Los_Angeles:20190112T200000
DTEND;TZID=America/Los_Angeles:20190112T230000
DTSTAMP:20260422T150642
CREATED:20181124T204824Z
LAST-MODIFIED:20190111T201205Z
UID:2609-1547323200-1547334000@macslivemusic.com
SUMMARY:Sister Rosetta Tharpe Tribute Show
DESCRIPTION:$15 Cover \nDoors open at 7pm \nDuring a time when the idea of a guitar-playing woman was nonexistent\, not only did Rosetta Tharpe erase this line by mastering the symbol of musical masculinity\, but her blend of gospel and secular music was seen as earth-shattering. Her willingness to play “God’s music” in the devil’s den of nightclubs and music halls caused an uproar. The line up for this tribute are stellar musicians in their own right: Sonny Hess\, Lady Kat True Blue\, Lisa Mann\, Joanne Broh\,Kathryn Grimm\, Leah Hinchcliff\, and Ward Griffiths. \nSonny Hess (guitar and vocals) Veteran guitarist\, vocalist and songwriter\, ’‘Sonny Smokin’ Hess” went on to be the first woman nominated in a male dominated field for Best Lead Guitar by the Cascade Blues Assoc\, also holds a nomination for “Lifetime Acheivment Award”. She has played with\, sung with and composed with many of the regions top artists\, as well as opening for Etta James\, Jr Walker and the All Stars\, Average White Band and Bobby Womack. Sonny Hess is also widely known for her productions of the NW Women R&B Show\, a specialty show she takes pride in producing. Her show has been seen by 100’s of 1\,000’s over the past 15 years at the Safeway Waterfront Blues Festival. www.SonnyHess.com \n  \nLady Kat True Blue (vocals) A gifted blues and jazz vocalist\, her voice is mesmerizing\, a mix of Aretha Franklin\, Mahalia Jackson and Billie Holiday. Kat has a Low\, Rich\, Full Bodied Voice’ that carries the likes of Etta James\, with a little of Wynonna’s twang\, and the depth of Della Reese!  She has been living on her own since she was 14 and says\, “I’ve had some bumpy roads. ‘I have the right to sing the blues. Dedicated to the Blues! The Gift of Song truly is a gift of power. A singer should cherish and respect it! For you never know whose out there watching and listening to be just like you. It is my mission to respect and represent the art of music.” Lady Kat True Blue on Reverbnation. \n  \n  \nJoanne Broh (vocals)  A column of energy\, known for her powerful\, soulful voice and the passion of her performance. She is considered one of the best singers of blues\, jazz\, and Motown. Her 2016 release this year\, “Wicked Cool” has reaped some mighty fine accolades. Reaching #18 on the Living Blues Radio chart\, the CD is being played worldwide and receiving repeated airplay on Sirius XM BB King Bluesville. She has a new CD\, “Live” recorded at Mac’s Restaurant and Nightclub. www.JoanneBroh.com \n  \nLisa Mann (bass\, vocals) Lisa has been awarded the prestigious 2016 Blues Music Award for her mighty skills on the bass guitar\, an award which she also took home in 2015. Mann’s vocals effortlessly straddle the line between the honey sweet warmth of the south\, and the force-of-nature sound Mann has cultivated by mastering everything from hard rock to rhythm and blues. Her clever blues balladry is complimented by her considerable prowess on bass guitar. www.lisamannmusic.com \nLeah Hinchcliff (bass and vocals) The femme fatale of funk\, Leah is an accomplished performer and teacher who is known for her work in jazz\, funk\, and blues. She plays with notable bands Soul Vaccination\, The Quadraphonnes\, toured with the blues band Swamp Mama Johnson and lived in Eugene for awhile\, playing with Art Grooveaux. www.leahhinchcliff.com \n  \n  \nKathryn Grimm (guitar\, vocals) Music means everything to Kathryn. “Music is in every part of me\, my brain\, my heart\, my cells.” An accomplished multi instrumentalist\, she plays all genres\, blues\, punk\, rock\, obtained a jazz degree\, and formed a country band. She approached Sonny with the idea of a tribute to Sister Rosetta Tharp in 2018 and this show has had successful runs in Portland. Kathryngrimmmusic.com \nWard Griffiths (drums) Drum goddess of the Quadraphonnes\, She has played for the Rob Scheps Big Band\, Fred Stickley\, Gravy\, Mike Doolin \,  and Sabrosa as an in demand Portland drummer. \n  \n 
URL:https://macslivemusic.com/event/sister-rosetta-tharpe-tribute-show/
LOCATION:Mac’s Nightclub\, 1626 Willamette St\, Eugene\, OR\, 97401\, United States
ATTACH;FMTTYPE=image/jpeg:https://macslivemusic.com/content/uploads/2018/11/sister-rosetta.jpg
END:VEVENT
BEGIN:VEVENT
DTSTART;TZID=America/Los_Angeles:20190112T150000
DTEND;TZID=America/Los_Angeles:20190112T190000
DTSTAMP:20260422T150642
CREATED:20190107T222339Z
LAST-MODIFIED:20190107T222339Z
UID:2986-1547305200-1547319600@macslivemusic.com
SUMMARY:Closed for private party
DESCRIPTION:
URL:https://macslivemusic.com/event/closed-for-private-party/
LOCATION:Mac’s Nightclub\, 1626 Willamette St\, Eugene\, OR\, 97401\, United States
END:VEVENT
BEGIN:VEVENT
DTSTART;TZID=America/Los_Angeles:20190110T190000
DTEND;TZID=America/Los_Angeles:20190110T220000
DTSTAMP:20260422T150642
CREATED:20181227T233822Z
LAST-MODIFIED:20181227T233822Z
UID:2762-1547146800-1547157600@macslivemusic.com
SUMMARY:Dueling Pianos
DESCRIPTION:Hosted by Skip Jones & Hank Shreve \nAll Ages \nNo Cover
URL:https://macslivemusic.com/event/dueling-pianos-4/
LOCATION:Mac’s Nightclub\, 1626 Willamette St\, Eugene\, OR\, 97401\, United States
END:VEVENT
BEGIN:VEVENT
DTSTART;TZID=America/Los_Angeles:20190109T180000
DTEND;TZID=America/Los_Angeles:20190109T210000
DTSTAMP:20260422T150642
CREATED:20161205T235159Z
LAST-MODIFIED:20181227T231640Z
UID:270-1547056800-1547067600@macslivemusic.com
SUMMARY:Chuck Nathan Tribute Show
DESCRIPTION:with Gus Russell and Paul Biondi.\nNo cover\nAll ages
URL:https://macslivemusic.com/event/gus-russell-paul-biondi-3/
LOCATION:Mac’s Nightclub\, 1626 Willamette St\, Eugene\, OR\, 97401\, United States
ATTACH;FMTTYPE=image/jpeg:https://macslivemusic.com/content/uploads/2016/12/Paul_Biondi.jpg
END:VEVENT
BEGIN:VEVENT
DTSTART;VALUE=DATE:20190102
DTEND;VALUE=DATE:20190107
DTSTAMP:20260422T150642
CREATED:20181227T232227Z
LAST-MODIFIED:20181227T234424Z
UID:2758-1546387200-1546819199@macslivemusic.com
SUMMARY:Closed
DESCRIPTION:
URL:https://macslivemusic.com/event/closed-12/
LOCATION:Mac’s Nightclub\, 1626 Willamette St\, Eugene\, OR\, 97401\, United States
END:VEVENT
BEGIN:VEVENT
DTSTART;TZID=America/Los_Angeles:20181231T200000
DTEND;TZID=America/Los_Angeles:20190101T023000
DTSTAMP:20260422T150642
CREATED:20181004T205515Z
LAST-MODIFIED:20181231T183931Z
UID:2542-1546286400-1546309800@macslivemusic.com
SUMMARY:NYE in the Ballroom
DESCRIPTION:Blues Harp Showdown \nFeaturing: Hank Shreve\, Mike Moothart\, Bill Rhoades\, Kim Fields\, Henry Cooper\, Byron Case\, Newel Briggs & Tim Seifert \nTickets available beginning November 1st. \nTickets $15 in advance\, $20 day of show \nTickets available online or at Mac’s
URL:https://macslivemusic.com/event/nye-in-the-ballroom/
LOCATION:Mac’s Nightclub\, 1626 Willamette St\, Eugene\, OR\, 97401\, United States
END:VEVENT
BEGIN:VEVENT
DTSTART;TZID=America/Los_Angeles:20181231T200000
DTEND;TZID=America/Los_Angeles:20190101T023000
DTSTAMP:20260422T150642
CREATED:20181004T204223Z
LAST-MODIFIED:20181231T184040Z
UID:2540-1546286400-1546309800@macslivemusic.com
SUMMARY:NYE at Mac's
DESCRIPTION:Featuring Darline Jackson’s My Band \nTickets available beginning November 1st. \nTickets $10 in advance\, $15 day of show \nTickets available online or at Mac’s \n 
URL:https://macslivemusic.com/event/nye-at-macs/
LOCATION:Mac’s Nightclub\, 1626 Willamette St\, Eugene\, OR\, 97401\, United States
END:VEVENT
BEGIN:VEVENT
DTSTART;TZID=America/Los_Angeles:20181228T200000
DTEND;TZID=America/Los_Angeles:20181228T230000
DTSTAMP:20260422T150642
CREATED:20170524T204613Z
LAST-MODIFIED:20181123T213345Z
UID:1366-1546027200-1546038000@macslivemusic.com
SUMMARY:Ty Curtis
DESCRIPTION:“Ty Curtis is a triple threat\, since he is the band’s lead singer\, as well as the primary composer of their material\, and thirdly he’s a sonically incendiary\, string-shredding electric guitar player”\n\n\n\n\n\n\n\n\nTy Curtis has been winning awards for his vocals and musicianship for the last 10 years. \nIn 2009 his raw soulful version of 5 Long Years by Eddie Boyd captivated the audience and earned the band 2nd place in The International Blues Challenge and lead to performances at The Montreal Jazz Festival in Canada and the St John Blues Festival USVI. \nHis first live music experience was Silverchair at the LB Day Amphitheater in Salem Oregon where Curtis grew up. “It was their performance and musicianship that made me want to play guitar and sing” he recalls “I wanted to rock out like them” and with that inspiration ingrained\, Ty asked his parents for a guitar which he never let go of. “It was this kid’s Toy Western guitar that my parents found at a garage sale\, the strings were way off the fretboard” he laughs  “I played that thing until my fingers bled” From the age of sixteen\, Ty started showing up at local clubs and playing at any blues jam he could find. It wasn’t long before Ty was winning over admirers and attracting a large fan base in the Northwest. With each subsequent album release Ty’s reputation continued to grow establishing him as one of the torch bearers in a new generation of Blues. The band competed in the Journey to Memphis in Portland through the Cascade Blues Association and won giving him the chance to perform on the National stage. It was there in Memphis that Ty met David Z which led to him producing the third album ‘Cross That Line’. \nAfter a move to Austin Texas Ty decided to pursue a musical relationship with Steve Miller Band’s guitarist Jacob Petersen. That pairing led to album releases “Ty Curtis” and “Water Under The Bridge” where both albums received high praise and rave reviews. “His ability to think outside the box\, and blend his influences from other genres of music fit perfectly amongst the assortment of true blues rock style. Ty redefines intelligent songwriting stepping away from the rigid forms of technicalities\, song structure\, and instrumentation used by the majority of blues rock artists”. – Bluesrockreview.com \n    With 5 albums under his belt Curtis decided to co produce his 6th album ‘Blame Me’ with the help of Austin producer and bassist Nick Jay (Ed Kowalzick\, Alpha Rev & SXSW engineer). Packed with soul\,blues and ripping guitar riffs\, Ty’s latest effort features some of the most heart-felt emotion tugging vocals to come out in several years reminiscent of Bad Company’s Paul Rodgers.’Back Again’ shows of Ty’s killer guitar work and he shifts gears on a  slower more soulful ‘I Can Say\,’ but still has those electric guitar moments interspersed at times occurring like exclamation points at key moments in the song. \n    The album received some of the best reviews of his career and was selected as #9 Top Blues Rock Albums of 2016 by bluesrockreview.com placing with such names as Joe Bonamassa\, Jeff Beck and Devon Allmond. \nTy’s musicianship and voice at his live shows are electrifying\, draw from the rich blues tradition and leave audiences stunned. “Finding an artist that is an originator like Ty has always been a rare thing” – David Z (Prince\, Johnny Lang) and he is proving to be an artist that will be around for generations to come.
URL:https://macslivemusic.com/event/ty-curtis/
LOCATION:Mac’s Nightclub\, 1626 Willamette St\, Eugene\, OR\, 97401\, United States
ATTACH;FMTTYPE=image/jpeg:https://macslivemusic.com/content/uploads/2017/05/tycurtis.jpg
END:VEVENT
BEGIN:VEVENT
DTSTART;TZID=America/Los_Angeles:20181227T190000
DTEND;TZID=America/Los_Angeles:20181227T220000
DTSTAMP:20260422T150642
CREATED:20181123T215138Z
LAST-MODIFIED:20181123T215138Z
UID:2599-1545937200-1545948000@macslivemusic.com
SUMMARY:Dueling Pianos
DESCRIPTION:Featuring Skip Jones & Hank Shreve \nAll Ages
URL:https://macslivemusic.com/event/dueling-pianos-3/
LOCATION:OR
END:VEVENT
BEGIN:VEVENT
DTSTART;TZID=America/Los_Angeles:20181226T180000
DTEND;TZID=America/Los_Angeles:20181226T210000
DTSTAMP:20260422T150642
CREATED:20161205T233427Z
LAST-MODIFIED:20181123T213239Z
UID:260-1545847200-1545858000@macslivemusic.com
SUMMARY:Gus Russell and Paul Biondi
DESCRIPTION:Jazz & Variety with Gus Russell and Paul Biondi\nNo cover\nAll ages
URL:https://macslivemusic.com/event/gus-russell-paul-biondi-2/
LOCATION:Mac’s Nightclub\, 1626 Willamette St\, Eugene\, OR\, 97401\, United States
ATTACH;FMTTYPE=image/jpeg:https://macslivemusic.com/content/uploads/2016/12/Paul_Biondi.jpg
END:VEVENT
BEGIN:VEVENT
DTSTART;TZID=America/Los_Angeles:20181222T200000
DTEND;TZID=America/Los_Angeles:20181222T230000
DTSTAMP:20260422T150642
CREATED:20181123T215625Z
LAST-MODIFIED:20181123T215625Z
UID:2605-1545508800-1545519600@macslivemusic.com
SUMMARY:Beatles Night
DESCRIPTION:Hosted By Skip Jones \n$5 Cover
URL:https://macslivemusic.com/event/beatles-night/
LOCATION:Mac’s Nightclub\, 1626 Willamette St\, Eugene\, OR\, 97401\, United States
END:VEVENT
BEGIN:VEVENT
DTSTART;TZID=America/Los_Angeles:20181220T190000
DTEND;TZID=America/Los_Angeles:20181220T220000
DTSTAMP:20260422T150642
CREATED:20181123T215022Z
LAST-MODIFIED:20181123T215022Z
UID:2597-1545332400-1545343200@macslivemusic.com
SUMMARY:Dueling Pianos
DESCRIPTION:Featuring Skip Jones & Hank Shreve \nAll Ages
URL:https://macslivemusic.com/event/dueling-pianos-2/
LOCATION:OR
END:VEVENT
BEGIN:VEVENT
DTSTART;TZID=America/Los_Angeles:20181219T180000
DTEND;TZID=America/Los_Angeles:20181219T210000
DTSTAMP:20260422T150642
CREATED:20181123T214730Z
LAST-MODIFIED:20181123T214730Z
UID:2593-1545242400-1545253200@macslivemusic.com
SUMMARY:Chuck Nathan Tribute Show
DESCRIPTION:Hosted By Paul Biondi & Gus Russel
URL:https://macslivemusic.com/event/chuck-nathan-tribute-show/
LOCATION:OR
END:VEVENT
BEGIN:VEVENT
DTSTART;TZID=America/Los_Angeles:20181213T180000
DTEND;TZID=America/Los_Angeles:20181213T210000
DTSTAMP:20260422T150642
CREATED:20181123T215300Z
LAST-MODIFIED:20181123T215300Z
UID:2601-1544724000-1544734800@macslivemusic.com
SUMMARY:Blue Shimmay
DESCRIPTION:Gypsy Jump Blues \nAll Ages
URL:https://macslivemusic.com/event/blue-shimmay/
LOCATION:OR
END:VEVENT
BEGIN:VEVENT
DTSTART;TZID=America/Los_Angeles:20181212T180000
DTEND;TZID=America/Los_Angeles:20181212T210000
DTSTAMP:20260422T150642
CREATED:20181123T214246Z
LAST-MODIFIED:20181123T214246Z
UID:2591-1544637600-1544648400@macslivemusic.com
SUMMARY:Frank Sinatra Tribute Show
DESCRIPTION:Featuring Frankie Sharp\, Gus Russell & Paul Biondi
URL:https://macslivemusic.com/event/frank-sinatra-tribute-show/
LOCATION:OR
END:VEVENT
BEGIN:VEVENT
DTSTART;TZID=America/Los_Angeles:20181207T200000
DTEND;TZID=America/Los_Angeles:20181207T230000
DTSTAMP:20260422T150642
CREATED:20170421T223638Z
LAST-MODIFIED:20181123T212909Z
UID:1339-1544212800-1544223600@macslivemusic.com
SUMMARY:Brian Chevalier & Heavy Chevy
DESCRIPTION:$5 COVER \nBlues/Americana
URL:https://macslivemusic.com/event/heavy-chevy/
LOCATION:OR
ATTACH;FMTTYPE=image/jpeg:https://macslivemusic.com/content/uploads/2016/10/Heavy_Chevy_Band.jpg
END:VEVENT
BEGIN:VEVENT
DTSTART;TZID=America/Los_Angeles:20181207T173000
DTEND;TZID=America/Los_Angeles:20181207T193000
DTSTAMP:20260422T150642
CREATED:20180823T195146Z
LAST-MODIFIED:20181128T220315Z
UID:2491-1544203800-1544211000@macslivemusic.com
SUMMARY:The Down-Home Boys
DESCRIPTION:“The finest in Country\, Rock\, Blues\, Swamp Pop and Oldies” \n5:30pm to 7:30pm \nNo Cover
URL:https://macslivemusic.com/event/the-down-home-boys-2/
LOCATION:Mac’s Nightclub\, 1626 Willamette St\, Eugene\, OR\, 97401\, United States
ATTACH;FMTTYPE=image/jpeg:https://macslivemusic.com/content/uploads/2018/02/downhome.jpg
END:VEVENT
BEGIN:VEVENT
DTSTART;TZID=America/Los_Angeles:20181201T200000
DTEND;TZID=America/Los_Angeles:20181201T233000
DTSTAMP:20260422T150642
CREATED:20171122T220742Z
LAST-MODIFIED:20190206T202111Z
UID:1554-1543694400-1543707000@macslivemusic.com
SUMMARY:Harpdog Brown & The Travelin' Blues Band
DESCRIPTION:Canada’s Best Classic Blues Band \n8:00pm $10 cover \nHarpdog Brown is a gifted singer and an imaginative harmonica player that has been a strong force in Canada’s Blues scene since 1982. \nBorn in Edmonton\, Alberta and based in Vancouver\, British Columbia\, he’s crossed tens of thousands of miles playing club dates and festivals in Canada\, North Western United States and Germany. \nOver the years Harpdog\, yes that is his real name as his passport will attest\, has issued 4 CD’s to critical acclaim.  Back in 1995 his Home is Where The Harp Is won the coveted Muddy Award for the Best North West Blues Release\, from the Cascade Blues Association in Portland.  He is still the only Canadian to do so.  A Juno Nomination for the best Blues Release in Canada followed that same year.  Teamed up with Graham Guest on piano\, his CD Naturally was voted #1 Canadian Blues Album of 2011 by The Blind Lemon Survey.  Most recently Harpdog was honoured with his second consecutive Maple Blues Award for Harmonica Player of the Year by the Toronto Blues Society. Add to that a second consecutive nomination for Blues Artist of the Year by the Western Canadian Music Awards.  These are outstanding accomplishments that clearly solidify his rise in popularity and a new beginning in his career. \n\n\n\nThe album that delivered his first Maple Blues Award\, titled What It Is\, maintained status in the blues and roots charts throughout the year and in fact was ranked #20 worldwide Roots Music Report: Top 100 Blues Albums of 2014.  Two songs on that album\, Whiskey Bottle and In My Younger Days remained in the TOP 100 Songs for that same year.  It is a great collection of live\, off the floor originals and a few well placed covers that resonate well with blues fans of every vintage.  Harpdog’s original How Come is a fan favourite and earned regular rotation on BB King’s Bluesville on SiriusXM. \nIt is clear that Harpdog rules the blues scene in the Vancouver\, BC area where his current project\, Harpdog Brown & The Travelin’ Blues Show is poised to launch a new album September 1\, 2016 followed by a North American Tour.   After mounting their cross-Canada tour in the fall of 2015\, this will be another a collaboration project with none other than Little Victor Mac. In fact Victor is producing the album and will also make a guest appearance.  Labeled the Beale Street Blues Bopper and the King of Grit\, Victor has played with Hubert Sumlin\, Louisianna Red\, RL Burnside and is working on his 9th album\, Buzzed\, Busted & Broke with Kim Wilson\, Carl Sonny Leyland and Big John Atkinson. \nAs Harpdog recently put it\, “After more than 30 years of blood\, sweat and tears\, it feels like I’m just getting started.  I’m only 54 – that’s young in the blues world!”
URL:https://macslivemusic.com/event/harpdog-brown-travelin-blues-band/
LOCATION:Mac’s Nightclub\, 1626 Willamette St\, Eugene\, OR\, 97401\, United States
ATTACH;FMTTYPE=image/jpeg:https://macslivemusic.com/content/uploads/2017/11/IMG_9061.jpg
END:VEVENT
BEGIN:VEVENT
DTSTART;TZID=America/Los_Angeles:20181201T200000
DTEND;TZID=America/Los_Angeles:20181201T230000
DTSTAMP:20260422T150642
CREATED:20180323T221115Z
LAST-MODIFIED:20181123T213649Z
UID:2325-1543694400-1543705200@macslivemusic.com
SUMMARY:From Ella to Etta
DESCRIPTION:A fusion of Jazz & Blues \n  \n$7 Cover
URL:https://macslivemusic.com/event/live-karaoke/
LOCATION:OR
ATTACH;FMTTYPE=image/jpeg:https://macslivemusic.com/content/uploads/2018/03/JB_E2E_poster_web2.jpg
END:VEVENT
BEGIN:VEVENT
DTSTART;TZID=America/Los_Angeles:20181128T180000
DTEND;TZID=America/Los_Angeles:20181128T210000
DTSTAMP:20260422T150642
CREATED:20161013T174706Z
LAST-MODIFIED:20181019T220946Z
UID:26-1543428000-1543438800@macslivemusic.com
SUMMARY:Gus Russell and Paul Biondi
DESCRIPTION:All ages welcome!
URL:https://macslivemusic.com/event/gus-russell-and-paul-biondi/
LOCATION:Mac’s Nightclub\, 1626 Willamette St\, Eugene\, OR\, 97401\, United States
ATTACH;FMTTYPE=image/jpeg:https://macslivemusic.com/content/uploads/2016/12/Paul_Biondi.jpg
END:VEVENT
BEGIN:VEVENT
DTSTART;TZID=America/Los_Angeles:20181127T190000
DTEND;TZID=America/Los_Angeles:20181127T230000
DTSTAMP:20260422T150642
CREATED:20171122T210521Z
LAST-MODIFIED:20181019T220553Z
UID:1535-1543345200-1543359600@macslivemusic.com
SUMMARY:Rooster's Blues Jam
DESCRIPTION:Hosted By Skip Jones & Byron Case \nNo Cover\nWith\n$3 Featured Micros All Night!
URL:https://macslivemusic.com/event/roosters-blues-jam-9/
LOCATION:Mac’s Nightclub\, 1626 Willamette St\, Eugene\, OR\, 97401\, United States
ATTACH;FMTTYPE=image/jpeg:https://macslivemusic.com/content/uploads/2016/12/Rooster_Blues_Jam.jpg
END:VEVENT
BEGIN:VEVENT
DTSTART;TZID=America/Los_Angeles:20181124T200000
DTEND;TZID=America/Los_Angeles:20181124T230000
DTSTAMP:20260422T150642
CREATED:20181019T221431Z
LAST-MODIFIED:20181019T221431Z
UID:2554-1543089600-1543100400@macslivemusic.com
SUMMARY:Steve Arriola Trio
DESCRIPTION:Blues/Soul/Variety \n$5 Cover
URL:https://macslivemusic.com/event/steve-arriola-trio/
LOCATION:Mac’s Nightclub\, 1626 Willamette St\, Eugene\, OR\, 97401\, United States
END:VEVENT
BEGIN:VEVENT
DTSTART;TZID=America/Los_Angeles:20181123T200000
DTEND;TZID=America/Los_Angeles:20181123T230000
DTSTAMP:20260422T150642
CREATED:20180224T220458Z
LAST-MODIFIED:20181019T215535Z
UID:2302-1543003200-1543014000@macslivemusic.com
SUMMARY:Door Number 3
DESCRIPTION:Swingin’ Blues/ Variety \n8:00pm $5 Cover
URL:https://macslivemusic.com/event/door-number-3-3/
LOCATION:Mac’s Nightclub\, 1626 Willamette St\, Eugene\, OR\, 97401\, United States
ATTACH;FMTTYPE=image/jpeg:https://macslivemusic.com/content/uploads/2016/12/Door-Number-3.jpg
END:VEVENT
BEGIN:VEVENT
DTSTART;VALUE=DATE:20181122
DTEND;VALUE=DATE:20181123
DTSTAMP:20260422T150642
CREATED:20181019T222449Z
LAST-MODIFIED:20181019T222449Z
UID:2563-1542844800-1542931199@macslivemusic.com
SUMMARY:Closed
DESCRIPTION:
URL:https://macslivemusic.com/event/closed-11/
LOCATION:Mac’s Nightclub\, 1626 Willamette St\, Eugene\, OR\, 97401\, United States
END:VEVENT
BEGIN:VEVENT
DTSTART;TZID=America/Los_Angeles:20181118T160000
DTEND;TZID=America/Los_Angeles:20181118T190000
DTSTAMP:20260422T150642
CREATED:20181019T223107Z
LAST-MODIFIED:20181019T223107Z
UID:2569-1542556800-1542567600@macslivemusic.com
SUMMARY:Unforgettable Voice Finals
DESCRIPTION:Do you have an unforgettable voice!? \nVocal competition seeking out the one voice that is truly unforgettable\, while benefiting the Alzheimer’s Association – Oregon Chapter. Hosted at Mac’s Restaurant & Night Club by Chateau Gardens. The Unforgettable Voice will hold LIVE auditions Thursday\, November 15th starting at 6:00 pm and will select a Top 20 for our first live semi-final\, “Battle to the Top\,” round on Saturday\, the 17th. The Top 5 will move onto finals Sunday\, the 18th\, for a chance to win over $500 in cash and prizes and the title of The Unforgettable Voice. \nJoin us as we seek out The Unforgettable Voice while giving a voice to those who hold the key to #EndAlz. \nFINALE – Mac’s Restaurant & Night Club\nSunday\, November 18th; Show begins at 4:00 PM\nTop 5 will sing to be crowned The Unforgettable Voice\n1st\, 2nd\, and 3rd Place Winners; Cash & Prizes\nCover: $5.00 at the door; 10% food/drinks go to #EndAlz.
URL:https://macslivemusic.com/event/unforgettable-voice-finals/
LOCATION:Mac’s Nightclub\, 1626 Willamette St\, Eugene\, OR\, 97401\, United States
END:VEVENT
BEGIN:VEVENT
DTSTART;TZID=America/Los_Angeles:20181117T180000
DTEND;TZID=America/Los_Angeles:20181117T180000
DTSTAMP:20260422T150642
CREATED:20181019T222946Z
LAST-MODIFIED:20181019T222946Z
UID:2567-1542477600-1542477600@macslivemusic.com
SUMMARY:Unforgettable Voice Semi-Finals
DESCRIPTION:Do you have an unforgettable voice!? \nVocal competition seeking out the one voice that is truly unforgettable\, while benefiting the Alzheimer’s Association – Oregon Chapter. Hosted at Mac’s Restaurant & Night Club by Chateau Gardens. The Unforgettable Voice will hold LIVE auditions Thursday\, November 15th starting at 6:00 pm and will select a Top 20 for our first live semi-final\, “Battle to the Top\,” round on Saturday\, the 17th. The Top 5 will move onto finals Sunday\, the 18th\, for a chance to win over $500 in cash and prizes and the title of The Unforgettable Voice. \nJoin us as we seek out The Unforgettable Voice while giving a voice to those who hold the key to #EndAlz. \nSEMI FINALS – Mac’s Restaurant & Night Club\nSaturday\, November 17th; Show begins at 6:00 PM\nTop 20 will sing to advance to the Top 5 Finale\nCover: $5.00 at the door; 10% drinks/food go to #EndAlz \nFINALE – Mac’s Restaurant & Night Club\nSunday\, November 18th; Show begins at 4:00 PM\nTop 5 will sing to be crowned The Unforgettable Voice\n1st\, 2nd\, and 3rd Place Winners; Cash & Prizes\nCover: $5.00 at the door; 10% food/drinks go to #EndAlz.
URL:https://macslivemusic.com/event/unforgettable-voice-semi-finals/
LOCATION:Mac’s Nightclub\, 1626 Willamette St\, Eugene\, OR\, 97401\, United States
END:VEVENT
BEGIN:VEVENT
DTSTART;TZID=America/Los_Angeles:20181116T200000
DTEND;TZID=America/Los_Angeles:20181116T233000
DTSTAMP:20260422T150642
CREATED:20170421T223911Z
LAST-MODIFIED:20181019T220636Z
UID:1342-1542398400-1542411000@macslivemusic.com
SUMMARY:Darline Jackson's My Band
DESCRIPTION:Variety/Blues/Soul/Pop \n$6 cover
URL:https://macslivemusic.com/event/my-band/
LOCATION:Mac’s Nightclub\, 1626 Willamette St\, Eugene\, OR\, 97401\, United States
ATTACH;FMTTYPE=image/jpeg:https://macslivemusic.com/content/uploads/2016/11/Macs_Nightclub_093016-2.jpg
END:VEVENT
END:VCALENDAR