BEGIN:VCALENDAR
VERSION:2.0
PRODID:-//Mac&#039;s Restaurant - ECPv6.10.0//NONSGML v1.0//EN
CALSCALE:GREGORIAN
METHOD:PUBLISH
X-WR-CALNAME:Mac&#039;s Restaurant
X-ORIGINAL-URL:https://macslivemusic.com
X-WR-CALDESC:Events for Mac&#039;s Restaurant
REFRESH-INTERVAL;VALUE=DURATION:PT1H
X-Robots-Tag:noindex
X-PUBLISHED-TTL:PT1H
BEGIN:VTIMEZONE
TZID:America/Los_Angeles
BEGIN:DAYLIGHT
TZOFFSETFROM:-0800
TZOFFSETTO:-0700
TZNAME:PDT
DTSTART:20190310T100000
END:DAYLIGHT
BEGIN:STANDARD
TZOFFSETFROM:-0700
TZOFFSETTO:-0800
TZNAME:PST
DTSTART:20191103T090000
END:STANDARD
END:VTIMEZONE
BEGIN:VEVENT
DTSTART;TZID=America/Los_Angeles:20190308T200000
DTEND;TZID=America/Los_Angeles:20190308T233000
DTSTAMP:20260422T011608
CREATED:20190219T195851Z
LAST-MODIFIED:20190219T195851Z
UID:3596-1552075200-1552087800@macslivemusic.com
SUMMARY:Soul Restoration Project
DESCRIPTION:$6 Cover \nHigh energy\, full body grooving\, rump shaking\, funk & soul music from the ’60s to today–SRP is here for you! Get on your boogie shoes. We’ll see you on the dance floor. Established 2011.
URL:https://macslivemusic.com/event/soul-restoration-project-7/
LOCATION:Mac’s Nightclub\, 1626 Willamette St\, Eugene\, OR\, 97401\, United States
ATTACH;FMTTYPE=image/jpeg:https://macslivemusic.com/content/uploads/2017/04/srp.jpg
END:VEVENT
BEGIN:VEVENT
DTSTART;TZID=America/Los_Angeles:20190307T190000
DTEND;TZID=America/Los_Angeles:20190307T220000
DTSTAMP:20260422T011608
CREATED:20190219T194930Z
LAST-MODIFIED:20190219T194930Z
UID:3588-1551985200-1551996000@macslivemusic.com
SUMMARY:Dueling Pianos
DESCRIPTION:With Skip Jones & Hank Shreve
URL:https://macslivemusic.com/event/dueling-pianos-6/
LOCATION:Mac’s Nightclub\, 1626 Willamette St\, Eugene\, OR\, 97401\, United States
ATTACH;FMTTYPE=image/jpeg:https://macslivemusic.com/content/uploads/2017/09/the_piano_duel_of_the_ducks_by_snappysnape-d3c3cyq.jpg
END:VEVENT
BEGIN:VEVENT
DTSTART;TZID=America/Los_Angeles:20190306T180000
DTEND;TZID=America/Los_Angeles:20190306T210000
DTSTAMP:20260422T011608
CREATED:20190219T194132Z
LAST-MODIFIED:20190219T194132Z
UID:3580-1551895200-1551906000@macslivemusic.com
SUMMARY:Jazz & Variety
DESCRIPTION:Hosted By Paul Biondi & Gus Russell
URL:https://macslivemusic.com/event/jazz-variety/
LOCATION:Mac’s Nightclub\, 1626 Willamette St\, Eugene\, OR\, 97401\, United States
ATTACH;FMTTYPE=image/jpeg:https://macslivemusic.com/content/uploads/2016/12/Paul_Biondi.jpg
END:VEVENT
BEGIN:VEVENT
DTSTART;TZID=America/Los_Angeles:20190305T170000
DTEND;TZID=America/Los_Angeles:20190305T190000
DTSTAMP:20260422T011608
CREATED:20190219T193802Z
LAST-MODIFIED:20190306T003455Z
UID:3577-1551805200-1551812400@macslivemusic.com
SUMMARY:Lane County Ducks Mardi Gras Celebration
DESCRIPTION:Cancelled
URL:https://macslivemusic.com/event/lane-county-ducks-mardi-gras-celebration/
LOCATION:Mac’s Nightclub\, 1626 Willamette St\, Eugene\, OR\, 97401\, United States
ATTACH;FMTTYPE=image/jpeg:https://macslivemusic.com/content/uploads/2019/02/lcd_mardi_gras_2019_1920x1080.jpg
END:VEVENT
BEGIN:VEVENT
DTSTART;TZID=America/Los_Angeles:20190304T180000
DTEND;TZID=America/Los_Angeles:20190304T200000
DTSTAMP:20260422T011608
CREATED:20190219T190853Z
LAST-MODIFIED:20190219T190853Z
UID:3567-1551722400-1551729600@macslivemusic.com
SUMMARY:Cards Against Humanity Night
DESCRIPTION:Prizes for top teams! \nFree!
URL:https://macslivemusic.com/event/cards-against-humanity-night/
LOCATION:Mac’s Nightclub\, 1626 Willamette St\, Eugene\, OR\, 97401\, United States
ATTACH;FMTTYPE=image/jpeg:https://macslivemusic.com/content/uploads/2019/02/Macs-Game-Night-web.jpg
END:VEVENT
BEGIN:VEVENT
DTSTART;TZID=America/Los_Angeles:20190303T180000
DTEND;TZID=America/Los_Angeles:20190303T200000
DTSTAMP:20260422T011608
CREATED:20190219T190520Z
LAST-MODIFIED:20190219T190520Z
UID:3564-1551636000-1551643200@macslivemusic.com
SUMMARY:Trivia Night
DESCRIPTION:Prizes for top teams! \nFree!
URL:https://macslivemusic.com/event/trivia-night/
LOCATION:Mac’s Nightclub\, 1626 Willamette St\, Eugene\, OR\, 97401\, United States
ATTACH;FMTTYPE=image/jpeg:https://macslivemusic.com/content/uploads/2019/02/Macs-Game-Night-web.jpg
END:VEVENT
BEGIN:VEVENT
DTSTART;VALUE=DATE:20190226
DTEND;VALUE=DATE:20190301
DTSTAMP:20260422T011608
CREATED:20190110T204151Z
LAST-MODIFIED:20190110T204151Z
UID:3015-1551139200-1551398399@macslivemusic.com
SUMMARY:Closed
DESCRIPTION:
URL:https://macslivemusic.com/event/closed-13/
LOCATION:Mac’s Nightclub\, 1626 Willamette St\, Eugene\, OR\, 97401\, United States
END:VEVENT
BEGIN:VEVENT
DTSTART;TZID=America/Los_Angeles:20190223T200000
DTEND;TZID=America/Los_Angeles:20190223T233000
DTSTAMP:20260422T011608
CREATED:20180724T221610Z
LAST-MODIFIED:20190125T203758Z
UID:616-1550952000-1550964600@macslivemusic.com
SUMMARY:Bottleneck Blues Band
DESCRIPTION:$5 Cover
URL:https://macslivemusic.com/event/bottleneck-blues-band-3/
LOCATION:Mac’s Nightclub\, 1626 Willamette St\, Eugene\, OR\, 97401\, United States
ATTACH;FMTTYPE=image/jpeg:https://macslivemusic.com/content/uploads/2017/01/bottleneckblues.jpg
END:VEVENT
BEGIN:VEVENT
DTSTART;TZID=America/Los_Angeles:20190222T200000
DTEND;TZID=America/Los_Angeles:20190222T230000
DTSTAMP:20260422T011608
CREATED:20180131T213952Z
LAST-MODIFIED:20190125T202806Z
UID:1957-1550865600-1550876400@macslivemusic.com
SUMMARY:Karen Lovely featuring Lisa Mann & Ben Rice
DESCRIPTION:
URL:https://macslivemusic.com/event/karen-lovely-band/
LOCATION:OR
ATTACH;FMTTYPE=image/jpeg:https://macslivemusic.com/content/uploads/2018/01/karen.jpg
END:VEVENT
BEGIN:VEVENT
DTSTART;TZID=America/Los_Angeles:20190221T190000
DTEND;TZID=America/Los_Angeles:20190221T220000
DTSTAMP:20260422T011608
CREATED:20181019T222100Z
LAST-MODIFIED:20190125T203410Z
UID:2559-1550775600-1550786400@macslivemusic.com
SUMMARY:Dueling Pianos
DESCRIPTION:With Skip  Jones & Hank Shreve \nAll Ages \n  \n 
URL:https://macslivemusic.com/event/throwback-thursdays-retro-night/
LOCATION:Mac’s Nightclub\, 1626 Willamette St\, Eugene\, OR\, 97401\, United States
END:VEVENT
BEGIN:VEVENT
DTSTART;TZID=America/Los_Angeles:20190216T180000
DTEND;TZID=America/Los_Angeles:20190217T023000
DTSTAMP:20260422T011608
CREATED:20181213T233229Z
LAST-MODIFIED:20190215T195929Z
UID:2625-1550340000-1550370600@macslivemusic.com
SUMMARY:6th Annual Winter Music Festival
DESCRIPTION:
URL:https://macslivemusic.com/event/6th-annual-winter-music-festival/
LOCATION:Mac’s Nightclub\, 1626 Willamette St\, Eugene\, OR\, 97401\, United States
ATTACH;FMTTYPE=image/jpeg:https://macslivemusic.com/content/uploads/2018/12/WMF19-Poster.jpg
END:VEVENT
BEGIN:VEVENT
DTSTART;TZID=America/Los_Angeles:20190214T190000
DTEND;TZID=America/Los_Angeles:20190214T220000
DTSTAMP:20260422T011608
CREATED:20190118T004032Z
LAST-MODIFIED:20190118T004032Z
UID:3101-1550170800-1550181600@macslivemusic.com
SUMMARY:Valentines Day Bash With Darline Jackson's My Band
DESCRIPTION:Featuring a special dinner menu! \n$5 Cover \n7:00pm
URL:https://macslivemusic.com/event/valentines-day-bash-with-darline-jacksons-my-band/
LOCATION:Mac’s Nightclub\, 1626 Willamette St\, Eugene\, OR\, 97401\, United States
END:VEVENT
BEGIN:VEVENT
DTSTART;TZID=America/Los_Angeles:20190213T180000
DTEND;TZID=America/Los_Angeles:20190213T210000
DTSTAMP:20260422T011608
CREATED:20181019T222222Z
LAST-MODIFIED:20190125T202652Z
UID:2561-1550080800-1550091600@macslivemusic.com
SUMMARY:Inner Limits
DESCRIPTION:Blues/Rock/.Groove \nNo Cover \nInner Limits is an energetic blues/rock/funk group with Olem Alves on guitar/vocals\, Torrey Newhart on keys and Jesse Greenlee on drums.  They play a mixture of original music and cover tunes defined by infections grooves from Jesse and silky smooth textures laid over the top by Torrey and Olem to go along with there wonderful solo ability.  You might here a driving blues standard like “Mojo Working” by Muddy Waters or a classic version of the well known tune\, “Stormy Monday.”  This might be followed by there own unique version of “Painted Black” by the Stones or “Foxy Lady” by Jimi Hendrix to go along with some of their original funk songs also woven into the set from their self titled album. \n  \nThey keep a steady gig schedule and have played at many wineries\, clubs and festivals regionally the last few years with appearances at the Oregon Country fair\, Art in the Vineyard\, Blues Brew and BBQ’s\, opening band at McDonald Theatre\, Sweet Cheeks Winery\, Sylvan Ridge Winery and weekend stints at Three Rivers Casino to name a few. \n  \nThe groups shows have been know to have high energy jams with blistering solos and intricately woven arrangements\, followed by reflective grooves that lull the listener to a peaceful bliss.  Come ready to be taken on a wonderful musical journey that you surely will remember for a long time.  Link up to their website www.innerlimitsband.com \, where you can find musical samples\, photos and more info about the band.  With soulful vocals\, a groovin’ rhythm section and high-energy solos\, this is one group you won’t want to miss!
URL:https://macslivemusic.com/event/inner-limits-2/
LOCATION:Mac’s Nightclub\, 1626 Willamette St\, Eugene\, OR\, 97401\, United States
ATTACH;FMTTYPE=image/jpeg:https://macslivemusic.com/content/uploads/2018/04/promo_pic.jpg
END:VEVENT
BEGIN:VEVENT
DTSTART;TZID=America/Los_Angeles:20190212T190000
DTEND;TZID=America/Los_Angeles:20190212T230000
DTSTAMP:20260422T011608
CREATED:20180131T203529Z
LAST-MODIFIED:20190125T202614Z
UID:1638-1549998000-1550012400@macslivemusic.com
SUMMARY:Rooster's Blues Jam
DESCRIPTION:Hosted By Skip Jones & Byron Case \nNo Cover\nWith\n$3 Featured Micros All Night!
URL:https://macslivemusic.com/event/roosters-blues-jam-10/
LOCATION:Mac’s Nightclub\, 1626 Willamette St\, Eugene\, OR\, 97401\, United States
ATTACH;FMTTYPE=image/jpeg:https://macslivemusic.com/content/uploads/2016/12/Rooster_Blues_Jam.jpg
END:VEVENT
BEGIN:VEVENT
DTSTART;VALUE=DATE:20190209
DTEND;VALUE=DATE:20190210
DTSTAMP:20260422T011608
CREATED:20190118T005451Z
LAST-MODIFIED:20190118T005451Z
UID:3109-1549670400-1549756799@macslivemusic.com
SUMMARY:Closed
DESCRIPTION:
URL:https://macslivemusic.com/event/closed-14/
LOCATION:Mac’s Nightclub\, 1626 Willamette St\, Eugene\, OR\, 97401\, United States
END:VEVENT
BEGIN:VEVENT
DTSTART;TZID=America/Los_Angeles:20190208T200000
DTEND;TZID=America/Los_Angeles:20190208T230000
DTSTAMP:20260422T011608
CREATED:20180726T193456Z
LAST-MODIFIED:20190107T222039Z
UID:2453-1549656000-1549666800@macslivemusic.com
SUMMARY:Daddy Rabbit
DESCRIPTION:Classic Rock & Originals \n$5 Cover
URL:https://macslivemusic.com/event/daddy-rabbit-outside-on-the-patio-stage/
LOCATION:Mac’s Nightclub\, 1626 Willamette St\, Eugene\, OR\, 97401\, United States
ATTACH;FMTTYPE=image/jpeg:https://macslivemusic.com/content/uploads/2016/10/Daddy_Rabbit.jpg
END:VEVENT
BEGIN:VEVENT
DTSTART;TZID=America/Los_Angeles:20190207T190000
DTEND;TZID=America/Los_Angeles:20190207T220000
DTSTAMP:20260422T011608
CREATED:20181123T214925Z
LAST-MODIFIED:20190125T202434Z
UID:2595-1549566000-1549576800@macslivemusic.com
SUMMARY:Dueling Pianos
DESCRIPTION:Featuring Skip Jones & Hank Shreve \nAll Ages
URL:https://macslivemusic.com/event/dueling-pianos/
LOCATION:OR
END:VEVENT
BEGIN:VEVENT
DTSTART;TZID=America/Los_Angeles:20190201T200000
DTEND;TZID=America/Los_Angeles:20190201T233000
DTSTAMP:20260422T011608
CREATED:20190118T005145Z
LAST-MODIFIED:20190118T005145Z
UID:3103-1549051200-1549063800@macslivemusic.com
SUMMARY:The Lloyd Tolbert Band
DESCRIPTION:Blues/Variety \n$6 Cover
URL:https://macslivemusic.com/event/the-lloyd-tolbert-band/
LOCATION:Mac’s Nightclub\, 1626 Willamette St\, Eugene\, OR\, 97401\, United States
ATTACH;FMTTYPE=image/jpeg:https://macslivemusic.com/content/uploads/2019/01/LLT-Band_MACS_020119.jpg
END:VEVENT
BEGIN:VEVENT
DTSTART;TZID=America/Los_Angeles:20190131T190000
DTEND;TZID=America/Los_Angeles:20190131T220000
DTSTAMP:20260422T011608
CREATED:20181227T234303Z
LAST-MODIFIED:20181227T234303Z
UID:2770-1548961200-1548972000@macslivemusic.com
SUMMARY:Dueling Pianos
DESCRIPTION:Hosted by Skip Jones & Hank Shreve \nAll Ages \nNo Cover
URL:https://macslivemusic.com/event/dueling-pianos-8/
LOCATION:Mac’s Nightclub\, 1626 Willamette St\, Eugene\, OR\, 97401\, United States
END:VEVENT
BEGIN:VEVENT
DTSTART;TZID=America/Los_Angeles:20190130T180000
DTEND;TZID=America/Los_Angeles:20190130T210000
DTSTAMP:20260422T011608
CREATED:20181227T232358Z
LAST-MODIFIED:20181227T232358Z
UID:2760-1548871200-1548882000@macslivemusic.com
SUMMARY:Inner Limits
DESCRIPTION:Blues/Rock/.Groove \nNo Cover \nInner Limits is an energetic blues/rock/funk group with Olem Alves on guitar/vocals\, Torrey Newhart on keys and Jesse Greenlee on drums.  They play a mixture of original music and cover tunes defined by infections grooves from Jesse and silky smooth textures laid over the top by Torrey and Olem to go along with there wonderful solo ability.  You might here a driving blues standard like “Mojo Working” by Muddy Waters or a classic version of the well known tune\, “Stormy Monday.”  This might be followed by there own unique version of “Painted Black” by the Stones or “Foxy Lady” by Jimi Hendrix to go along with some of their original funk songs also woven into the set from their self titled album. \n  \nThey keep a steady gig schedule and have played at many wineries\, clubs and festivals regionally the last few years with appearances at the Oregon Country fair\, Art in the Vineyard\, Blues Brew and BBQ’s\, opening band at McDonald Theatre\, Sweet Cheeks Winery\, Sylvan Ridge Winery and weekend stints at Three Rivers Casino to name a few. \n  \nThe groups shows have been know to have high energy jams with blistering solos and intricately woven arrangements\, followed by reflective grooves that lull the listener to a peaceful bliss.  Come ready to be taken on a wonderful musical journey that you surely will remember for a long time.  Link up to their website www.innerlimitsband.com \, where you can find musical samples\, photos and more info about the band.  With soulful vocals\, a groovin’ rhythm section and high-energy solos\, this is one group you won’t want to miss!
URL:https://macslivemusic.com/event/inner-limits-3/
LOCATION:Mac’s Nightclub\, 1626 Willamette St\, Eugene\, OR\, 97401\, United States
ATTACH;FMTTYPE=image/jpeg:https://macslivemusic.com/content/uploads/2018/04/promo_pic.jpg
END:VEVENT
BEGIN:VEVENT
DTSTART;TZID=America/Los_Angeles:20190126T200000
DTEND;TZID=America/Los_Angeles:20190126T230000
DTSTAMP:20260422T011608
CREATED:20181227T235251Z
LAST-MODIFIED:20190125T225303Z
UID:2772-1548532800-1548543600@macslivemusic.com
SUMMARY:Salgado and Hager 1st Qtr. Membership Drive with Hank Shreve
DESCRIPTION:
URL:https://macslivemusic.com/event/salgado-and-hager-1st-qtr-membership-drive-with-hank-shreve/
LOCATION:Mac’s Nightclub\, 1626 Willamette St\, Eugene\, OR\, 97401\, United States
ATTACH;FMTTYPE=image/jpeg:https://macslivemusic.com/content/uploads/2018/12/Salgado_Hager_Jan26-2019_overhead_monitor.jpg
END:VEVENT
BEGIN:VEVENT
DTSTART;TZID=America/Los_Angeles:20190125T200000
DTEND;TZID=America/Los_Angeles:20190125T235900
DTSTAMP:20260422T011608
CREATED:20190107T222217Z
LAST-MODIFIED:20190107T222217Z
UID:2984-1548446400-1548460740@macslivemusic.com
SUMMARY:Soul Restoration Project
DESCRIPTION:SRP is back to make sure you keep 2019 funky! Get your party people and your dancin’ shoes\, and we’ll see you on the floor!\n8pm – Late\n$5 cover\n21+
URL:https://macslivemusic.com/event/soul-restoration-project-6/
LOCATION:Mac’s Nightclub\, 1626 Willamette St\, Eugene\, OR\, 97401\, United States
ATTACH;FMTTYPE=image/jpeg:https://macslivemusic.com/content/uploads/2017/04/srp.jpg
END:VEVENT
BEGIN:VEVENT
DTSTART;TZID=America/Los_Angeles:20190124T190000
DTEND;TZID=America/Los_Angeles:20190124T220000
DTSTAMP:20260422T011608
CREATED:20181227T234222Z
LAST-MODIFIED:20181227T234222Z
UID:2768-1548356400-1548367200@macslivemusic.com
SUMMARY:Dueling Pianos
DESCRIPTION:Hosted by Skip Jones & Hank Shreve \nAll Ages \nNo Cover
URL:https://macslivemusic.com/event/dueling-pianos-7/
LOCATION:Mac’s Nightclub\, 1626 Willamette St\, Eugene\, OR\, 97401\, United States
END:VEVENT
BEGIN:VEVENT
DTSTART;TZID=America/Los_Angeles:20190119T200000
DTEND;TZID=America/Los_Angeles:20190119T230000
DTSTAMP:20260422T011608
CREATED:20170203T230816Z
LAST-MODIFIED:20181227T231100Z
UID:785-1547928000-1547938800@macslivemusic.com
SUMMARY:The Jivemasters
DESCRIPTION:www.thejivemasters.com/ \n$6 cover \n“The Jivemasters” play an eclectic blend of Soul\, R&B\, and Jump Blues with emphasis on strong lead and harmony vocals. Members of the band have toured with national acts such as “The Elvin Bishop Band\,” “The Drifters\, “Clarence Gatemouth Brown\,” and “The Platters.” They also have been members of many local bands like “Soulicious\,” “The Swingin’ Marmalukeys\,” and “The Revelators.” \nWe perform as a trio or a quartet depending on the venue and the budget and are at home on large concert stages\, festivals\, night clubs\, cafes\, weddings\, wineries\, or even in someone’s living room for a private party. \n 
URL:https://macslivemusic.com/event/the-jivemasters-2/
LOCATION:OR
ATTACH;FMTTYPE=image/gif:https://macslivemusic.com/content/uploads/2017/02/bandpic1.gif
END:VEVENT
BEGIN:VEVENT
DTSTART;TZID=America/Los_Angeles:20190118T200000
DTEND;TZID=America/Los_Angeles:20190118T230000
DTSTAMP:20260422T011608
CREATED:20161230T005506Z
LAST-MODIFIED:20181227T231431Z
UID:492-1547841600-1547852400@macslivemusic.com
SUMMARY:Soulicious
DESCRIPTION:Soulicious \nFunk/Soul/R&B \n8:00pm   $6 Cover
URL:https://macslivemusic.com/event/soulicious-2/
LOCATION:Mac’s Nightclub\, 1626 Willamette St\, Eugene\, OR\, 97401\, United States
END:VEVENT
BEGIN:VEVENT
DTSTART;TZID=America/Los_Angeles:20190117T190000
DTEND;TZID=America/Los_Angeles:20190117T220000
DTSTAMP:20260422T011608
CREATED:20181227T234015Z
LAST-MODIFIED:20181227T234049Z
UID:2764-1547751600-1547762400@macslivemusic.com
SUMMARY:Dueling Pianos
DESCRIPTION:Hosted by Skip Jones & Hank Shreve \nAll Ages \nNo Cover
URL:https://macslivemusic.com/event/dueling-pianos-5/
LOCATION:Mac’s Nightclub\, 1626 Willamette St\, Eugene\, OR\, 97401\, United States
END:VEVENT
BEGIN:VEVENT
DTSTART;TZID=America/Los_Angeles:20190112T200000
DTEND;TZID=America/Los_Angeles:20190112T230000
DTSTAMP:20260422T011608
CREATED:20181124T204824Z
LAST-MODIFIED:20190111T201205Z
UID:2609-1547323200-1547334000@macslivemusic.com
SUMMARY:Sister Rosetta Tharpe Tribute Show
DESCRIPTION:$15 Cover \nDoors open at 7pm \nDuring a time when the idea of a guitar-playing woman was nonexistent\, not only did Rosetta Tharpe erase this line by mastering the symbol of musical masculinity\, but her blend of gospel and secular music was seen as earth-shattering. Her willingness to play “God’s music” in the devil’s den of nightclubs and music halls caused an uproar. The line up for this tribute are stellar musicians in their own right: Sonny Hess\, Lady Kat True Blue\, Lisa Mann\, Joanne Broh\,Kathryn Grimm\, Leah Hinchcliff\, and Ward Griffiths. \nSonny Hess (guitar and vocals) Veteran guitarist\, vocalist and songwriter\, ’‘Sonny Smokin’ Hess” went on to be the first woman nominated in a male dominated field for Best Lead Guitar by the Cascade Blues Assoc\, also holds a nomination for “Lifetime Acheivment Award”. She has played with\, sung with and composed with many of the regions top artists\, as well as opening for Etta James\, Jr Walker and the All Stars\, Average White Band and Bobby Womack. Sonny Hess is also widely known for her productions of the NW Women R&B Show\, a specialty show she takes pride in producing. Her show has been seen by 100’s of 1\,000’s over the past 15 years at the Safeway Waterfront Blues Festival. www.SonnyHess.com \n  \nLady Kat True Blue (vocals) A gifted blues and jazz vocalist\, her voice is mesmerizing\, a mix of Aretha Franklin\, Mahalia Jackson and Billie Holiday. Kat has a Low\, Rich\, Full Bodied Voice’ that carries the likes of Etta James\, with a little of Wynonna’s twang\, and the depth of Della Reese!  She has been living on her own since she was 14 and says\, “I’ve had some bumpy roads. ‘I have the right to sing the blues. Dedicated to the Blues! The Gift of Song truly is a gift of power. A singer should cherish and respect it! For you never know whose out there watching and listening to be just like you. It is my mission to respect and represent the art of music.” Lady Kat True Blue on Reverbnation. \n  \n  \nJoanne Broh (vocals)  A column of energy\, known for her powerful\, soulful voice and the passion of her performance. She is considered one of the best singers of blues\, jazz\, and Motown. Her 2016 release this year\, “Wicked Cool” has reaped some mighty fine accolades. Reaching #18 on the Living Blues Radio chart\, the CD is being played worldwide and receiving repeated airplay on Sirius XM BB King Bluesville. She has a new CD\, “Live” recorded at Mac’s Restaurant and Nightclub. www.JoanneBroh.com \n  \nLisa Mann (bass\, vocals) Lisa has been awarded the prestigious 2016 Blues Music Award for her mighty skills on the bass guitar\, an award which she also took home in 2015. Mann’s vocals effortlessly straddle the line between the honey sweet warmth of the south\, and the force-of-nature sound Mann has cultivated by mastering everything from hard rock to rhythm and blues. Her clever blues balladry is complimented by her considerable prowess on bass guitar. www.lisamannmusic.com \nLeah Hinchcliff (bass and vocals) The femme fatale of funk\, Leah is an accomplished performer and teacher who is known for her work in jazz\, funk\, and blues. She plays with notable bands Soul Vaccination\, The Quadraphonnes\, toured with the blues band Swamp Mama Johnson and lived in Eugene for awhile\, playing with Art Grooveaux. www.leahhinchcliff.com \n  \n  \nKathryn Grimm (guitar\, vocals) Music means everything to Kathryn. “Music is in every part of me\, my brain\, my heart\, my cells.” An accomplished multi instrumentalist\, she plays all genres\, blues\, punk\, rock\, obtained a jazz degree\, and formed a country band. She approached Sonny with the idea of a tribute to Sister Rosetta Tharp in 2018 and this show has had successful runs in Portland. Kathryngrimmmusic.com \nWard Griffiths (drums) Drum goddess of the Quadraphonnes\, She has played for the Rob Scheps Big Band\, Fred Stickley\, Gravy\, Mike Doolin \,  and Sabrosa as an in demand Portland drummer. \n  \n 
URL:https://macslivemusic.com/event/sister-rosetta-tharpe-tribute-show/
LOCATION:Mac’s Nightclub\, 1626 Willamette St\, Eugene\, OR\, 97401\, United States
ATTACH;FMTTYPE=image/jpeg:https://macslivemusic.com/content/uploads/2018/11/sister-rosetta.jpg
END:VEVENT
BEGIN:VEVENT
DTSTART;TZID=America/Los_Angeles:20190112T150000
DTEND;TZID=America/Los_Angeles:20190112T190000
DTSTAMP:20260422T011608
CREATED:20190107T222339Z
LAST-MODIFIED:20190107T222339Z
UID:2986-1547305200-1547319600@macslivemusic.com
SUMMARY:Closed for private party
DESCRIPTION:
URL:https://macslivemusic.com/event/closed-for-private-party/
LOCATION:Mac’s Nightclub\, 1626 Willamette St\, Eugene\, OR\, 97401\, United States
END:VEVENT
BEGIN:VEVENT
DTSTART;TZID=America/Los_Angeles:20190110T190000
DTEND;TZID=America/Los_Angeles:20190110T220000
DTSTAMP:20260422T011608
CREATED:20181227T233822Z
LAST-MODIFIED:20181227T233822Z
UID:2762-1547146800-1547157600@macslivemusic.com
SUMMARY:Dueling Pianos
DESCRIPTION:Hosted by Skip Jones & Hank Shreve \nAll Ages \nNo Cover
URL:https://macslivemusic.com/event/dueling-pianos-4/
LOCATION:Mac’s Nightclub\, 1626 Willamette St\, Eugene\, OR\, 97401\, United States
END:VEVENT
BEGIN:VEVENT
DTSTART;TZID=America/Los_Angeles:20190109T180000
DTEND;TZID=America/Los_Angeles:20190109T210000
DTSTAMP:20260422T011608
CREATED:20161205T235159Z
LAST-MODIFIED:20181227T231640Z
UID:270-1547056800-1547067600@macslivemusic.com
SUMMARY:Chuck Nathan Tribute Show
DESCRIPTION:with Gus Russell and Paul Biondi.\nNo cover\nAll ages
URL:https://macslivemusic.com/event/gus-russell-paul-biondi-3/
LOCATION:Mac’s Nightclub\, 1626 Willamette St\, Eugene\, OR\, 97401\, United States
ATTACH;FMTTYPE=image/jpeg:https://macslivemusic.com/content/uploads/2016/12/Paul_Biondi.jpg
END:VEVENT
END:VCALENDAR