BEGIN:VCALENDAR
VERSION:2.0
PRODID:-//Mac&#039;s Restaurant - ECPv6.10.0//NONSGML v1.0//EN
CALSCALE:GREGORIAN
METHOD:PUBLISH
X-WR-CALNAME:Mac&#039;s Restaurant
X-ORIGINAL-URL:https://macslivemusic.com
X-WR-CALDESC:Events for Mac&#039;s Restaurant
REFRESH-INTERVAL;VALUE=DURATION:PT1H
X-Robots-Tag:noindex
X-PUBLISHED-TTL:PT1H
BEGIN:VTIMEZONE
TZID:America/Los_Angeles
BEGIN:DAYLIGHT
TZOFFSETFROM:-0800
TZOFFSETTO:-0700
TZNAME:PDT
DTSTART:20180311T100000
END:DAYLIGHT
BEGIN:STANDARD
TZOFFSETFROM:-0700
TZOFFSETTO:-0800
TZNAME:PST
DTSTART:20181104T090000
END:STANDARD
END:VTIMEZONE
BEGIN:VEVENT
DTSTART;TZID=America/Los_Angeles:20180912T180000
DTEND;TZID=America/Los_Angeles:20180912T210000
DTSTAMP:20260423T021905
CREATED:20171122T210725Z
LAST-MODIFIED:20180911T173253Z
UID:1537-1536775200-1536786000@macslivemusic.com
SUMMARY:Michael Anderson & Friends
DESCRIPTION:Michael Anderson—\nMichael has bee a mainstay on the Eugene music scene in various guises for 30-\nplus years. He’s traveled internationally backing artists\, as well as playing styles\nof music from Country to Rock to Jazz\, Folk\, and Rhythm and Blues.\nHe’s also spent some time\, along with Ray Brassfield\, working with the great\ndrummer Donny Osbourne (Mel Torme). He’s worked in video and radio\nproduction and as a session musician on numerous albums by local artists.\nRay Brassfield—\nRay played his first bass gig in 1968 at a bar in Junction City appropriately named “The\nJunction House”. Since then he has been performing at a variety of venues\, including\nbars\, taverns\, churches\, coffee houses and restaurants.\nIn the early 70’s\, he played at The Renaissance Faire\, which is now known as The\nOregon Country Fair\, with a locally popular group\, Magpie. They helped usher in the\nuse of amplified music which was pretty much organic/acoustic prior to that time.\nHe has performed with different groups at The Jamboree held in Sweet Home\, Oregon.\,\nas well as numerous county fairs.\nHe is somewhat stylistically diverse\, having played country\, rock\, blues\, jazz\, folk\, and\nhe continues to explore musical opportunities.\nRandy “Gage” Kiesling—\nStarted playing drums and singing professionally in 1964 at the age of 15\, and has\nplayed in various types of bands doing\, blues\, rock\, country\, swing and jazz.\nStarted doing road gigs in the early 70’s\, playing all over Oregon\, Washington\,\nCalifornia\, Idaho and Montana. He played with Tex Williams when he toured Oregon in\nthe late 70’s\, along with the Eugene band Mithrandir in the same time period. He’s\nworked with Bobby James & Buddy Fite\, from Portland. Retiring from the road in the\nlate 80’s\, he’s continued to play locally (western Oregon) for the last three decades.\nRandy\, Ray\, & Michael have all worked together with Paul Cotton\, from the band Poco.
URL:https://macslivemusic.com/event/gus-russell-paul-biondi-6/
LOCATION:Mac’s Nightclub\, 1626 Willamette St\, Eugene\, OR\, 97401\, United States
ATTACH;FMTTYPE=image/jpeg:https://macslivemusic.com/content/uploads/2017/11/Flyer-no-Text-crop.jpg
END:VEVENT
BEGIN:VEVENT
DTSTART;TZID=America/Los_Angeles:20180901T200000
DTEND;TZID=America/Los_Angeles:20180901T230000
DTSTAMP:20260423T021905
CREATED:20170203T232040Z
LAST-MODIFIED:20180823T192911Z
UID:788-1535832000-1535842800@macslivemusic.com
SUMMARY:Soul Deception
DESCRIPTION:http://www.souldeception.com/ \n$5 Cover \nFinding their roots in strong blues and rock to create a rich blues sound with a sharp rock edge. Soul Deception’s full rhythms are supported by the warm soulful voice of Samantha Cairnes\, with supporting lead and back up vocals of Mel Stark and Kat Dishongh rounding out the soulful harmonies to every performance. From Eugene Oregon Soul Deception appeals to a wide audience with changing rhythms from swing to blues to strong rock and roll\, provides the listener with a variety rarely found in one band. Fred on drums\, Danny on keyboards\, John on lead guitar\, Chris on rhythm guitar\, Jason on bass and Mel adding the percussion
URL:https://macslivemusic.com/event/soul-deception/
ATTACH;FMTTYPE=image/png:https://macslivemusic.com/content/uploads/2017/02/7202fa3a55d801fdd04abaa595ba5fbc.png
END:VEVENT
BEGIN:VEVENT
DTSTART;TZID=America/Los_Angeles:20180829T180000
DTEND;TZID=America/Los_Angeles:20180829T210000
DTSTAMP:20260423T021905
CREATED:20180802T184513Z
LAST-MODIFIED:20180802T184513Z
UID:2469-1535565600-1535576400@macslivemusic.com
SUMMARY:Michael Anderson & Friends
DESCRIPTION:Outside on the patio stage \nAll ages \nNo cover
URL:https://macslivemusic.com/event/michael-anderson-friends-2/
LOCATION:Mac’s Nightclub\, 1626 Willamette St\, Eugene\, OR\, 97401\, United States
END:VEVENT
BEGIN:VEVENT
DTSTART;VALUE=DATE:20180825
DTEND;VALUE=DATE:20180826
DTSTAMP:20260423T021905
CREATED:20180726T193820Z
LAST-MODIFIED:20180726T193820Z
UID:2462-1535155200-1535241599@macslivemusic.com
SUMMARY:Closed
DESCRIPTION:
URL:https://macslivemusic.com/event/closed-10/
LOCATION:Mac’s Nightclub\, 1626 Willamette St\, Eugene\, OR\, 97401\, United States
END:VEVENT
BEGIN:VEVENT
DTSTART;TZID=America/Los_Angeles:20180824T200000
DTEND;TZID=America/Los_Angeles:20180824T233000
DTSTAMP:20260423T021905
CREATED:20161205T222246Z
LAST-MODIFIED:20180724T221355Z
UID:230-1535140800-1535153400@macslivemusic.com
SUMMARY:The Jivemasters
DESCRIPTION:R&B/Swing/Dance \nCover $6
URL:https://macslivemusic.com/event/the-jivemasters/
LOCATION:Mac’s Nightclub\, 1626 Willamette St\, Eugene\, OR\, 97401\, United States
ATTACH;FMTTYPE=image/jpeg:https://macslivemusic.com/content/uploads/2016/12/The_JiveMasters.jpg
END:VEVENT
BEGIN:VEVENT
DTSTART;TZID=America/Los_Angeles:20180817T200000
DTEND;TZID=America/Los_Angeles:20180817T230000
DTSTAMP:20260423T021905
CREATED:20180726T193657Z
LAST-MODIFIED:20180815T200925Z
UID:2458-1534536000-1534546800@macslivemusic.com
SUMMARY:Complicated
DESCRIPTION:Soul/R&B/Dance \n$5 Cover \nThe band grooves with a repertoire of R&B/Soul! Add Contemporary\, pop/rock and Country and you get COMPLICATED! Complicated has been entertaining for over a decade in Eugene and always puts on a great show!  With the very passionate entertainer Amy Picard on lead vocals\, awesome guitar\, melodic piano playing and harmony vocals\, Lisa Hellemn\, groove driving drums and harmony vocals\, Claudia Paige and soul bass player Mike Hatgis. Come early to get a good seat! Dinner and full bar available. Only $5 at the door! We hope to see you there!
URL:https://macslivemusic.com/event/complicated/
LOCATION:Mac’s Nightclub\, 1626 Willamette St\, Eugene\, OR\, 97401\, United States
ATTACH;FMTTYPE=image/jpeg:https://macslivemusic.com/content/uploads/2018/07/cp.jpg
END:VEVENT
BEGIN:VEVENT
DTSTART;TZID=America/Los_Angeles:20180815T180000
DTEND;TZID=America/Los_Angeles:20180815T210000
DTSTAMP:20260423T021905
CREATED:20180802T184305Z
LAST-MODIFIED:20180802T184317Z
UID:2467-1534356000-1534366800@macslivemusic.com
SUMMARY:Michael Anderson & Friends
DESCRIPTION:Outside on the patio stage \nAll ages \nNo cover
URL:https://macslivemusic.com/event/michael-anderson-friends/
LOCATION:Mac’s Nightclub\, 1626 Willamette St\, Eugene\, OR\, 97401\, United States
END:VEVENT
BEGIN:VEVENT
DTSTART;TZID=America/Los_Angeles:20180803T200000
DTEND;TZID=America/Los_Angeles:20180803T230000
DTSTAMP:20260423T021905
CREATED:20161013T053340Z
LAST-MODIFIED:20180724T222124Z
UID:15-1533326400-1533337200@macslivemusic.com
SUMMARY:Soul Restoration Project
DESCRIPTION:$5 Cover \nWith high energy\, full body grooving\, rump shaking\, soul music from the ’60s and ’70s\, the Soul Restoration Project aims to bring back some of the peace\, love\, and happiness to the greater Eugene area. \nTunes include Arthur Conley’s “Funky Street” and “Sweet Soul Music\,” Etta James’ “Watch Dog\,” The Temptation’s “Ain’t Too Proud to Beg\,” Stevie Wonder’s “I Wish” and “Signed\, Sealed\, Delivered\,” and many more! \nWe provide the foundation for grooving\, shaking\, dancing\, and widespread pleasure through adult\, yet family-friendly\, music.
URL:https://macslivemusic.com/event/soul-restoration-project/
LOCATION:Mac’s Nightclub\, 1626 Willamette St\, Eugene\, OR\, 97401\, United States
ATTACH;FMTTYPE=image/jpeg:https://macslivemusic.com/content/uploads/2016/10/SRP.jpg
END:VEVENT
BEGIN:VEVENT
DTSTART;TZID=America/Los_Angeles:20180802T190000
DTEND;TZID=America/Los_Angeles:20180802T220000
DTSTAMP:20260423T021905
CREATED:20180726T193755Z
LAST-MODIFIED:20180726T193755Z
UID:2460-1533236400-1533247200@macslivemusic.com
SUMMARY:Skip & Byron's Blues Travelogue
DESCRIPTION:With Skip Jones & Byron Case
URL:https://macslivemusic.com/event/skip-byrons-blues-travelogue/
LOCATION:Mac’s Nightclub\, 1626 Willamette St\, Eugene\, OR\, 97401\, United States
END:VEVENT
BEGIN:VEVENT
DTSTART;TZID=America/Los_Angeles:20180801T180000
DTEND;TZID=America/Los_Angeles:20180801T210000
DTSTAMP:20260423T021905
CREATED:20180728T195156Z
LAST-MODIFIED:20180728T195156Z
UID:2464-1533146400-1533157200@macslivemusic.com
SUMMARY:Skip Jones & Hank Shreve
DESCRIPTION:Hank Shreve & Skip Jones \nBlues/Variety \nNo Cover \nAll ages
URL:https://macslivemusic.com/event/skip-jones-hank-shreve/
LOCATION:Mac’s Nightclub\, 1626 Willamette St\, Eugene\, OR\, 97401\, United States
END:VEVENT
BEGIN:VEVENT
DTSTART;TZID=America/Los_Angeles:20180728T200000
DTEND;TZID=America/Los_Angeles:20180728T230000
DTSTAMP:20260423T021905
CREATED:20161205T222842Z
LAST-MODIFIED:20180726T184405Z
UID:234-1532808000-1532818800@macslivemusic.com
SUMMARY:Natty O & Friends
DESCRIPTION:Blues & Variety \n$5 Cover
URL:https://macslivemusic.com/event/hank-shreve-band/
LOCATION:Mac’s Nightclub\, 1626 Willamette St\, Eugene\, OR\, 97401\, United States
ATTACH;FMTTYPE=image/jpeg:https://macslivemusic.com/content/uploads/2016/12/Natty.jpg
END:VEVENT
BEGIN:VEVENT
DTSTART;TZID=America/Los_Angeles:20180727T200000
DTEND;TZID=America/Los_Angeles:20180727T230000
DTSTAMP:20260423T021905
CREATED:20170119T222622Z
LAST-MODIFIED:20180719T185251Z
UID:604-1532721600-1532732400@macslivemusic.com
SUMMARY:Daddy Rabbit CD Release Party
DESCRIPTION:http://daddyrabbitband.wixsite.com/daddy-rabbit \n\n50’s & 60’s Rock & Roll\n8:00pm $5 cover
URL:https://macslivemusic.com/event/daddy-rabbit-2/
LOCATION:Mac’s Nightclub\, 1626 Willamette St\, Eugene\, OR\, 97401\, United States
ATTACH;FMTTYPE=image/jpeg:https://macslivemusic.com/content/uploads/2016/10/Daddy_Rabbit.jpg
END:VEVENT
BEGIN:VEVENT
DTSTART;TZID=America/Los_Angeles:20180714T200000
DTEND;TZID=America/Los_Angeles:20180714T230000
DTSTAMP:20260423T021905
CREATED:20171220T214449Z
LAST-MODIFIED:20180628T213715Z
UID:1628-1531598400-1531609200@macslivemusic.com
SUMMARY:My Band Featuring Darlene Jackson
DESCRIPTION:Variety/Blues/Soul/Pop \n$5 Cover
URL:https://macslivemusic.com/event/band-featuring-darlene-jackson/
LOCATION:Mac’s Nightclub\, 1626 Willamette St\, Eugene\, OR\, 97401\, United States
ATTACH;FMTTYPE=image/jpeg:https://macslivemusic.com/content/uploads/2016/12/15042134_2132436376982268_3315254765313740803_o.jpg
END:VEVENT
BEGIN:VEVENT
DTSTART;TZID=America/Los_Angeles:20180712T190000
DTEND;TZID=America/Los_Angeles:20180712T220000
DTSTAMP:20260423T021905
CREATED:20180427T233406Z
LAST-MODIFIED:20180710T192134Z
UID:2354-1531422000-1531432800@macslivemusic.com
SUMMARY:Skip Jones & Peter Giri on the Patio Stage
DESCRIPTION:Variety Show/ Sing Along \nAll ages \nThrowback Thursdays $3 Specials \nA different drink special every 30 minutes!\n \n5pm-5:30pm Any house wine \n5:30pm-6pm Margarita\n \n6pm-6:30pm Vodka martini\n \n6:30pm-7pm Manhattan\n \n7pm-7:30pm Rum & coke\n \n7:30pm-8pm Gin & tonic\n \n8pm-8:30pm Cucumber press\n \n8:30pm-9pm Any Beer \n9pm-9:30pm Any well drink \n9:30pm-10pm Mactastic Cosmo\n \n10pm-10:30pm Any well drink \n10:30pm-11pm Old fashioned
URL:https://macslivemusic.com/event/throwback-thursdays-featuring-skip-jones-peter-giri-3/
LOCATION:Mac’s Nightclub\, 1626 Willamette St\, Eugene\, OR\, 97401\, United States
ATTACH;FMTTYPE=image/jpeg:https://macslivemusic.com/content/uploads/2017/11/sK-pETE-POSTER-page-001.jpg
END:VEVENT
BEGIN:VEVENT
DTSTART;VALUE=DATE:20180707
DTEND;VALUE=DATE:20180708
DTSTAMP:20260423T021905
CREATED:20170524T205426Z
LAST-MODIFIED:20180626T195329Z
UID:1373-1530921600-1531007999@macslivemusic.com
SUMMARY:Closed
DESCRIPTION:Mac’s will be closed from  \nJuly 4th through July 9th.  \nWe will reopen Tuesday\, July 10th with Roosters Blues Jam
URL:https://macslivemusic.com/event/closed/
LOCATION:Mac’s Nightclub\, 1626 Willamette St\, Eugene\, OR\, 97401\, United States
ATTACH;FMTTYPE=image/png:https://macslivemusic.com/content/uploads/2017/05/4th-Of-July.png
END:VEVENT
BEGIN:VEVENT
DTSTART;VALUE=DATE:20180706
DTEND;VALUE=DATE:20180707
DTSTAMP:20260423T021905
CREATED:20170524T205732Z
LAST-MODIFIED:20180626T195318Z
UID:1375-1530835200-1530921599@macslivemusic.com
SUMMARY:Closed
DESCRIPTION:Mac’s will be closed from  \nJuly 4th through July 9th.  \nWe will reopen Tuesday\, July 10th with Roosters Blues Jam
URL:https://macslivemusic.com/event/closed-2/
LOCATION:Mac’s Nightclub\, 1626 Willamette St\, Eugene\, OR\, 97401\, United States
ATTACH;FMTTYPE=image/png:https://macslivemusic.com/content/uploads/2017/05/4th-Of-July.png
END:VEVENT
BEGIN:VEVENT
DTSTART;VALUE=DATE:20180705
DTEND;VALUE=DATE:20180706
DTSTAMP:20260423T021905
CREATED:20170524T205934Z
LAST-MODIFIED:20180626T195247Z
UID:1379-1530748800-1530835199@macslivemusic.com
SUMMARY:Closed
DESCRIPTION:Mac’s will be closed from  \nJuly 4th through July 9th.  \nWe will reopen Tuesday\, July 10th with Roosters Blues Jam
URL:https://macslivemusic.com/event/closed-3/
LOCATION:Mac’s Nightclub\, 1626 Willamette St\, Eugene\, OR\, 97401\, United States
ATTACH;FMTTYPE=image/png:https://macslivemusic.com/content/uploads/2017/05/4th-Of-July.png
END:VEVENT
BEGIN:VEVENT
DTSTART;VALUE=DATE:20180704
DTEND;VALUE=DATE:20180705
DTSTAMP:20260423T021905
CREATED:20170524T210058Z
LAST-MODIFIED:20180626T195250Z
UID:1381-1530662400-1530748799@macslivemusic.com
SUMMARY:Closed
DESCRIPTION:Mac’s will be closed from  \nJuly 4th through July 9th.  \nWe will reopen Tuesday\, July 10th with Roosters Blues Jam
URL:https://macslivemusic.com/event/closed-4/
LOCATION:Mac’s Nightclub\, 1626 Willamette St\, Eugene\, OR\, 97401\, United States
ATTACH;FMTTYPE=image/png:https://macslivemusic.com/content/uploads/2017/05/4th-Of-July.png
END:VEVENT
BEGIN:VEVENT
DTSTART;TZID=America/Los_Angeles:20180629T200000
DTEND;TZID=America/Los_Angeles:20180629T233000
DTSTAMP:20260423T021905
CREATED:20180606T205430Z
LAST-MODIFIED:20180606T205430Z
UID:2404-1530302400-1530315000@macslivemusic.com
SUMMARY:80’s Night  with DJsmuve
DESCRIPTION:80’s Variety \n  \n8:00pm   $5 Cover
URL:https://macslivemusic.com/event/80s-night-with-djsmuve/
LOCATION:Mac’s Nightclub\, 1626 Willamette St\, Eugene\, OR\, 97401\, United States
ATTACH;FMTTYPE=image/jpeg:https://macslivemusic.com/content/uploads/2018/06/80.jpg
END:VEVENT
BEGIN:VEVENT
DTSTART;TZID=America/Los_Angeles:20180628T190000
DTEND;TZID=America/Los_Angeles:20180628T230000
DTSTAMP:20260423T021905
CREATED:20180526T211855Z
LAST-MODIFIED:20180526T211855Z
UID:2397-1530212400-1530226800@macslivemusic.com
SUMMARY:Throwback Thursdays Featuring The Traceys
DESCRIPTION:7:00pm No Cover \nBlues/Soul/Variety \nThrowback Thursdays $3 Specials \nA different drink special every 30 minutes!\n \n5pm-5:30pm Any house wine \n5:30pm-6pm Margherita\n \n6pm-6:30pm Vodka martini\n \n6:30pm-7pm Manhattan\n \n7pm-7:30pm Rum & coke\n \n7:30pm-8pm Gin & tonic\n \n8pm-8:30pm Cucumber press\n \n8:30pm-9pm Any Beer \n9pm-9:30pm Any well drink \n9:30pm-10pm Mactastic Cosmo\n \n10pm-10:30pm Any well drink \n10:30pm-11pm Old fashioned
URL:https://macslivemusic.com/event/throwback-thursdays-featuring-the-traceys/
LOCATION:Mac’s Nightclub\, 1626 Willamette St\, Eugene\, OR\, 97401\, United States
ATTACH;FMTTYPE=image/jpeg:https://macslivemusic.com/content/uploads/2018/02/15002290_1364466233588016_5663050938869163342_o.jpg
END:VEVENT
BEGIN:VEVENT
DTSTART;TZID=America/Los_Angeles:20180628T180000
DTEND;TZID=America/Los_Angeles:20180628T210000
DTSTAMP:20260423T021905
CREATED:20170223T230249Z
LAST-MODIFIED:20180623T192735Z
UID:1258-1530208800-1530219600@macslivemusic.com
SUMMARY:The Tracey's outside on the patio stage!
DESCRIPTION:The Traceys \nAcoustic/Blues/Soul \nAll Ages \n7:00pm   No Cover
URL:https://macslivemusic.com/event/the-traceys/
LOCATION:Mac’s Nightclub\, 1626 Willamette St\, Eugene\, OR\, 97401\, United States
ATTACH;FMTTYPE=image/jpeg:https://macslivemusic.com/content/uploads/2017/02/15002290_1364466233588016_5663050938869163342_o.jpg
END:VEVENT
BEGIN:VEVENT
DTSTART;TZID=America/Los_Angeles:20180623T200000
DTEND;TZID=America/Los_Angeles:20180623T230000
DTSTAMP:20260423T021905
CREATED:20161205T235440Z
LAST-MODIFIED:20180529T224139Z
UID:274-1529784000-1529794800@macslivemusic.com
SUMMARY:Skip Jones & The Spirit Of New Orleans
DESCRIPTION:$5 Cover \nSkip & his group\, The Spirit of New Orleans\, play a smattering of the great rhythm and blues hits of the ’50s and ’60s\, as well as some great pop & rock organ classics of the ’60s and ’70’s. Add to that a bonifide New Orleans piano boogie-woogie and the party follows! \nOver the last 20 years\, frontman Skip Jones has enjoyed working with such bands as: The Coasters\, The Drifters\, The Platters\, Joe Houston & Bo Diddley. He toured with the great Canned Heat in 1985-86 holding down Larry Taylor’s bass position. Skip has worked with The Etouffee Band\, James Thornbury\, James Bradshaw and Henry Vestine extensively.
URL:https://macslivemusic.com/event/skip-jones-tribute-leon-russell/
LOCATION:Mac’s Nightclub\, 1626 Willamette St\, Eugene\, OR\, 97401\, United States
ATTACH;FMTTYPE=image/jpeg:https://macslivemusic.com/content/uploads/2017/04/skip.jpg
END:VEVENT
BEGIN:VEVENT
DTSTART;TZID=America/Los_Angeles:20180621T190000
DTEND;TZID=America/Los_Angeles:20180621T200000
DTSTAMP:20260423T021905
CREATED:20180526T212044Z
LAST-MODIFIED:20180526T212044Z
UID:2399-1529607600-1529611200@macslivemusic.com
SUMMARY:Throwback Thursdays Featuring Skip Jones & Peter Giri
DESCRIPTION:Variety Show/ Sing Along \nAll ages \nThrowback Thursdays $3 Specials \nA different drink special every 30 minutes!\n \n5pm-5:30pm Any house wine \n5:30pm-6pm Margherita\n \n6pm-6:30pm Vodka martini\n \n6:30pm-7pm Manhattan\n \n7pm-7:30pm Rum & coke\n \n7:30pm-8pm Gin & tonic\n \n8pm-8:30pm Cucumber press\n \n8:30pm-9pm Any Beer \n9pm-9:30pm Any well drink \n9:30pm-10pm Mactastic Cosmo\n \n10pm-10:30pm Any well drink \n10:30pm-11pm Old fashioned
URL:https://macslivemusic.com/event/throwback-thursdays-featuring-skip-jones-peter-giri-5/
LOCATION:Mac’s Nightclub\, 1626 Willamette St\, Eugene\, OR\, 97401\, United States
END:VEVENT
BEGIN:VEVENT
DTSTART;TZID=America/Los_Angeles:20180620T180000
DTEND;TZID=America/Los_Angeles:20180620T210000
DTSTAMP:20260423T021905
CREATED:20180323T220326Z
LAST-MODIFIED:20180524T213328Z
UID:2321-1529517600-1529528400@macslivemusic.com
SUMMARY:My Band Featuring Darline Jackson
DESCRIPTION:Variety/Blues/Soul/Pop \nno cover all ages
URL:https://macslivemusic.com/event/my-band-featuring-darline-jackson/
LOCATION:Mac’s Nightclub\, 1626 Willamette St\, Eugene\, OR\, 97401\, United States
ATTACH;FMTTYPE=image/jpeg:https://macslivemusic.com/content/uploads/2016/11/Macs_Nightclub_093016-2.jpg
END:VEVENT
BEGIN:VEVENT
DTSTART;TZID=America/Los_Angeles:20180616T200000
DTEND;TZID=America/Los_Angeles:20180616T230000
DTSTAMP:20260423T021905
CREATED:20170317T202756Z
LAST-MODIFIED:20180524T214428Z
UID:1283-1529179200-1529190000@macslivemusic.com
SUMMARY:Soul Restoration Project
DESCRIPTION:$5 Cover \nWith high energy\, full body grooving\, rump shaking\, soul music from the ’60s and ’70s\, the Soul Restoration Project aims to bring back some of the peace\, love\, and happiness to the greater Eugene area. \nTunes include Arthur Conley’s “Funky Street” and “Sweet Soul Music\,” Etta James’ “Watch Dog\,” The Temptation’s “Ain’t Too Proud to Beg\,” Stevie Wonder’s “I Wish” and “Signed\, Sealed\, Delivered\,” and many more! \nWe provide the foundation for grooving\, shaking\, dancing\, and widespread pleasure through adult\, yet family-friendly\, music.
URL:https://macslivemusic.com/event/soul-restoration-project-2/
LOCATION:Mac’s Nightclub\, 1626 Willamette St\, Eugene\, OR\, 97401\, United States
ATTACH;FMTTYPE=image/jpeg:https://macslivemusic.com/content/uploads/2016/10/SRP.jpg
END:VEVENT
BEGIN:VEVENT
DTSTART;TZID=America/Los_Angeles:20180614T190000
DTEND;TZID=America/Los_Angeles:20180614T220000
DTSTAMP:20260423T021905
CREATED:20180526T211612Z
LAST-MODIFIED:20180526T212207Z
UID:2394-1529002800-1529013600@macslivemusic.com
SUMMARY:Throwback Thursdays Featuring IrieFuse
DESCRIPTION:$5 Cover \nThrowback Thursdays $3 Specials \nA different drink special every 30 minutes!\n \n5pm-5:30pm Any house wine\, 5:30pm-6pm Margherita\, 6pm-6:30pm Vodka martini\,  \n6:30pm-7pm Manhattan\, 7pm-7:30pm Rum & coke\, 7:30pm-8pm Gin & tonic\n \n8pm-8:30pm Cucumber press\, 8:30pm-9pm Any Beer\, 9pm-9:30pm Any well drink \n9:30pm-10pm Mactastic Cosmo\, 10pm-10:30pm Any well drink\, 10:30pm-11pm Old fashioned \nIEFUSE is a San Francisco Bay Area based reggae band that\nhas been fortunate enough to bring their energetic and unique\nperformance to some of the largest and most respected reggae\nfestivals in the country. California Roots in 2014 and the\nlegendary Reggae on the River in 2015 were amazing to be a part\nof and really put the band on the map. Since then the band\nhas been working hard playing many other festivals and club dates\nup and down the West Coast and beyond\, including California\,\nNevada\, Oregon\, Washington\, and Arizona\, & New Mexico.\nIriefuse has been blessed to provide direct support and backline for\nnumerous “A” list Reggae Stars such as\, Barrington Levy\,\nAlborosie\, Don Carlos\, Anthony B\, Israel Vibrations\, Morgan\nHeritage\, Black Uhuru\, Sly & Robbie\, Yellow Man\, Sizzla Kalonji\,\nJunior Reid\, Morgan Heritage\, Wailing Souls\, Sister Carol\, Mikey\nGeneral\, Tomorrows Bad Seeds\, The Expendables\, & Josh\nHeinrichs\, Richie Spice and more. Their debut EP\, Sun is Rising\,\nwas released in June 2013. Their first full-length album Give &\nGet Back was released on April 5\, 2015. The band released 3 new\nsingles in 2017\, and now they are recording another full-length\nalbum to be released in late 2018. All music can be found at all\nonline music retailers. Also enjoy listening to the band on Pandora\,\nSpotify\, and Youtube\nWWW.IRIEFUSEMUSIC.COM\nBOOKINGS CONTACT: 415 533 6554\nIRIEFUSEMUSIC@GMAIL.COM
URL:https://macslivemusic.com/event/throwback-thursdays-featuring-iriefuse/
LOCATION:Mac’s Nightclub\, 1626 Willamette St\, Eugene\, OR\, 97401\, United States
ATTACH;FMTTYPE=image/jpeg:https://macslivemusic.com/content/uploads/2018/05/Iriefuse.jpg
END:VEVENT
BEGIN:VEVENT
DTSTART;TZID=America/Los_Angeles:20180601T200000
DTEND;TZID=America/Los_Angeles:20180601T230000
DTSTAMP:20260423T021905
CREATED:20161013T180457Z
LAST-MODIFIED:20180524T213820Z
UID:32-1527883200-1527894000@macslivemusic.com
SUMMARY:Brian Chevalier & Heavy Chevy
DESCRIPTION:Blues/Americana\n$5 Cover
URL:https://macslivemusic.com/event/the-heavy-chevy-band/
LOCATION:Mac’s Nightclub\, 1626 Willamette St\, Eugene\, OR\, 97401\, United States
ATTACH;FMTTYPE=image/jpeg:https://macslivemusic.com/content/uploads/2016/10/Heavy_Chevy_Band.jpg
END:VEVENT
BEGIN:VEVENT
DTSTART;TZID=America/Los_Angeles:20180524T190000
DTEND;TZID=America/Los_Angeles:20180524T220000
DTSTAMP:20260423T021905
CREATED:20180427T233503Z
LAST-MODIFIED:20180427T233503Z
UID:2356-1527188400-1527199200@macslivemusic.com
SUMMARY:Throwback Thursdays Featuring Skip Jones & Peter Giri
DESCRIPTION:Variety Show/ Sing Along \nAll ages \nThrowback Thursdays $3 Specials \nA different drink special every 30 minutes!\n \n5pm-5:30pm Any house wine \n5:30pm-6pm Margherita\n \n6pm-6:30pm Vodka martini\n \n6:30pm-7pm Manhattan\n \n7pm-7:30pm Rum & coke\n \n7:30pm-8pm Gin & tonic\n \n8pm-8:30pm Cucumber press\n \n8:30pm-9pm Any Beer \n9pm-9:30pm Any well drink \n9:30pm-10pm Mactastic Cosmo\n \n10pm-10:30pm Any well drink \n10:30pm-11pm Old fashioned
URL:https://macslivemusic.com/event/throwback-thursdays-featuring-skip-jones-peter-giri-4/
LOCATION:Mac’s Nightclub\, 1626 Willamette St\, Eugene\, OR\, 97401\, United States
END:VEVENT
BEGIN:VEVENT
DTSTART;TZID=America/Los_Angeles:20180523T180000
DTEND;TZID=America/Los_Angeles:20180523T210000
DTSTAMP:20260423T021905
CREATED:20161205T232131Z
LAST-MODIFIED:20180426T200622Z
UID:250-1527098400-1527109200@macslivemusic.com
SUMMARY:My Band Featuring Darline Jackson
DESCRIPTION:The Band Featuring Darline Jackson \nFunk/Soul/R&B/Variety \n 
URL:https://macslivemusic.com/event/the-band-featuring-darline-jackson/
LOCATION:Mac’s Nightclub\, 1626 Willamette St\, Eugene\, OR\, 97401\, United States
ATTACH;FMTTYPE=image/jpeg:https://macslivemusic.com/content/uploads/2016/12/15042134_2132436376982268_3315254765313740803_o.jpg
END:VEVENT
BEGIN:VEVENT
DTSTART;TZID=America/Los_Angeles:20180520T140000
DTEND;TZID=America/Los_Angeles:20180520T233000
DTSTAMP:20260423T021905
CREATED:20180501T201239Z
LAST-MODIFIED:20180510T193303Z
UID:2365-1526824800-1526859000@macslivemusic.com
SUMMARY:Vicky Allard Benefit Show
DESCRIPTION:FUNDRAISER!! Featuring The Ben Rice Band\, Vicky Stevens and Walker T. Ryan\n(who will both be coming out of retirement)\, Paul Biondi with Rick Markstrum\, Gus\nRussel\, Bill Rhoades\, Peter Giri\, Bill and Hank Shreve\, Joanne Broh along with many more of\nEugene’s best musical talents . Join us as we raise monies for a very special woman\nwhose has always been there for all of us in the Blues scene\, Track and Field with ESPN\,\nand The Hult Center for the Performing Arts\, as well as U of O events\, and venues in\nPortland where she works behind the curtains/stage so to speak. Vicky Allard is\nrecovering from a medical condition which almost took her from us. She is now\nrecovering and is expected to be OK\, however she also missed lots of work while in the\nhospital and in recovery.\nPlease join all her friends and the community for this event at Mac’s at the Vet’s Club on\nSunday May 20th from 2pm till we can’t dance anymore. A $10 donation or whatever\nyou can afford is requested to help offset bills and costs incurred by her while she was\nsick. For more information on this event please call Mac’s. Don’t miss\nthis.
URL:https://macslivemusic.com/event/vicky-allard-benefit-show/
LOCATION:Mac’s Nightclub\, 1626 Willamette St\, Eugene\, OR\, 97401\, United States
END:VEVENT
END:VCALENDAR