BEGIN:VCALENDAR
VERSION:2.0
PRODID:-//Mac&#039;s Restaurant - ECPv6.10.0//NONSGML v1.0//EN
CALSCALE:GREGORIAN
METHOD:PUBLISH
X-WR-CALNAME:Mac&#039;s Restaurant
X-ORIGINAL-URL:https://macslivemusic.com
X-WR-CALDESC:Events for Mac&#039;s Restaurant
REFRESH-INTERVAL;VALUE=DURATION:PT1H
X-Robots-Tag:noindex
X-PUBLISHED-TTL:PT1H
BEGIN:VTIMEZONE
TZID:America/Los_Angeles
BEGIN:DAYLIGHT
TZOFFSETFROM:-0800
TZOFFSETTO:-0700
TZNAME:PDT
DTSTART:20170312T100000
END:DAYLIGHT
BEGIN:STANDARD
TZOFFSETFROM:-0700
TZOFFSETTO:-0800
TZNAME:PST
DTSTART:20171105T090000
END:STANDARD
BEGIN:DAYLIGHT
TZOFFSETFROM:-0800
TZOFFSETTO:-0700
TZNAME:PDT
DTSTART:20180311T100000
END:DAYLIGHT
BEGIN:STANDARD
TZOFFSETFROM:-0700
TZOFFSETTO:-0800
TZNAME:PST
DTSTART:20181104T090000
END:STANDARD
END:VTIMEZONE
BEGIN:VEVENT
DTSTART;TZID=America/Los_Angeles:20180112T200000
DTEND;TZID=America/Los_Angeles:20180112T230000
DTSTAMP:20260423T163321
CREATED:20161230T014121Z
LAST-MODIFIED:20171220T213656Z
UID:508-1515787200-1515798000@macslivemusic.com
SUMMARY:The Lloyd L. Tolbert Band
DESCRIPTION:“Blues with Soul” \n$6 Cover
URL:https://macslivemusic.com/event/blues-club-project/
LOCATION:Mac’s Nightclub\, 1626 Willamette St\, Eugene\, OR\, 97401\, United States
ATTACH;FMTTYPE=image/jpeg:https://macslivemusic.com/content/uploads/2016/12/1315251386_10150357380556155_661221154_9956887_287116_n.jpg
END:VEVENT
BEGIN:VEVENT
DTSTART;VALUE=DATE:20180104
DTEND;VALUE=DATE:20180105
DTSTAMP:20260423T163321
CREATED:20171220T212828Z
LAST-MODIFIED:20171220T212828Z
UID:1622-1515024000-1515110399@macslivemusic.com
SUMMARY:Closed
DESCRIPTION:Closed
URL:https://macslivemusic.com/event/closed-9/
LOCATION:OR
END:VEVENT
BEGIN:VEVENT
DTSTART;VALUE=DATE:20180103
DTEND;VALUE=DATE:20180104
DTSTAMP:20260423T163321
CREATED:20171220T212740Z
LAST-MODIFIED:20171220T212740Z
UID:1620-1514937600-1515023999@macslivemusic.com
SUMMARY:Closed
DESCRIPTION:Closed
URL:https://macslivemusic.com/event/closed-8/
LOCATION:OR
END:VEVENT
BEGIN:VEVENT
DTSTART;VALUE=DATE:20180102
DTEND;VALUE=DATE:20180103
DTSTAMP:20260423T163321
CREATED:20171220T212554Z
LAST-MODIFIED:20171220T212554Z
UID:1618-1514851200-1514937599@macslivemusic.com
SUMMARY:Closed
DESCRIPTION:Closed
URL:https://macslivemusic.com/event/closed-7/
LOCATION:OR
END:VEVENT
BEGIN:VEVENT
DTSTART;TZID=America/Los_Angeles:20171231T190000
DTEND;TZID=America/Los_Angeles:20180101T190000
DTSTAMP:20260423T163321
CREATED:20171128T203952Z
LAST-MODIFIED:20171227T212231Z
UID:1564-1514746800-1514833200@macslivemusic.com
SUMMARY:Mac’s New Years Eve Party 2018
DESCRIPTION:Mac’s New Years Eve Party\nTickets on sale Friday\, December 1. \nDoors open at 7:00PM \nSoul Vibrator & Soul Restoration Project – In The Vets Ballroom \nMichael Tracey & The Hi-Tones – In Mac’s \nOnline Ticket Sales Close Friday\, December 29th. Physical tickets will be available with check or cash until sold out.
URL:https://macslivemusic.com/event/macs-new-years-eve-party-2018/
LOCATION:Mac’s Nightclub\, 1626 Willamette St\, Eugene\, OR\, 97401\, United States
ATTACH;FMTTYPE=image/jpeg:https://macslivemusic.com/content/uploads/2017/11/nye-Combo.jpg
END:VEVENT
BEGIN:VEVENT
DTSTART;TZID=America/Los_Angeles:20171223T200000
DTEND;TZID=America/Los_Angeles:20171223T230000
DTSTAMP:20260423T163321
CREATED:20171122T220037Z
LAST-MODIFIED:20171122T220037Z
UID:1551-1514059200-1514070000@macslivemusic.com
SUMMARY:Bluesy Christmas Show
DESCRIPTION:$8 Cover \nFeaturing \nSonny Hess – Guitar \nJoanne Broh – Vocals \nLady Kat True Blue – Vocals \nJim Hively – Bass \nKelly Pierce – Drums \n 
URL:https://macslivemusic.com/event/bluesy-christmas-show/
LOCATION:Mac’s Nightclub\, 1626 Willamette St\, Eugene\, OR\, 97401\, United States
ATTACH;FMTTYPE=image/jpeg:https://macslivemusic.com/content/uploads/2017/11/JB_Xmas_poster_web.jpg
END:VEVENT
BEGIN:VEVENT
DTSTART;TZID=America/Los_Angeles:20171215T200000
DTEND;TZID=America/Los_Angeles:20171215T230000
DTSTAMP:20260423T163321
CREATED:20171122T213111Z
LAST-MODIFIED:20171122T213111Z
UID:1542-1513368000-1513378800@macslivemusic.com
SUMMARY:DTW & DTW 2nd Line
DESCRIPTION:Funky Christmas Tunes \n$8 Cover \n“The jazz dynamo Despite The Whiteness makes professional the art of an uptown funk and rhythm through its composure over their long-leash melodies. Coming from center stage\, the instrument sung melodies prize them as musicians\, but their ability to sing shows their diverse skillset as a full-fledged band. The acronym “DTW” even encourages participation: an ambiguous sentiment\, let’s play politics over their name (Dip Them Wishes\, Don’t Think What\, Dig to Washington etc). Then when we return with something to match the iconic colored hues of mahogany and suspended blues\, listen to the time-tested standards and pop-favorite renditions which trumpet out something like: restoration project in progress. A proven headliner\, the group-dynamics are an exact clash of studied theory and stolen spotlights\, disruptive enough to start a dance party at the sound of the bumbling bass.” – Clarke Stevenson\, Daily Barometer
URL:https://macslivemusic.com/event/dtw-dtw-2nd-line/
LOCATION:Mac’s Nightclub\, 1626 Willamette St\, Eugene\, OR\, 97401\, United States
ATTACH;FMTTYPE=image/jpeg:https://macslivemusic.com/content/uploads/2017/11/14633324_1116703151748810_2151853274360686527_o.jpg
END:VEVENT
BEGIN:VEVENT
DTSTART;TZID=America/Los_Angeles:20171210T160000
DTEND;TZID=America/Los_Angeles:20171210T190000
DTSTAMP:20260423T163321
CREATED:20161205T230445Z
LAST-MODIFIED:20171122T203954Z
UID:246-1512921600-1512932400@macslivemusic.com
SUMMARY:Kindtree-Autism Rocks Ugly Sweater Contest
DESCRIPTION:Ugly Sweater Contest & Fundraiser \nMusic by The Corn Stalkers \nAll Ages
URL:https://macslivemusic.com/event/kindtree-autism-rocks-ugly-sweater-contest/
LOCATION:Mac’s Nightclub\, 1626 Willamette St\, Eugene\, OR\, 97401\, United States
ATTACH;FMTTYPE=image/jpeg:https://macslivemusic.com/content/uploads/2016/12/uglysweater20151.jpg
END:VEVENT
BEGIN:VEVENT
DTSTART;TZID=America/Los_Angeles:20171201T200000
DTEND;TZID=America/Los_Angeles:20171201T230000
DTSTAMP:20260423T163321
CREATED:20171122T211213Z
LAST-MODIFIED:20171122T211213Z
UID:1539-1512158400-1512169200@macslivemusic.com
SUMMARY:Cherry & The Lowboys
DESCRIPTION:Bluesabilly \n$5 Cover \n  \nCherry and the Lowboys serve up greasy grooves inspired by classic hot rod culture. These raucous and rowdy tunes are designed to get your motor running HOT! \nWith the incomparable Cherry on drums and her Lowboys out front\, this trio delivers original rockabilly and blues that will have you shakin’ like bacon at speeds that are more than just a little bit dangerous. It’s time to party\, Slick…Cherry and the Lowboys are in town! \nCherry and the Lowboys include members that are Muddy Award Nominees for Best Regional Act as well as International Blues Challenge finalists! Band members have played the big stages from Memphis to the Portland Waterfront Blues festival as featured performers. \nSo\, take a tip from the Corvallis Fall Festival\, the Corvallis Swing Dance Weekend\, The Eugene Festival\, The Oakridge Amphitheater Concerts in the Park\, Mac’s at the Vets and numerous clubs from Grants Pass to Portland…..they’ve all experienced the special night you can only get from Cherry and the Lowboys… \nCome on out and get down with the original Blues-A-Billy band!
URL:https://macslivemusic.com/event/cherry-the-lowboys/
LOCATION:Mac’s Nightclub\, 1626 Willamette St\, Eugene\, OR\, 97401\, United States
ATTACH;FMTTYPE=image/jpeg:https://macslivemusic.com/content/uploads/2017/11/cherry.jpg
END:VEVENT
BEGIN:VEVENT
DTSTART;VALUE=DATE:20171125
DTEND;VALUE=DATE:20171126
DTSTAMP:20260423T163321
CREATED:20171031T230949Z
LAST-MODIFIED:20171031T230949Z
UID:1511-1511568000-1511654399@macslivemusic.com
SUMMARY:Closed
DESCRIPTION:
URL:https://macslivemusic.com/event/closed-6/
LOCATION:OR
END:VEVENT
BEGIN:VEVENT
DTSTART;VALUE=DATE:20171123
DTEND;VALUE=DATE:20171124
DTSTAMP:20260423T163321
CREATED:20171031T230932Z
LAST-MODIFIED:20171031T230932Z
UID:1513-1511395200-1511481599@macslivemusic.com
SUMMARY:Closed
DESCRIPTION:
URL:https://macslivemusic.com/event/closed-5/
LOCATION:OR
END:VEVENT
BEGIN:VEVENT
DTSTART;TZID=America/Los_Angeles:20171104T200000
DTEND;TZID=America/Los_Angeles:20171104T230000
DTSTAMP:20260423T163321
CREATED:20170622T225350Z
LAST-MODIFIED:20171031T230350Z
UID:1398-1509825600-1509836400@macslivemusic.com
SUMMARY:The Deb Cleveland Band
DESCRIPTION:The Deb Cleveland Band \nClassic & Contemporary Blues \n  \n8:00pm   $6 Cover
URL:https://macslivemusic.com/event/deb-cleveland-band/
LOCATION:Mac’s Nightclub\, 1626 Willamette St\, Eugene\, OR\, 97401\, United States
ATTACH;FMTTYPE=image/jpeg:https://macslivemusic.com/content/uploads/2017/06/8_top.jpg
END:VEVENT
BEGIN:VEVENT
DTSTART;TZID=America/Los_Angeles:20171020T200000
DTEND;TZID=America/Los_Angeles:20171020T230000
DTSTAMP:20260423T163321
CREATED:20170120T230744Z
LAST-MODIFIED:20170915T223123Z
UID:629-1508529600-1508540400@macslivemusic.com
SUMMARY:Timothy Patrick & The Saints
DESCRIPTION:Timothy Patrick & The Saints \nBlues/Rock & Roll/R&B \n$5 Cover \nTimothy Patrick Bio \nTimothy is more than a musician–he’s an entertainer. He weaves songs\, instrumentals\, humor\, audience interaction and visually rich “PatrickPoint” slide shows to engage and connect with audiences.  His goal for every show is to create memorable experiences through music\, stories\, images and comedy. \n  \nTimothy has been a professional entertainer since 1984 when he formed a duo with Pamela Hawks called RIFFLE.  Within the first year\, the band grew to be a quartet\, and in 1988 they became a quintet.  RIFFLE’s specialty is dance music for events and club dates.  In addition to getting people moving\, they work to connect with the audience through showmanship and comedy\, as well as music.  RIFFLE has been going strong for 32 years\, and continues today as a true “party” band! \n  \nTimothy’s solo act is a unique entertainment experience.  In addition to singing and playing acoustic guitar\, he uses a computer\, projector and screen to share elaborate PowerPoint slide shows he calls “PatrickPoint.” For dinner parties\, conventions\, house concerts and in retirement communities\, he presents 20 to 90 minute programs focused on themes.  He currently has 12 titles; check them out via the MULTIMEDIA SHOWS tab on this site.  In addition to this current roster of programs\, he can customize shows for clients. \n  \nTimothy also performs in Eugene’s favorite acoustic duo\, PATRICK & GIRI.  He and the amazing guitarist Peter Giri formed their dynamic act in 2005\, and appeared every week for more than 7 years\, until November of 2013.  They currently play at Eugene area night clubs\, wineries and at private parties. \n  \n  \n 
URL:https://macslivemusic.com/event/riffle/
LOCATION:Mac’s Nightclub\, 1626 Willamette St\, Eugene\, OR\, 97401\, United States
ATTACH;FMTTYPE=image/jpeg:https://macslivemusic.com/content/uploads/2017/01/Macs-10-20-17.jpg
END:VEVENT
BEGIN:VEVENT
DTSTART;TZID=America/Los_Angeles:20171015T140000
DTEND;TZID=America/Los_Angeles:20171015T170000
DTSTAMP:20260423T163321
CREATED:20171012T213307Z
LAST-MODIFIED:20171012T213445Z
UID:1502-1508076000-1508086800@macslivemusic.com
SUMMARY:Celebration of life for Skip "Dr. Rhythum" Falkenbach
DESCRIPTION:a gathering of friends & family\, this is a pot luck style dinner\, please bring one of your favorite dishes to share. \n\n\nThere will be live music\, Love\, Laughter & Reminicing. \n\n\nWill be accepting donations that will go to Melanie Falkenbach.\n\n\nHope to see you all there!
URL:https://macslivemusic.com/event/celebration-life-skip-dr-rhythum-falkenbach/
LOCATION:Mac’s Nightclub\, 1626 Willamette St\, Eugene\, OR\, 97401\, United States
ATTACH;FMTTYPE=image/jpeg:https://macslivemusic.com/content/uploads/2017/10/Dr.-Rhythm-Poster.jpg
END:VEVENT
BEGIN:VEVENT
DTSTART;TZID=America/Los_Angeles:20171014T200000
DTEND;TZID=America/Los_Angeles:20171014T230000
DTSTAMP:20260423T163321
CREATED:20170916T003056Z
LAST-MODIFIED:20171010T223340Z
UID:1487-1508011200-1508022000@macslivemusic.com
SUMMARY:The G3 Band
DESCRIPTION:Rhythm & Blues up close! \nGrattan\, Gregg\, & Gregg has assembled a tasty collection of Blues and R&B interpretations that is sure to please.
URL:https://macslivemusic.com/event/the-g3-band/
LOCATION:Mac’s Nightclub\, 1626 Willamette St\, Eugene\, OR\, 97401\, United States
ATTACH;FMTTYPE=image/jpeg:https://macslivemusic.com/content/uploads/2017/09/g3.jpeg
END:VEVENT
BEGIN:VEVENT
DTSTART;TZID=America/Los_Angeles:20170929T200000
DTEND;TZID=America/Los_Angeles:20170929T230000
DTSTAMP:20260423T163321
CREATED:20170830T195134Z
LAST-MODIFIED:20170927T191051Z
UID:1458-1506715200-1506726000@macslivemusic.com
SUMMARY:Natty Bumpo's Big Band
DESCRIPTION:Variety/Swing/Dance \n$5 Cover
URL:https://macslivemusic.com/event/natty-bumpos-big-band/
LOCATION:OR
ATTACH;FMTTYPE=image/jpeg:https://macslivemusic.com/content/uploads/2017/08/naty.jpg
END:VEVENT
BEGIN:VEVENT
DTSTART;TZID=America/Los_Angeles:20170923T200000
DTEND;TZID=America/Los_Angeles:20170923T230000
DTSTAMP:20260423T163321
CREATED:20161230T012739Z
LAST-MODIFIED:20170905T225739Z
UID:502-1506196800-1506207600@macslivemusic.com
SUMMARY:Rainy Day Blues Society Road To Memphis Blues Fundraiser
DESCRIPTION:  \n2017 Blues Challenge Winners: \n\nJerry Zybach & John Bryson\nCherry & The Lowboys\n\n  \n2017 Youth Showcase \n\nFirst Press\n\n  \nSpecial Guests: \n\nMitch & Dale\nHowlin Dogma\n\n$10 Donation \nContributions directly to the Rainy Day Blues Society are “Tax Deductible.” \n 
URL:https://macslivemusic.com/event/rainy-day-blues-society-road-memphis-fundraiser/
LOCATION:Mac’s Nightclub\, 1626 Willamette St\, Eugene\, OR\, 97401\, United States
ATTACH;FMTTYPE=image/jpeg:https://macslivemusic.com/content/uploads/2016/12/RDBS-2017_RoadToMemphis_web.jpg
END:VEVENT
BEGIN:VEVENT
DTSTART;TZID=America/Los_Angeles:20170921T060000
DTEND;TZID=America/Los_Angeles:20170921T210000
DTSTAMP:20260423T163321
CREATED:20170830T194045Z
LAST-MODIFIED:20170830T194045Z
UID:1450-1505973600-1506027600@macslivemusic.com
SUMMARY:The Joanne Broh Trio
DESCRIPTION:Blues/Variety
URL:https://macslivemusic.com/event/joanne-broh-trio/
LOCATION:OR
ATTACH;FMTTYPE=image/jpeg:https://macslivemusic.com/content/uploads/2017/01/pic3_0.jpg
END:VEVENT
BEGIN:VEVENT
DTSTART;TZID=America/Los_Angeles:20170914T180000
DTEND;TZID=America/Los_Angeles:20170914T210000
DTSTAMP:20260423T163321
CREATED:20161230T012130Z
LAST-MODIFIED:20170830T193826Z
UID:500-1505412000-1505422800@macslivemusic.com
SUMMARY:Door Number Three
DESCRIPTION:Swingin’ Dance Music \n6:00pm No Cover
URL:https://macslivemusic.com/event/door-number-three/
LOCATION:OR
ATTACH;FMTTYPE=image/jpeg:https://macslivemusic.com/content/uploads/2016/12/Door-Number-3.jpg
END:VEVENT
BEGIN:VEVENT
DTSTART;TZID=America/Los_Angeles:20170907T180000
DTEND;TZID=America/Los_Angeles:20170907T210000
DTSTAMP:20260423T163321
CREATED:20170120T224208Z
LAST-MODIFIED:20170830T193729Z
UID:613-1504807200-1504818000@macslivemusic.com
SUMMARY:Rob Tobias & The Northwest Express
DESCRIPTION:Rob Tobias and The Northwest Express features some of Eugene’s finest musicians playing a blend of blues\, folk-rock\, and reggae. Their sound can be described as roots music with positive lyrics and and an upbeat danceable feel.  The group balances it’s original songs with Blues covers\, Motown\, Reggae\, Dylan\, Traffic\, and other classic pop/ soul/ blues/ numbers. \n  \nRob Tobias and The Northwest Express released a CD in 2016 titled “Dreams Coming Round” building on a sound featuring harmonies\, keyboard\, harmonica\, electric guitar\, sax/flute and a solid rhythm section.  Tobias’s songwriting is diverse; including songs of love\, progressive values\, & appreciation of the Northwest and beyond.
URL:https://macslivemusic.com/event/rob-tobias-northwest-express/
LOCATION:Mac’s Nightclub\, 1626 Willamette St\, Eugene\, OR\, 97401\, United States
ATTACH;FMTTYPE=image/jpeg:https://macslivemusic.com/content/uploads/2017/01/Rob-Tobias.jpg
END:VEVENT
BEGIN:VEVENT
DTSTART;TZID=America/Los_Angeles:20170906T180000
DTEND;TZID=America/Los_Angeles:20170906T210000
DTSTAMP:20260423T163321
CREATED:20170120T223845Z
LAST-MODIFIED:20170906T202234Z
UID:611-1504720800-1504731600@macslivemusic.com
SUMMARY:Gus Russell's Birthday Bash!
DESCRIPTION:Jazz & Variety with Gus Russell and Paul Biondi\nNo cover\nAll ages
URL:https://macslivemusic.com/event/paul-biondi-gus-russell/
LOCATION:OR
ATTACH;FMTTYPE=image/jpeg:https://macslivemusic.com/content/uploads/2016/12/Paul_Biondi.jpg
END:VEVENT
BEGIN:VEVENT
DTSTART;TZID=America/Los_Angeles:20170901T200000
DTEND;TZID=America/Los_Angeles:20170901T233000
DTSTAMP:20260423T163321
CREATED:20180823T193500Z
LAST-MODIFIED:20180925T195510Z
UID:2487-1504296000-1504308600@macslivemusic.com
SUMMARY:Retro Night
DESCRIPTION:With DJ SMuve \n$7 Cover
URL:https://macslivemusic.com/event/retro-night-2/
LOCATION:Mac’s Nightclub\, 1626 Willamette St\, Eugene\, OR\, 97401\, United States
END:VEVENT
BEGIN:VEVENT
DTSTART;TZID=America/Los_Angeles:20170831T180000
DTEND;TZID=America/Los_Angeles:20170831T210000
DTSTAMP:20260423T163321
CREATED:20170624T221720Z
LAST-MODIFIED:20170830T195322Z
UID:1408-1504202400-1504213200@macslivemusic.com
SUMMARY:Door Number 3
DESCRIPTION:Swingin’ Dance Music \n6:00pm No Cover
URL:https://macslivemusic.com/event/door-number-3/
LOCATION:Mac’s Nightclub\, 1626 Willamette St\, Eugene\, OR\, 97401\, United States
ATTACH;FMTTYPE=image/jpeg:https://macslivemusic.com/content/uploads/2016/12/Door-Number-3.jpg
END:VEVENT
BEGIN:VEVENT
DTSTART;TZID=America/Los_Angeles:20170824T180000
DTEND;TZID=America/Los_Angeles:20170824T210000
DTSTAMP:20260423T163321
CREATED:20170421T222313Z
LAST-MODIFIED:20170728T200439Z
UID:1327-1503597600-1503608400@macslivemusic.com
SUMMARY:Peter Giri & Hank Shreve
DESCRIPTION:Peter Giri & Hank Shreve \nBlues/Variety/ All Ages \n6:00pm no cover
URL:https://macslivemusic.com/event/peter-lloyd/
LOCATION:Mac’s Nightclub\, 1626 Willamette St\, Eugene\, OR\, 97401\, United States
ATTACH;FMTTYPE=image/jpeg:https://macslivemusic.com/content/uploads/2017/04/lloyd-and-peter.jpg
END:VEVENT
BEGIN:VEVENT
DTSTART;TZID=America/Los_Angeles:20170819T203000
DTEND;TZID=America/Los_Angeles:20170819T233000
DTSTAMP:20260423T163321
CREATED:20170728T201405Z
LAST-MODIFIED:20170811T210259Z
UID:1434-1503174600-1503185400@macslivemusic.com
SUMMARY:The Survivors
DESCRIPTION:The Survivors \nClassic Rock & Roll \n8:30pm   $5 Cover
URL:https://macslivemusic.com/event/to-be-confirmed/
LOCATION:OR
END:VEVENT
BEGIN:VEVENT
DTSTART;TZID=America/Los_Angeles:20170812T160000
DTEND;TZID=America/Los_Angeles:20170812T233000
DTSTAMP:20260423T163321
CREATED:20170728T201803Z
LAST-MODIFIED:20170801T174648Z
UID:1436-1502553600-1502580600@macslivemusic.com
SUMMARY:Mac's Pre-15th Anniversary Bash
DESCRIPTION:Featuring Soul Restoration Project Outside from 6:00pm to 9:00pm \nFollowed by The Blues Harp Showdown starting at 9:00pm with a $12 cover \nHarp Players: \nBill Rhoades \nMike Moothart \nHank Shreve \n  \nBand: \nHenry Cooper \nNewel Briggs \nByron Case \nTony Fugoli
URL:https://macslivemusic.com/event/macs-pre-15th-anniversary-bash/
LOCATION:OR
ATTACH;FMTTYPE=image/jpeg:https://macslivemusic.com/content/uploads/2016/12/1331606006_singharp3.jpg
END:VEVENT
BEGIN:VEVENT
DTSTART;TZID=America/Los_Angeles:20170805T080000
DTEND;TZID=America/Los_Angeles:20170805T233000
DTSTAMP:20260423T163321
CREATED:20170728T201322Z
LAST-MODIFIED:20170728T201457Z
UID:1432-1501920000-1501975800@macslivemusic.com
SUMMARY:Closed For Private Party
DESCRIPTION:
URL:https://macslivemusic.com/event/closed-private-party/
LOCATION:OR
END:VEVENT
BEGIN:VEVENT
DTSTART;TZID=America/Los_Angeles:20170803T180000
DTEND;TZID=America/Los_Angeles:20170803T210000
DTSTAMP:20260423T163321
CREATED:20170728T201228Z
LAST-MODIFIED:20170728T201228Z
UID:1429-1501783200-1501794000@macslivemusic.com
SUMMARY:Brian James & The Revival
DESCRIPTION:Blues \n6:00pm No Cover \nNashville guitar slinger and frontman Brian James brings his brand of blues and soul revival to the stage every time he sets foot on it. The Nashville 2014 Blues Challenge Winner and 2015 IBC representative reawakens the real music inspired by the pioneers while authentically contributing to the future of roots music. A fiery national touring act Brian James and The Revival have played festivals and clubs building a loyal following anywhere they go in support of his first release ’The Remedy” co-produced with drummer Tom DelRossi. Low end power house\, Bart Pike of the late Jerry Reed’s band on bass. Brian James and The Revival represent an analog vibe in digitally saturated age.
URL:https://macslivemusic.com/event/brian-james-revival/
LOCATION:OR
ATTACH;FMTTYPE=image/jpeg:https://macslivemusic.com/content/uploads/2017/07/bj.jpg
END:VEVENT
BEGIN:VEVENT
DTSTART;TZID=America/Los_Angeles:20170729T200000
DTEND;TZID=America/Los_Angeles:20170729T230000
DTSTAMP:20260423T163321
CREATED:20170203T233301Z
LAST-MODIFIED:20170722T021528Z
UID:793-1501358400-1501369200@macslivemusic.com
SUMMARY:Closed For Private Party
DESCRIPTION:
URL:https://macslivemusic.com/event/billy-d-hoodoos-cd-release-party/
LOCATION:Mac’s Nightclub\, 1626 Willamette St\, Eugene\, OR\, 97401\, United States
END:VEVENT
BEGIN:VEVENT
DTSTART;TZID=America/Los_Angeles:20170715T200000
DTEND;TZID=America/Los_Angeles:20170715T230000
DTSTAMP:20260423T163321
CREATED:20170421T222911Z
LAST-MODIFIED:20170622T225621Z
UID:1333-1500148800-1500159600@macslivemusic.com
SUMMARY:The Strange Brew Band
DESCRIPTION:Variety and Dance Band based in Reedsport\, Oregon\n\n\n\nBand Members\nJessica Hart\, rhythm guitar and vocals\nSean Grubb\, harmonica\, percussion and vocals\nRick Colvin\, drums and percussion\n\n\n\n\nBiography\n\n\nBetween its three core members\, The Strange Brew Band has well over a century of professional experience to its credit. Spanning several generations and a broad mix of musical influences\, this band truly has something for everyone\, and nothing makes them happier than a crowded dance floor. \nJessica Hart (guitar/vocals)\, Sean Grubb (harmonica/percussion/vocals)\, and Rick Colvin(drums/percussion) came together as a result of a weekly jam session at the local coffeehouse\, Jitterbug ‘n’ Java. The first time they played together\, everybody in the room knew they had just witnessed something magical. It was like the three of them been playing together for years. Since then\, our eclectic mix of Blues\, Rock ‘n’ Roll\, Swing\, Country\, R & B\, Jazz\, Latin\, and even a bit of Classical has been packing the house every week. \nWhether it’s a wedding\, birthday party\, private affair\, corporate event\, or holiday celebration\, The Strange Brew Band provides the perfect soundtrack for success on your special day. \n\n\n\n\n\n\n\nAwards\n2016 Bicoastal Media Soundwaves Talent Showcase Winner!
URL:https://macslivemusic.com/event/strange-brew-band/
LOCATION:Mac’s Nightclub\, 1626 Willamette St\, Eugene\, OR\, 97401\, United States
ATTACH;FMTTYPE=image/jpeg:https://macslivemusic.com/content/uploads/2017/04/brew.jpg
END:VEVENT
END:VCALENDAR