BEGIN:VCALENDAR
VERSION:2.0
PRODID:-//Mac&#039;s Restaurant - ECPv6.10.0//NONSGML v1.0//EN
CALSCALE:GREGORIAN
METHOD:PUBLISH
X-WR-CALNAME:Mac&#039;s Restaurant
X-ORIGINAL-URL:https://macslivemusic.com
X-WR-CALDESC:Events for Mac&#039;s Restaurant
REFRESH-INTERVAL;VALUE=DURATION:PT1H
X-Robots-Tag:noindex
X-PUBLISHED-TTL:PT1H
BEGIN:VTIMEZONE
TZID:America/Los_Angeles
BEGIN:DAYLIGHT
TZOFFSETFROM:-0800
TZOFFSETTO:-0700
TZNAME:PDT
DTSTART:20160313T100000
END:DAYLIGHT
BEGIN:STANDARD
TZOFFSETFROM:-0700
TZOFFSETTO:-0800
TZNAME:PST
DTSTART:20161106T090000
END:STANDARD
BEGIN:DAYLIGHT
TZOFFSETFROM:-0800
TZOFFSETTO:-0700
TZNAME:PDT
DTSTART:20170312T100000
END:DAYLIGHT
BEGIN:STANDARD
TZOFFSETFROM:-0700
TZOFFSETTO:-0800
TZNAME:PST
DTSTART:20171105T090000
END:STANDARD
END:VTIMEZONE
BEGIN:VEVENT
DTSTART;TZID=America/Los_Angeles:20170128T200000
DTEND;TZID=America/Los_Angeles:20170128T200000
DTSTAMP:20260424T034743
CREATED:20161230T013609Z
LAST-MODIFIED:20170120T182647Z
UID:505-1485633600-1485633600@macslivemusic.com
SUMMARY:The Blues Harp Showdown
DESCRIPTION:Featuring Hank Shreve\, Bill Rhoades\, Henry Cooper & many more! \n$10 Cover
URL:https://macslivemusic.com/event/blues-harp-showdown/
LOCATION:Mac’s Nightclub\, 1626 Willamette St\, Eugene\, OR\, 97401\, United States
ATTACH;FMTTYPE=image/jpeg:https://macslivemusic.com/content/uploads/2016/12/1331606006_singharp3.jpg
END:VEVENT
BEGIN:VEVENT
DTSTART;TZID=America/Los_Angeles:20170112T180000
DTEND;TZID=America/Los_Angeles:20170112T210000
DTSTAMP:20260424T034743
CREATED:20161205T235307Z
LAST-MODIFIED:20161230T011233Z
UID:272-1484244000-1484254800@macslivemusic.com
SUMMARY:Shreve Jones Shreve Project
DESCRIPTION:Blues/Soul/Variety\nAll Ages\nNo  Cover
URL:https://macslivemusic.com/event/shreve-jones-shreve-project-2/
LOCATION:Mac’s Nightclub\, 1626 Willamette St\, Eugene\, OR\, 97401\, United States
ATTACH;FMTTYPE=image/jpeg:https://macslivemusic.com/content/uploads/2016/12/Shreve_Project.jpg
END:VEVENT
BEGIN:VEVENT
DTSTART;TZID=America/Los_Angeles:20161231T190000
DTEND;TZID=America/Los_Angeles:20170101T190000
DTSTAMP:20260424T034743
CREATED:20161206T001910Z
LAST-MODIFIED:20171128T203530Z
UID:278-1483210800-1483297200@macslivemusic.com
SUMMARY:Mac’s New Years Eve Party
DESCRIPTION:Mac’s New Years Eve Party\nDoors open at 7:00PM \nSoul Vibrator & Soul Restoration Project – In The Vets Ballroom \nMichael Tracey & The Hi-Tones – In Mac’s \n 
URL:https://macslivemusic.com/event/macs-nye-party/
LOCATION:Mac’s Nightclub\, 1626 Willamette St\, Eugene\, OR\, 97401\, United States
ATTACH;FMTTYPE=image/jpeg:https://macslivemusic.com/content/uploads/2017/04/srp.jpg
END:VEVENT
BEGIN:VEVENT
DTSTART;TZID=America/Los_Angeles:20161027T180000
DTEND;TZID=America/Los_Angeles:20161027T210000
DTSTAMP:20260424T034743
CREATED:20161017T212911Z
LAST-MODIFIED:20161017T212911Z
UID:65-1477591200-1477602000@macslivemusic.com
SUMMARY:Skip Jones & Little Iffy
DESCRIPTION:Blues/R&B/Variety \nAll Age
URL:https://macslivemusic.com/event/skip-jones-little-iffy/
LOCATION:Mac’s Nightclub\, 1626 Willamette St\, Eugene\, OR\, 97401\, United States
END:VEVENT
BEGIN:VEVENT
DTSTART;TZID=America/Los_Angeles:20161015T200000
DTEND;TZID=America/Los_Angeles:20161015T230000
DTSTAMP:20260424T034743
CREATED:20161013T173348Z
LAST-MODIFIED:20161013T173348Z
UID:21-1476561600-1476572400@macslivemusic.com
SUMMARY:The Deb Cleveland Band
DESCRIPTION:
URL:https://macslivemusic.com/event/the-deb-cleveland-band/
LOCATION:Mac’s Nightclub\, 1626 Willamette St\, Eugene\, OR\, 97401\, United States
END:VEVENT
END:VCALENDAR