BEGIN:VCALENDAR
VERSION:2.0
PRODID:-//Mac&#039;s Restaurant - ECPv6.10.0//NONSGML v1.0//EN
CALSCALE:GREGORIAN
METHOD:PUBLISH
X-WR-CALNAME:Mac&#039;s Restaurant
X-ORIGINAL-URL:https://macslivemusic.com
X-WR-CALDESC:Events for Mac&#039;s Restaurant
REFRESH-INTERVAL;VALUE=DURATION:PT1H
X-Robots-Tag:noindex
X-PUBLISHED-TTL:PT1H
BEGIN:VTIMEZONE
TZID:America/Los_Angeles
BEGIN:DAYLIGHT
TZOFFSETFROM:-0800
TZOFFSETTO:-0700
TZNAME:PDT
DTSTART:20220313T100000
END:DAYLIGHT
BEGIN:STANDARD
TZOFFSETFROM:-0700
TZOFFSETTO:-0800
TZNAME:PST
DTSTART:20221106T090000
END:STANDARD
END:VTIMEZONE
BEGIN:VEVENT
DTSTART;VALUE=DATE:20220101
DTEND;VALUE=DATE:20220107
DTSTAMP:20260423T202311
CREATED:20211223T001509Z
LAST-MODIFIED:20211223T001509Z
UID:5127-1640995200-1641513599@macslivemusic.com
SUMMARY:Closed
DESCRIPTION:Happy new year!
URL:https://macslivemusic.com/event/closed-27/
LOCATION:Mac’s Nightclub\, 1626 Willamette St\, Eugene\, OR\, 97401\, United States
END:VEVENT
BEGIN:VEVENT
DTSTART;TZID=America/Los_Angeles:20220112T183000
DTEND;TZID=America/Los_Angeles:20220112T210000
DTSTAMP:20260423T202311
CREATED:20200730T213603Z
LAST-MODIFIED:20211222T233219Z
UID:4588-1642012200-1642021200@macslivemusic.com
SUMMARY:Jazz & Variety
DESCRIPTION:With Paul Biondi & Gus Russell \n$5 Minimum purchase \nAll Ages \nPlease tip the artists!
URL:https://macslivemusic.com/event/jazz-variety-11/
LOCATION:Mac’s Nightclub\, 1626 Willamette St\, Eugene\, OR\, 97401\, United States
ATTACH;FMTTYPE=image/jpeg:https://macslivemusic.com/content/uploads/2016/12/Paul_Biondi.jpg
END:VEVENT
BEGIN:VEVENT
DTSTART;TZID=America/Los_Angeles:20220113T183000
DTEND;TZID=America/Los_Angeles:20220113T213000
DTSTAMP:20260423T202311
CREATED:20210623T224841Z
LAST-MODIFIED:20211222T231640Z
UID:4941-1642098600-1642109400@macslivemusic.com
SUMMARY:The Traceys
DESCRIPTION:$5 minimum purchase \nplease tip the artists! \nBlues/Soul/Variety \nThe Traceys are a contemporary acoustic band that prides itself on its originality and soulful delivery. Their repertoire includes a wide variety of musical styles\, and features the fine three and four part harmony singing that has become their hallmark. While it’s hard to put a finger on the band’s musical style\, their influences include Americana\, Folk\, Bluegrass\, and Country Blues traditions. Their song selection includes both original and traditional compositions. \nThe core founders of the group\, brothers Larry and Michael Tracey\, began performing together in the Eugene area in 1989. Larry was a well established acoustic guitar player and singer songwriter on the Eugene music scene\, and Michael was a budding harmonica player and blues singer. Since the two joined forces to form The Traceys\, the band has performed extensively at festivals and venues up and down the west coast. The present band lineup is rounded out by veteran bass player and vocalist Steven Myers\, Sylvain DuPlant on Mandolin and Guitar\, and Root Tracey on vocals and percussion. \nMichael first met Root in 2010\, and the two were wed in 2011. When Larry and Michael started talking about getting the band back together in 2013\, both agreed they needed a female vocalist. Michael had been hearing his wife singing around the house from time to time\, and believed he could hear something special in her voice that was exactly what The Traceys needed. It has turned out to be a perfect fit\, and Root Tracey has been wowing audiences with her passionate soul singing and spot on percussion ever since. In addition\, Root is a powerful songwriter and has written several songs in the band’s repertoire. \nAs well as outstanding vocal harmonies\, The Traceys also feature the stellar harmonica playing and soulful singing of Michael Tracey. Michael was crowned 2007 Northwest Harmonica Champion and performed at the Willamette Valley Music Festival at the Cuthbert Amphitheater as one of the winners of the New Singer/Songwriter Competition. Michael was also crowned Best Male Blues Vocalist three years running\, from 2008 through 2010\, at the blues awards ceremony held by The Rainy Day Blues Society in Eugene. \nThe songs that The Traceys select to perform have special meaning to them. They believe that the songs that resonate with them will also touch the hearts of their audience\, and that is what they aim to do. Their soulful\, sometimes deeply personal\, music is known to take audiences on a musical journey. At a Traceys concert you may laugh\, sing along and\, perhaps\, even shed a tear or two. This unique band’s powerful music is not to be missed.
URL:https://macslivemusic.com/event/the-traceys-2/
LOCATION:Mac’s Nightclub\, 1626 Willamette St\, Eugene\, OR\, 97401\, United States
ATTACH;FMTTYPE=image/jpeg:https://macslivemusic.com/content/uploads/2021/06/the-traceys-min-scaled.jpg
END:VEVENT
BEGIN:VEVENT
DTSTART;TZID=America/Los_Angeles:20220119T183000
DTEND;TZID=America/Los_Angeles:20220119T213000
DTSTAMP:20260423T202311
CREATED:20210623T225203Z
LAST-MODIFIED:20211222T231540Z
UID:4946-1642617000-1642627800@macslivemusic.com
SUMMARY:Shelley James & Callan Coleman
DESCRIPTION:All Ages\n$5 Minimum Purchase\nPlease tip the artists!\nvocalist/musician band leader\, event planner\, wife\, mother\, and friend Shelley James\nShelley grew up in a small family who performed music together throughout her youth. Her father was a music major and semenary graduate who had a gift for arranging 4 part harmonies. So Shelley’s ear developed being the youngest singing Alto\, her big brother sang tenor\, Mom had Soprano\, and Daddy sang the bass. They toured Western Canada for several years before she went off to college. She started a band with a flautist and jazz guitar player who performed jazz and pop much to the delight of the following they grew in the northwest. They recorded a CD\, and soon wanted to add bass and drums. This is how Shelley met Callan her bass player husband of 25 years. They went on to collaborate\, write and record and perform together. Shelley has been a trusted worship leader in her home church\, and in numerous churches around the area. She became known for being able to bless the house when needed as a help if the team is on vacation or transition. She started her band Shelley James m u s i c b o x in 1997 which is still together as a 6 piece smooth 80s pop/rock outfit. She is also a founding member and manager of Satin Love Orchestra for 22 years. Shelley and Cal spend a few years in LA where they collaborated with musicians Sheila E.\, Terron Brooks\, Jonathan Butler and others. They continue to perform\, write and record in Lane County\, or can be seen on the beaches of O’Ahu where they spend as much time as possible too. They enjoy their daughter Eva\, and 4 cats as well as their family and friends to the fullest.
URL:https://macslivemusic.com/event/shelley-james-callan-coleman-6/
LOCATION:Mac’s Nightclub\, 1626 Willamette St\, Eugene\, OR\, 97401\, United States
ATTACH;FMTTYPE=image/jpeg:https://macslivemusic.com/content/uploads/2021/06/shelley-and-cal-year.jpg
END:VEVENT
BEGIN:VEVENT
DTSTART;TZID=America/Los_Angeles:20220122T190000
DTEND;TZID=America/Los_Angeles:20220122T220000
DTSTAMP:20260423T202311
CREATED:20170926T180834Z
LAST-MODIFIED:20220107T200327Z
UID:1492-1642878000-1642888800@macslivemusic.com
SUMMARY:The Jimmy Haggard Band
DESCRIPTION:The Jimmy Haggard Band \nBlues/R&B \nCome out and enjoy one of Eugene’s and Oregon’s hottest recording artists on the 2021 Roots Music Report Charts. \n  \n\nDec 2021:  #17 Global Blues-Rock Album\nDec 2021:  #11 Global Blues-Rock Song\nDec 2021:  #3 Oregon Album (all genres)\nDec 2021:  6 Songs in the Oregon Top 10 songs (all genres)\n\n  \n“Together\, their undeniable groove is soulful and smart as they navigate their burning blues from various emotional angles.” Joe Ross\, Roots Music Report \n 
URL:https://macslivemusic.com/event/jimmy-haggard-band/
LOCATION:Mac’s Nightclub\, 1626 Willamette St\, Eugene\, OR\, 97401\, United States
ATTACH;FMTTYPE=image/jpeg:https://macslivemusic.com/content/uploads/2017/09/jimmyhaggard-facebooke-event-2022-002-scaled.jpg
END:VEVENT
BEGIN:VEVENT
DTSTART;TZID=America/Los_Angeles:20220126T183000
DTEND;TZID=America/Los_Angeles:20220126T213000
DTSTAMP:20260423T202311
CREATED:20211117T225707Z
LAST-MODIFIED:20220107T224457Z
UID:5085-1643221800-1643232600@macslivemusic.com
SUMMARY:Jazz & Variety
DESCRIPTION:Featuring Paul Biondi & Gus Russell \n$5 Minimum purchase \nAll Ages \nPlease tip the artists!
URL:https://macslivemusic.com/event/jazz-variety-13/
LOCATION:Mac’s Nightclub\, 1626 Willamette St\, Eugene\, OR\, 97401\, United States
ATTACH;FMTTYPE=image/jpeg:https://macslivemusic.com/content/uploads/2021/11/paul.jpg
END:VEVENT
BEGIN:VEVENT
DTSTART;TZID=America/Los_Angeles:20220127T183000
DTEND;TZID=America/Los_Angeles:20220127T213000
DTSTAMP:20260423T202311
CREATED:20211223T001245Z
LAST-MODIFIED:20211223T001711Z
UID:5124-1643308200-1643319000@macslivemusic.com
SUMMARY:Northwest Premium Comedy
DESCRIPTION:No Cover \nPresented by: Eugene Comedy Crescendo \nHosted By James Manning III \nFeaturing: Dash Thompson\, Jake Silberman\, Jen Jay\,  & James Blame \nwith special appearances by: Bert Walpack\, Penny Glass\, & Temple The Bard \n 
URL:https://macslivemusic.com/event/northwest-premium-comedy/
LOCATION:Mac’s Nightclub\, 1626 Willamette St\, Eugene\, OR\, 97401\, United States
ATTACH;FMTTYPE=image/jpeg:https://macslivemusic.com/content/uploads/2021/12/ECCJan27-scaled.jpg
END:VEVENT
BEGIN:VEVENT
DTSTART;TZID=America/Los_Angeles:20220129T190000
DTEND;TZID=America/Los_Angeles:20220129T220000
DTSTAMP:20260423T202311
CREATED:20190327T215405Z
LAST-MODIFIED:20220126T195948Z
UID:3694-1643482800-1643493600@macslivemusic.com
SUMMARY:Rock 'n Rewind
DESCRIPTION:$7 cover \nPlease tip the artists! \n\n\n\n\n\nRock ‘n Rewind is a dynamic classic rock band that consists of players with a passion for rock ‘n roll\, who love to have fun and engage their audiences. \nBand founder\, George Nash Khier\, has been performing since the ’70s. He plays keyboards\, rhythm guitar and harmonica\, and provides back-up and lead vocals. Among other projects\, he was a member of The Falling Spikes during the late ’80s\, followed by The London Flush (Yardbirds tribute band). George is a Eugene legend\, known and loved by many in the community. \nKnown for his soulful shredding and passion for the blues\, lead-guitar player and vocalist Dan Parslow has toured and recorded for decades. He’s performed with many artists\, including Bill Kreutzmann (Grateful Dead)\, Taj Mahal\, Buffy Sainte-Marie\, Mike Gordon (Phish)\, Steve Kimock. Luther “Guitar Jr.” Johnson\, and Charlie Musselwhite. Dan has released 15 solo albums\, in addition to multiple live recordings. \nAlex Huber is a professional drummer\, saxophonist\, singer and technical writer. He’s studied drumming for 18 years with many renowned drummers\, including Michael Shrieve\, Kenny Reed and Bibbs Goff. Alex has appeared on three albums and one short film. He currently performs with a variety of blues\, rock and jazz groups\, most recently with the Barb Dzuro Trio\, the Magic Wanders\, and Rock ‘n Rewind. \nBass Guitarist and vocalist Marcus Mueller is a studio musician and performing artist. He was a member of multiple bands for years in and around his home town of San Francisco\, California before moving to Eugene Oregon\, where he now makes his home. Marcus has jammed with numerous notable artists\, including Gregg Allman and Huey Lewis. \nJeff Volk is a self-made singer and percussionist\, a newbie to the industry who satisfies his number one bucket list every time he performs live. He has a powerful and engaging stage presence\,with a raw and penetrating voice. And\, he loves puppies!
URL:https://macslivemusic.com/event/rockin-rewind/
LOCATION:Mac’s Nightclub\, 1626 Willamette St\, Eugene\, OR\, 97401\, United States
ATTACH;FMTTYPE=image/jpeg:https://macslivemusic.com/content/uploads/2019/03/Rock-n-Rewind-pic-1-2020-scaled.jpeg
END:VEVENT
END:VCALENDAR