BEGIN:VCALENDAR
VERSION:2.0
PRODID:-//Mac&#039;s Restaurant - ECPv6.10.0//NONSGML v1.0//EN
CALSCALE:GREGORIAN
METHOD:PUBLISH
X-WR-CALNAME:Mac&#039;s Restaurant
X-ORIGINAL-URL:https://macslivemusic.com
X-WR-CALDESC:Events for Mac&#039;s Restaurant
REFRESH-INTERVAL;VALUE=DURATION:PT1H
X-Robots-Tag:noindex
X-PUBLISHED-TTL:PT1H
BEGIN:VTIMEZONE
TZID:America/Los_Angeles
BEGIN:DAYLIGHT
TZOFFSETFROM:-0800
TZOFFSETTO:-0700
TZNAME:PDT
DTSTART:20220313T100000
END:DAYLIGHT
BEGIN:STANDARD
TZOFFSETFROM:-0700
TZOFFSETTO:-0800
TZNAME:PST
DTSTART:20221106T090000
END:STANDARD
END:VTIMEZONE
BEGIN:VEVENT
DTSTART;TZID=America/Los_Angeles:20220406T190000
DTEND;TZID=America/Los_Angeles:20220406T220000
DTSTAMP:20260423T124817
CREATED:20220225T001518Z
LAST-MODIFIED:20220328T185848Z
UID:5185-1649271600-1649282400@macslivemusic.com
SUMMARY:RDBS Blues Showcase Featuring Joanne Broh & Jerry Zybach
DESCRIPTION:Joanne Broh is a column of energy\, known for her powerful\, soulful voice and the passion of her performance. She is considered one of the most popular vocalists of blues\, jazz\, and Motown around the NW. A dynamic blend of smokin’ blues and R&B with a splash of funk\, Joanne Broh will get you dancing and wanting more!\nJerry is known throughout the Pacific Northwest and Northern California for his smokin’ electric slide guitarwork\, his masterful finger-picking Delta blues\, and his tasteful slide and solo work on his homemade cigar box guitars. His music is always foot-stompin’\, danceable\, and authentic — combining traditional blues with a contemporary energy.\n( Eugene Register Guard )\n​All Ages\n \nNo Cover \nPlease Tip the artists! \nHank has shared the stage with delta-blues legend Honeyboy Edwards\, Smash Mouth\, Merle Haggard\, Norton Buffalo\, Gregg Rolie\, Marcia Ball\, Sista Monica Parker\, Amy Clawson & Pam Tillis\, Terry Robb\, Magic Dick\, Lee Oskar\, The Fabulous Thunderbirds\, Karen Lovely\, Deanna Bogart\, Roger Fisher (from Heart)\, Curtis Salgado\, DK Stewart\, Lloyd Jones\, Paul deLay and many other well-known national and international acts. \n  ​ \nHank and his band\, (The Hank Shreve Band) have performed at numerous notable venues/events such as The Waterfront Blues Festival\, Big Sky Blues Festival\, Fourth At The Fort Festival\, Willamette Blues/Brews Festival\, Eugene Celebration\, Oregon State Fair\, Highway 99 Blues Club (Seattle)\, Jazzbones (Tacoma)\, Sasquatch Brewfest (Eugene)….The Hank Shreve Band has won the CBA’s Muddy Award for Best New Act 2012\, and Best Regional Act 2013\, 2014\, 2016\, and 2018. \nApart from being one of Eugene\, Oregon’s  respected and well-known musicians\, Hank is an official Artist-In-Residency at Music Masters in South Eugene where he teaches music with a curriculum that includes Harmonica\, Drums\, Guitar\, Lap-Steel and Piano. 
URL:https://macslivemusic.com/event/rdbs-blues-showcase-featuring-hank-bill-shreve/
LOCATION:Mac’s Nightclub\, 1626 Willamette St\, Eugene\, OR\, 97401\, United States
ATTACH;FMTTYPE=image/jpeg:https://macslivemusic.com/content/uploads/2021/01/JoanneBroh_01160s__HeadshotsEugene.jpg
END:VEVENT
BEGIN:VEVENT
DTSTART;TZID=America/Los_Angeles:20220407T190000
DTEND;TZID=America/Los_Angeles:20220407T220000
DTSTAMP:20260423T124817
CREATED:20211120T221550Z
LAST-MODIFIED:20220328T190843Z
UID:5103-1649358000-1649368800@macslivemusic.com
SUMMARY:Thursday Night Downbeat
DESCRIPTION:Featuring Skip Jones\, Steve Arriola\, Theo Halpert & Sylvain Duplant \n$5 minimum purchase \nPlease tip the artists! \n\nSkip & his group\, The Spirit of New Orleans\, play a smattering of the great rhythm and blues hits of the ’50s and ’60s\, as well as some great pop & rock organ classics of the ’60s and ’70’s. Add to that a bonifide New Orleans piano boogie-woogie and the party follows! \nOver the last 20 years\, frontman Skip Jones has enjoyed working with such bands as: The Coasters\, The Drifters\, The Platters\, Joe Houston & Bo Diddley. He toured with the great Canned Heat in 1985-86 holding down Larry Taylor’s bass position. Skip has worked with The Etouffee Band\, James Thornbury\, James Bradshaw and Henry Vestine extensively. Skip can be seen performing at least 4 times a week in Eugene at the jams and with his own band The Spirit of New Orleans. He’s taken over for the Rooster Man hosting Eugene’s longest running Blues Jam. \nFor over 30 years\, Stephen Arriola has made his music in nightclubs\, theaters\, hotel circuits\, concert halls\, festivals\, and on recordings\, using his musical skills to support songwriters as a Multi-Instrumentalist\, Vocalist\, Accompanist\, and\nComposer/Arranger.\nHe also employs his professional skills as a Consultant and Private Music Teacher.\nStephen studied guitar under GIT graduate Billy Paris\, and studied Music Theory\, Audio Engineering and Jazz at Lane Community College. \nCurrently\, he performs as leader of The Steve Arriola Band\, an Americana-Rock and Roll Band.\nHe divides the rest of his time as lead guitar for Skip Jones and the Spirit of New Orleans\, a Piano driven Blues quartet\, and The Concrete Delta Trio\, a guitar driven collective of friends playing Old Country Music\, Blues and pop. He is often employed in various duos\, trios and full bands featuring Joanne Broh\, an award winning vocalist in the Pacific Northwest.
URL:https://macslivemusic.com/event/thursday-night-downbeat-10/
LOCATION:Mac’s Nightclub\, 1626 Willamette St\, Eugene\, OR\, 97401\, United States
ATTACH;FMTTYPE=image/png:https://macslivemusic.com/content/uploads/2021/06/Thursdays-at-Macs-11x17-1.png
END:VEVENT
BEGIN:VEVENT
DTSTART;TZID=America/Los_Angeles:20220421T190000
DTEND;TZID=America/Los_Angeles:20220421T220000
DTSTAMP:20260423T124817
CREATED:20211120T221343Z
LAST-MODIFIED:20220328T190910Z
UID:5101-1650567600-1650578400@macslivemusic.com
SUMMARY:Thursday Night Downbeat
DESCRIPTION:Featuring Skip Jones\, Steve Arriola\, Theo Halpert & Sylvain Duplant \n$5 minimum purchase \nPlease tip the artists! \n\nSkip & his group\, The Spirit of New Orleans\, play a smattering of the great rhythm and blues hits of the ’50s and ’60s\, as well as some great pop & rock organ classics of the ’60s and ’70’s. Add to that a bonifide New Orleans piano boogie-woogie and the party follows! \nOver the last 20 years\, frontman Skip Jones has enjoyed working with such bands as: The Coasters\, The Drifters\, The Platters\, Joe Houston & Bo Diddley. He toured with the great Canned Heat in 1985-86 holding down Larry Taylor’s bass position. Skip has worked with The Etouffee Band\, James Thornbury\, James Bradshaw and Henry Vestine extensively. Skip can be seen performing at least 4 times a week in Eugene at the jams and with his own band The Spirit of New Orleans. He’s taken over for the Rooster Man hosting Eugene’s longest running Blues Jam. \nFor over 30 years\, Stephen Arriola has made his music in nightclubs\, theaters\, hotel circuits\, concert halls\, festivals\, and on recordings\, using his musical skills to support songwriters as a Multi-Instrumentalist\, Vocalist\, Accompanist\, and\nComposer/Arranger.\nHe also employs his professional skills as a Consultant and Private Music Teacher.\nStephen studied guitar under GIT graduate Billy Paris\, and studied Music Theory\, Audio Engineering and Jazz at Lane Community College. \nCurrently\, he performs as leader of The Steve Arriola Band\, an Americana-Rock and Roll Band.\nHe divides the rest of his time as lead guitar for Skip Jones and the Spirit of New Orleans\, a Piano driven Blues quartet\, and The Concrete Delta Trio\, a guitar driven collective of friends playing Old Country Music\, Blues and pop. He is often employed in various duos\, trios and full bands featuring Joanne Broh\, an award winning vocalist in the Pacific Northwest.
URL:https://macslivemusic.com/event/thursday-night-downbeat-9/
LOCATION:Mac’s Nightclub\, 1626 Willamette St\, Eugene\, OR\, 97401\, United States
ATTACH;FMTTYPE=image/png:https://macslivemusic.com/content/uploads/2021/06/Thursdays-at-Macs-11x17-1.png
END:VEVENT
BEGIN:VEVENT
DTSTART;TZID=America/Los_Angeles:20220426T190000
DTEND;TZID=America/Los_Angeles:20220426T223000
DTSTAMP:20260423T124817
CREATED:20211117T230520Z
LAST-MODIFIED:20220328T185245Z
UID:5091-1650999600-1651012200@macslivemusic.com
SUMMARY:Rooster's Blues Jam
DESCRIPTION:Hosted by Skip Jones\n$5 minimum purchase\nAll ages\nPlease tip the artists!
URL:https://macslivemusic.com/event/roosters-blues-jam-35/
LOCATION:Mac’s Nightclub\, 1626 Willamette St\, Eugene\, OR\, 97401\, United States
ATTACH;FMTTYPE=image/jpeg:https://macslivemusic.com/content/uploads/2021/06/Rooster-Blues-Jam-11x17-1-scaled.jpg
END:VEVENT
BEGIN:VEVENT
DTSTART;TZID=America/Los_Angeles:20220427T190000
DTEND;TZID=America/Los_Angeles:20220427T220000
DTSTAMP:20260423T124817
CREATED:20220126T220303Z
LAST-MODIFIED:20220330T200325Z
UID:5157-1651086000-1651096800@macslivemusic.com
SUMMARY:Paul Biondi\, Skip Jones & Friends
DESCRIPTION:Featuring Paul Biondi\, Skip Jones\, Gus Russell & Rick Markstrom \n$5 minimum purchase \nAll ages \nPlease tip the artists!
URL:https://macslivemusic.com/event/paul-biondi-skip-jones-friends-2/
LOCATION:Mac’s Nightclub\, 1626 Willamette St\, Eugene\, OR\, 97401\, United States
ATTACH;FMTTYPE=image/jpeg:https://macslivemusic.com/content/uploads/2022/01/Paul-Gus-RIck-Skip-scaled.jpg
END:VEVENT
BEGIN:VEVENT
DTSTART;TZID=America/Los_Angeles:20220428T190000
DTEND;TZID=America/Los_Angeles:20220428T193000
DTSTAMP:20260423T124817
CREATED:20220419T210905Z
LAST-MODIFIED:20220419T210905Z
UID:5235-1651172400-1651174200@macslivemusic.com
SUMMARY:NW Premium Comedy Featuring Nikita Oster & Paul Curry
DESCRIPTION:$15 Advance Click here to get your advance tickets today! \n$20 Day of show \nHosted By: James “Blame” & James Manning the 3rd \nwith Santi Granidos & special guest Eric Sparks
URL:https://macslivemusic.com/event/nw-premium-comedy-featuring-nikita-oster-paul-curry/
LOCATION:Mac’s Nightclub\, 1626 Willamette St\, Eugene\, OR\, 97401\, United States
ATTACH;FMTTYPE=image/jpeg:https://macslivemusic.com/content/uploads/2022/04/ECCApril28-scaled.jpg
END:VEVENT
BEGIN:VEVENT
DTSTART;TZID=America/Los_Angeles:20220429T190000
DTEND;TZID=America/Los_Angeles:20220429T230000
DTSTAMP:20260423T124817
CREATED:20211117T212510Z
LAST-MODIFIED:20220328T225833Z
UID:5065-1651258800-1651273200@macslivemusic.com
SUMMARY:Ben Rice
DESCRIPTION:$7 Cover \n2019 Blues Blast Award Recipient “Sean Costello Rising Star” \n3x Blues Music Award Nominee 2019 \nhttps://www.benricelive.com/ \nBen Rice has been leaving huge impressions on audiences around the Northwest and winning awards for his vocals and guitar playing for the last seven years. In 2014 at the International Blues Challenge in Memphis\, Tennessee\, he left the audience speechless with a raw emotional delivery of his version of “Key To The Highway.” On his second consecutive trip to the International Blues Challenge\, he made the finals in the solo/duo category and was awarded the St. Blues Guitarist award for best guitarist. \n   His debut on the international stage in 2014\, was a landmark step forward in his career from being a regional act playing primarily around the NW to a national and international touring artist. Captivating audiences and presenting himself as someone who has a lot of depth in the various soundscapes of American music\, Ben is gaining fans all over the world who love his playing\, singing\, songs\, and stage performance. \n   His original music blends Soul\, Delta-Blues\, Rockabilly\, Jazz\, and Funk into a Roots Stew. Influenced heavily by his parents record collection\, from Al Green to Alice Cooper\, Teddy Pendergrass to Marshall Tucker\, at a young age Ben began investigating Blues and it’s history. Starting with B.B. King and going through the various regions and time periods\, he is inspired and influenced by historical figures like Muddy Waters\, Mississippi Fred McDowell\, Robert Johnson\, Big Bill Broonzy\, and Skip James to name a few. Ben spent his college years studying Jazz Guitar at the University of Oregon as well as classical music while also playing in the Celtic Folk ensemble and Mariachi group on campus. He is well versed in a lot of musical styles that all contribute to the unique sound of his originals. \n   As a performer Ben looks to the greats for inspiration and is always striving to connect with the audience through his music and stories. He also has an interesting arsenal of guitars playing resophonic guitars and homemade cigar box guitars. More important than the visual appeal Ben has an amazing way of making these guitars sound\, often bringing audiences to tears with his slide playing. \n   Ben Rice has been a growing talent in the NW\, winning awards for his singing\, guitar work\, writing\, and performing. He is stepping into the national and international scene using the vast influences of the American music to fuel his music and performance.
URL:https://macslivemusic.com/event/ben-rice/
LOCATION:Mac’s Nightclub\, 1626 Willamette St\, Eugene\, OR\, 97401\, United States
END:VEVENT
BEGIN:VEVENT
DTSTART;TZID=America/Los_Angeles:20220430T190000
DTEND;TZID=America/Los_Angeles:20220430T220000
DTSTAMP:20260423T124817
CREATED:20210526T222638Z
LAST-MODIFIED:20220328T230216Z
UID:4890-1651345200-1651356000@macslivemusic.com
SUMMARY:The Jeanne Gregg Band
DESCRIPTION:$7 Cover \nAll Ages \nPlease tip the artists! \nThe Jeanne Gregg Band has gone through a few ideations since forming in 2016.  They have played clubs around Corvallis\, Albany and the Eugene area and also several of the wineries\, parks and civic music spots such as parks. Their music reflects the variety of tastes in the band and at the same time reflects a musical core that they all agree upon. Jeanne writes some of the songs and they released a CD “Jeanne Gregg Band Live! on the rooftop at Sky High Brewery” in 2019.  The Cascade Blues Society named the CD “music to listen and pay attention to” in the October 2019 issue of their newsletter. \n  \nJeanne Gregg-Vocalist/composer hailed originally from the San Fernando Valley in Los Angeles.  Her first paying gigs were in the 70’s and she played around the Hollywood area at the Crescendo Club\, The Troubadour and an under- 21 age nightclub called the Hullabaloo.  Later Jeanne moved to San Diego where she played with a band named Half Moon.  Jeanne took a while off to have children but not time off from music.  She took her music into church. Jeanne met the guys when she came began coming to the local jams and that’s how the story goes. \n  \nDennis Monroe: guitar & vocals\, is a versatile musician who has played styles from blues\, jazz\, funk and rock to western swing and country music. He’s been a gigging musician since the age of 14. He spent 13 years touring with “Micky Shannon and Runaway” playing top 40 music and co-writing and recording with his wife Micky. In the mid 90’s he co-founded an eight-piece funk band with son JD Monroe called “Huzzah” that regularly played Eugene\, Corvallis and Portland areas performing an all original repertoire. Dennis produced\, engineered and recorded Huzzah’s album entitled “Paint It Funky” at his Studio 52 recording studio which he owned and operated in Corvallis Other bands Dennis has played with are the “Porch Dawgs” with Steve Magnolia and the Vicki Stevens Band who represented the Rainy Day Blues Society at the IBC in Memphis in 2011.. He has been the co-host along with William (Froggy) Hyland\, of the blues jam at the Calapooia Brewing Company in Albany Oregon since 2005 and has hosted his own jam “Dennis Monroe’s Funked Up Blues Jam” in Philomath Oregon at the Meet n Place Tavern since 2014. \n  \nJohn Collison on keyboards grew up in Kansas and cut his teeth playing with jazz\, funk\, country\, soul and blues bands throughout the Midwest. A stint in Los Angeles was followed by several years in Nashville touring with country artists before landing in Las Vegas where playing became more of a sideline to work as Production Manager and Director of Entertainment for a multi-venue casino operator. The bright lights of Vegas gave way to a simpler lifestyle in Pennsylvania and a chance to rekindle playing music as opposed to working in the support business. In 2014 John moved to Oregon and has been very busy playing with a handful of bands in the Willamette\, including the Donny Thorp Band\, All Rights Reserved and the Jeanne Gregg Band. \n  \n\n\n\n\n\n\n\n Mark Nerby started early in the music business and by 1969 he was playing professionally. He toured and traveled the western part of the United States for approximately 8 years with different bands. More recently he has reduced the amount of time he plays professionally. In 2013 Mark joined Billy D and the Hoodoos out of Portland and spent about 3 years performing both locally and traveling to the blues clubs in Chicago and the House of Blues. In addition\, they played several venues in Santa Fe\, NM\, Fort Worth Texas\, Las Vegas and some venues in Idaho. Currently\, Mark plays with the Dennis Monroe Funked-up Blues Band and the Jeanne Gregg Band among others.
URL:https://macslivemusic.com/event/the-jeanne-gregg-band/
LOCATION:Mac’s Nightclub\, 1626 Willamette St\, Eugene\, OR\, 97401\, United States
ATTACH;FMTTYPE=image/jpeg:https://macslivemusic.com/content/uploads/2021/05/Jeanne-Gregg-Band-.jpg
END:VEVENT
END:VCALENDAR