BEGIN:VCALENDAR
VERSION:2.0
PRODID:-//Mac&#039;s Restaurant - ECPv6.10.0//NONSGML v1.0//EN
CALSCALE:GREGORIAN
METHOD:PUBLISH
X-WR-CALNAME:Mac&#039;s Restaurant
X-ORIGINAL-URL:https://macslivemusic.com
X-WR-CALDESC:Events for Mac&#039;s Restaurant
REFRESH-INTERVAL;VALUE=DURATION:PT1H
X-Robots-Tag:noindex
X-PUBLISHED-TTL:PT1H
BEGIN:VTIMEZONE
TZID:America/Los_Angeles
BEGIN:DAYLIGHT
TZOFFSETFROM:-0800
TZOFFSETTO:-0700
TZNAME:PDT
DTSTART:20220313T100000
END:DAYLIGHT
BEGIN:STANDARD
TZOFFSETFROM:-0700
TZOFFSETTO:-0800
TZNAME:PST
DTSTART:20221106T090000
END:STANDARD
END:VTIMEZONE
BEGIN:VEVENT
DTSTART;TZID=America/Los_Angeles:20220503T190000
DTEND;TZID=America/Los_Angeles:20220503T220000
DTSTAMP:20260423T082347
CREATED:20210619T235223Z
LAST-MODIFIED:20220426T192340Z
UID:4926-1651604400-1651615200@macslivemusic.com
SUMMARY:Rooster's Blues Jam
DESCRIPTION:Hosted by Skip Jones\n$5 minimum purchase\nAll ages\nPlease tip the artists!
URL:https://macslivemusic.com/event/roosters-blues-jam-34/
LOCATION:Mac’s Nightclub\, 1626 Willamette St\, Eugene\, OR\, 97401\, United States
ATTACH;FMTTYPE=image/jpeg:https://macslivemusic.com/content/uploads/2021/06/Rooster-Blues-Jam-11x17-1-scaled.jpg
END:VEVENT
BEGIN:VEVENT
DTSTART;TZID=America/Los_Angeles:20220504T190000
DTEND;TZID=America/Los_Angeles:20220504T220000
DTSTAMP:20260423T082347
CREATED:20220426T200724Z
LAST-MODIFIED:20220426T200724Z
UID:5242-1651690800-1651701600@macslivemusic.com
SUMMARY:RDBS Showcase featuring: Bennet - Matteo & Friends
DESCRIPTION:No Cover\nBennett Matteo Band (BMB) is a collective of brilliant musicians led by guitarist and writer Gino Matteo and vocal powerhouse Jade Bennett.\nExtremely improvisational while having their feet planted in roots music\, BMB are a breath of fresh air to the music world. BMB’s experimentation and refusal to take themselves seriously has made every show an experience.\nGino Matteo is carving the spot he deserves as a “force of nature” in the roots world. Sensational guitarist\, songwriter and powerfully emotional live performer\, he empowered the Sugaray Rayford hit machine for nearly a decade. Gino has destroyed countless audiences here in the US and abroad with his powerful wit\, gut ripping playing\, and incredibly gifted musicianship.\nHis explosive\, spontaneous\, and original live show stands with the most legendary of blues players. Gino\, along with the gutsy soul-power vocals of his lovely and talented wife Jade Bennett\, have been heating up the blues circuit across the western US and internationally. This hard charging dream team brings a raw and soulful interpretation to roots music\, moving it forward progressively and creatively.\nWebsite: https://www.bennettmatteoband.com/
URL:https://macslivemusic.com/event/rdbs-showcase-featuring-bennet-matteo-friends/
LOCATION:Mac’s Nightclub\, 1626 Willamette St\, Eugene\, OR\, 97401\, United States
END:VEVENT
BEGIN:VEVENT
DTSTART;TZID=America/Los_Angeles:20220505T190000
DTEND;TZID=America/Los_Angeles:20220505T213000
DTSTAMP:20260423T082347
CREATED:20211117T224422Z
LAST-MODIFIED:20220426T193714Z
UID:5074-1651777200-1651786200@macslivemusic.com
SUMMARY:Thursday Night Downbeat
DESCRIPTION:Featuring Skip Jones\, Steve Arriola\, Theo Halpert & Sylvain Duplant \n$5 minimum purchase \nPlease tip the artists! \n\nSkip & his group\, The Spirit of New Orleans\, play a smattering of the great rhythm and blues hits of the ’50s and ’60s\, as well as some great pop & rock organ classics of the ’60s and ’70’s. Add to that a bonifide New Orleans piano boogie-woogie and the party follows! \nOver the last 20 years\, frontman Skip Jones has enjoyed working with such bands as: The Coasters\, The Drifters\, The Platters\, Joe Houston & Bo Diddley. He toured with the great Canned Heat in 1985-86 holding down Larry Taylor’s bass position. Skip has worked with The Etouffee Band\, James Thornbury\, James Bradshaw and Henry Vestine extensively. Skip can be seen performing at least 4 times a week in Eugene at the jams and with his own band The Spirit of New Orleans. He’s taken over for the Rooster Man hosting Eugene’s longest running Blues Jam. \nFor over 30 years\, Stephen Arriola has made his music in nightclubs\, theaters\, hotel circuits\, concert halls\, festivals\, and on recordings\, using his musical skills to support songwriters as a Multi-Instrumentalist\, Vocalist\, Accompanist\, and\nComposer/Arranger.\nHe also employs his professional skills as a Consultant and Private Music Teacher.\nStephen studied guitar under GIT graduate Billy Paris\, and studied Music Theory\, Audio Engineering and Jazz at Lane Community College. \nCurrently\, he performs as leader of The Steve Arriola Band\, an Americana-Rock and Roll Band.\nHe divides the rest of his time as lead guitar for Skip Jones and the Spirit of New Orleans\, a Piano driven Blues quartet\, and The Concrete Delta Trio\, a guitar driven collective of friends playing Old Country Music\, Blues and pop. He is often employed in various duos\, trios and full bands featuring Joanne Broh\, an award winning vocalist in the Pacific Northwest.
URL:https://macslivemusic.com/event/thursday-night-downbeat-8/
LOCATION:Mac’s Nightclub\, 1626 Willamette St\, Eugene\, OR\, 97401\, United States
END:VEVENT
BEGIN:VEVENT
DTSTART;TZID=America/Los_Angeles:20220507T190000
DTEND;TZID=America/Los_Angeles:20220507T230000
DTSTAMP:20260423T082347
CREATED:20211117T211009Z
LAST-MODIFIED:20220426T195544Z
UID:5060-1651950000-1651964400@macslivemusic.com
SUMMARY:Darline Jackson's "My Band"
DESCRIPTION:Funk/Soul/Pop/Variety \n$7 Cover
URL:https://macslivemusic.com/event/darline-jacksons-my-band-4/
LOCATION:Mac’s Nightclub\, 1626 Willamette St\, Eugene\, OR\, 97401\, United States
ATTACH;FMTTYPE=image/jpeg:https://macslivemusic.com/content/uploads/2019/01/Darlene-Jackson.jpg
END:VEVENT
BEGIN:VEVENT
DTSTART;TZID=America/Los_Angeles:20220510T190000
DTEND;TZID=America/Los_Angeles:20220510T220000
DTSTAMP:20260423T082347
CREATED:20210619T235036Z
LAST-MODIFIED:20220426T192451Z
UID:4924-1652209200-1652220000@macslivemusic.com
SUMMARY:Rooster's Blues Jam
DESCRIPTION:Hosted by Skip Jones\n$5 minimum purchase\nAll ages\nPlease tip the artists!
URL:https://macslivemusic.com/event/roosters-blues-jam-33/
LOCATION:Mac’s Nightclub\, 1626 Willamette St\, Eugene\, OR\, 97401\, United States
ATTACH;FMTTYPE=image/jpeg:https://macslivemusic.com/content/uploads/2021/06/Rooster-Blues-Jam-11x17-1-scaled.jpg
END:VEVENT
BEGIN:VEVENT
DTSTART;TZID=America/Los_Angeles:20220511T190000
DTEND;TZID=America/Los_Angeles:20220511T220000
DTSTAMP:20260423T082347
CREATED:20220126T215939Z
LAST-MODIFIED:20220426T193233Z
UID:5153-1652295600-1652306400@macslivemusic.com
SUMMARY:Paul Biondi\, Skip Jones & Friends
DESCRIPTION:Featuring Paul Biondi\, Skip Jones\, Gus Russell & Rick Markstrom \n$5 minimum purchase \nAll ages \nPlease tip the artists!
URL:https://macslivemusic.com/event/paul-biondi-skip-jones-friends/
LOCATION:Mac’s Nightclub\, 1626 Willamette St\, Eugene\, OR\, 97401\, United States
ATTACH;FMTTYPE=image/jpeg:https://macslivemusic.com/content/uploads/2022/01/Paul-Gus-RIck-Skip-scaled.jpg
END:VEVENT
BEGIN:VEVENT
DTSTART;TZID=America/Los_Angeles:20220517T190000
DTEND;TZID=America/Los_Angeles:20220517T220000
DTSTAMP:20260423T082347
CREATED:20210619T234714Z
LAST-MODIFIED:20220426T192639Z
UID:4922-1652814000-1652824800@macslivemusic.com
SUMMARY:Rooster's Blues Jam
DESCRIPTION:Hosted by Skip Jones\n$5 minimum purchase\nAll ages\nPlease tip the artists!
URL:https://macslivemusic.com/event/roosters-blues-jam-32/
LOCATION:Mac’s Nightclub\, 1626 Willamette St\, Eugene\, OR\, 97401\, United States
ATTACH;FMTTYPE=image/jpeg:https://macslivemusic.com/content/uploads/2021/06/Rooster-Blues-Jam-11x17-1-scaled.jpg
END:VEVENT
BEGIN:VEVENT
DTSTART;TZID=America/Los_Angeles:20220518T190000
DTEND;TZID=America/Los_Angeles:20220518T220000
DTSTAMP:20260423T082347
CREATED:20211117T230150Z
LAST-MODIFIED:20220426T203548Z
UID:5089-1652900400-1652911200@macslivemusic.com
SUMMARY:Shelley James & Callan Coleman
DESCRIPTION:All Ages\n$5 Minimum Purchase\nPlease tip the artists!\nvocalist/musician band leader\, event planner\, wife\, mother\, and friend Shelley James\nShelley grew up in a small family who performed music together throughout her youth. Her father was a music major and semenary graduate who had a gift for arranging 4 part harmonies. So Shelley’s ear developed being the youngest singing Alto\, her big brother sang tenor\, Mom had Soprano\, and Daddy sang the bass. They toured Western Canada for several years before she went off to college. She started a band with a flautist and jazz guitar player who performed jazz and pop much to the delight of the following they grew in the northwest. They recorded a CD\, and soon wanted to add bass and drums. This is how Shelley met Callan her bass player husband of 25 years. They went on to collaborate\, write and record and perform together. Shelley has been a trusted worship leader in her home church\, and in numerous churches around the area. She became known for being able to bless the house when needed as a help if the team is on vacation or transition. She started her band Shelley James m u s i c b o x in 1997 which is still together as a 6 piece smooth 80s pop/rock outfit. She is also a founding member and manager of Satin Love Orchestra for 22 years. Shelley and Cal spend a few years in LA where they collaborated with musicians Sheila E.\, Terron Brooks\, Jonathan Butler and others. They continue to perform\, write and record in Lane County\, or can be seen on the beaches of O’Ahu where they spend as much time as possible too. They enjoy their daughter Eva\, and 4 cats as well as their family and friends to the fullest.
URL:https://macslivemusic.com/event/shelley-james-callan-coleman-8/
LOCATION:Mac’s Nightclub\, 1626 Willamette St\, Eugene\, OR\, 97401\, United States
ATTACH;FMTTYPE=image/jpeg:https://macslivemusic.com/content/uploads/2021/11/Shelley_Callan_Macs-5-7-22_TAB.jpg
END:VEVENT
BEGIN:VEVENT
DTSTART;TZID=America/Los_Angeles:20220519T190000
DTEND;TZID=America/Los_Angeles:20220519T213000
DTSTAMP:20260423T082347
CREATED:20210722T205810Z
LAST-MODIFIED:20220426T193820Z
UID:4961-1652986800-1652995800@macslivemusic.com
SUMMARY:Thursday Night Downbeat
DESCRIPTION:Featuring Skip Jones\, Steve Arriola\, Theo Halpert & Sylvain Duplant \n$5 minimum purchase \nPlease tip the artists! \n\nSkip & his group\, The Spirit of New Orleans\, play a smattering of the great rhythm and blues hits of the ’50s and ’60s\, as well as some great pop & rock organ classics of the ’60s and ’70’s. Add to that a bonifide New Orleans piano boogie-woogie and the party follows! \nOver the last 20 years\, frontman Skip Jones has enjoyed working with such bands as: The Coasters\, The Drifters\, The Platters\, Joe Houston & Bo Diddley. He toured with the great Canned Heat in 1985-86 holding down Larry Taylor’s bass position. Skip has worked with The Etouffee Band\, James Thornbury\, James Bradshaw and Henry Vestine extensively. Skip can be seen performing at least 4 times a week in Eugene at the jams and with his own band The Spirit of New Orleans. He’s taken over for the Rooster Man hosting Eugene’s longest running Blues Jam. \nFor over 30 years\, Stephen Arriola has made his music in nightclubs\, theaters\, hotel circuits\, concert halls\, festivals\, and on recordings\, using his musical skills to support songwriters as a Multi-Instrumentalist\, Vocalist\, Accompanist\, and\nComposer/Arranger.\nHe also employs his professional skills as a Consultant and Private Music Teacher.\nStephen studied guitar under GIT graduate Billy Paris\, and studied Music Theory\, Audio Engineering and Jazz at Lane Community College. \nCurrently\, he performs as leader of The Steve Arriola Band\, an Americana-Rock and Roll Band.\nHe divides the rest of his time as lead guitar for Skip Jones and the Spirit of New Orleans\, a Piano driven Blues quartet\, and The Concrete Delta Trio\, a guitar driven collective of friends playing Old Country Music\, Blues and pop. He is often employed in various duos\, trios and full bands featuring Joanne Broh\, an award winning vocalist in the Pacific Northwest.
URL:https://macslivemusic.com/event/thursday-night-downbeat-7/
LOCATION:Mac’s Nightclub\, 1626 Willamette St\, Eugene\, OR\, 97401\, United States
END:VEVENT
BEGIN:VEVENT
DTSTART;TZID=America/Los_Angeles:20220521T190000
DTEND;TZID=America/Los_Angeles:20220521T220000
DTSTAMP:20260423T082347
CREATED:20191231T201127Z
LAST-MODIFIED:20220426T200222Z
UID:4204-1653159600-1653170400@macslivemusic.com
SUMMARY:Brian Chevalier & Heavy Chevy
DESCRIPTION:$6 Cover \nBrian Chevalier and Heavy Chevy create old-school music with a new intensity. \nThe blues\, zydeco and Americana group takes on a wide-range of styles and genres\, creating a fusion of blues sounds. \nComprised of award-winning vocalist Darcy Lee\, saxophonist Jesse Yonally and electric and slide guitarist Brian Chevalier\, the Heavy Chevy band weaves instrumental sounds with vocals to create powerful musical tension that veers into soul\, funk\, classic rock\, electric blues\, Mississippi hill-stomp and zydeco tunes. \nMichael Axel Fleming and Lance Seiders add to the act’s rhythm\, bringing dance-worthy grooves to every show. \nAfter years of gigs at concerts\, festivals\, benefits and jams\, the group’s dynamic has evolved from emotional and blues sounds to find a new soul-searching\, house-rocking passion.
URL:https://macslivemusic.com/event/nye-bash-with-brian-chevalier-heavy-chevy-2/
LOCATION:Mac’s Nightclub\, 1626 Willamette St\, Eugene\, OR\, 97401\, United States
ATTACH;FMTTYPE=image/jpeg:https://macslivemusic.com/content/uploads/2019/11/heavy.jpg
END:VEVENT
BEGIN:VEVENT
DTSTART;TZID=America/Los_Angeles:20220524T190000
DTEND;TZID=America/Los_Angeles:20220524T220000
DTSTAMP:20260423T082347
CREATED:20210619T234415Z
LAST-MODIFIED:20220426T192807Z
UID:4919-1653418800-1653429600@macslivemusic.com
SUMMARY:Rooster's Blues Jam
DESCRIPTION:Hosted by Skip Jones\n$5 minimum purchase\nAll ages\nPlease tip the artists!
URL:https://macslivemusic.com/event/roosters-blues-jam-31/
LOCATION:Mac’s Nightclub\, 1626 Willamette St\, Eugene\, OR\, 97401\, United States
ATTACH;FMTTYPE=image/jpeg:https://macslivemusic.com/content/uploads/2021/06/Rooster-Blues-Jam-11x17-1-scaled.jpg
END:VEVENT
BEGIN:VEVENT
DTSTART;VALUE=DATE:20220528
DTEND;VALUE=DATE:20220529
DTSTAMP:20260423T082347
CREATED:20220426T200927Z
LAST-MODIFIED:20220426T201248Z
UID:5245-1653696000-1653782399@macslivemusic.com
SUMMARY:Closed for private party
DESCRIPTION:Closed for private party
URL:https://macslivemusic.com/event/5245/
LOCATION:Mac’s Nightclub\, 1626 Willamette St\, Eugene\, OR\, 97401\, United States
END:VEVENT
BEGIN:VEVENT
DTSTART;TZID=America/Los_Angeles:20220531T190000
DTEND;TZID=America/Los_Angeles:20220531T220000
DTSTAMP:20260423T082347
CREATED:20210526T213835Z
LAST-MODIFIED:20220426T192903Z
UID:4860-1654023600-1654034400@macslivemusic.com
SUMMARY:Rooster's Blues Jam
DESCRIPTION:Hosted by Skip Jones\n$5 minimum purchase\nAll ages\nPlease tip the artists!
URL:https://macslivemusic.com/event/roosters-blues-jam-30/
LOCATION:Mac’s Nightclub\, 1626 Willamette St\, Eugene\, OR\, 97401\, United States
ATTACH;FMTTYPE=image/jpeg:https://macslivemusic.com/content/uploads/2021/06/Rooster-Blues-Jam-11x17-1-scaled.jpg
END:VEVENT
END:VCALENDAR