BEGIN:VCALENDAR
VERSION:2.0
PRODID:-//Mac&#039;s Restaurant - ECPv6.10.0//NONSGML v1.0//EN
CALSCALE:GREGORIAN
METHOD:PUBLISH
X-WR-CALNAME:Mac&#039;s Restaurant
X-ORIGINAL-URL:https://macslivemusic.com
X-WR-CALDESC:Events for Mac&#039;s Restaurant
REFRESH-INTERVAL;VALUE=DURATION:PT1H
X-Robots-Tag:noindex
X-PUBLISHED-TTL:PT1H
BEGIN:VTIMEZONE
TZID:America/Los_Angeles
BEGIN:DAYLIGHT
TZOFFSETFROM:-0800
TZOFFSETTO:-0700
TZNAME:PDT
DTSTART:20220313T100000
END:DAYLIGHT
BEGIN:STANDARD
TZOFFSETFROM:-0700
TZOFFSETTO:-0800
TZNAME:PST
DTSTART:20221106T090000
END:STANDARD
END:VTIMEZONE
BEGIN:VEVENT
DTSTART;TZID=America/Los_Angeles:20220601T190000
DTEND;TZID=America/Los_Angeles:20220601T220000
DTSTAMP:20260423T060302
CREATED:20220511T224407Z
LAST-MODIFIED:20220601T194008Z
UID:5263-1654110000-1654120800@macslivemusic.com
SUMMARY:Rainy Day Blues Society Showcase Featuring The BrewKats
DESCRIPTION:No Cover \n$5 Minimum Purchase \nPlease tip the artists!
URL:https://macslivemusic.com/event/rainy-day-blues-society-showcase/
LOCATION:Mac’s Nightclub\, 1626 Willamette St\, Eugene\, OR\, 97401\, United States
ATTACH;FMTTYPE=image/png:https://macslivemusic.com/content/uploads/2022/05/RDBSLogo_Hugh_blackletters.png
END:VEVENT
BEGIN:VEVENT
DTSTART;TZID=America/Los_Angeles:20220603T190000
DTEND;TZID=America/Los_Angeles:20220603T220000
DTSTAMP:20260423T060302
CREATED:20210526T221932Z
LAST-MODIFIED:20220526T194639Z
UID:4885-1654282800-1654293600@macslivemusic.com
SUMMARY:Daddy Rabbit
DESCRIPTION:$6 Cover \n$5 Minimum Purchase \nPlease tip the artists! \nAudiences may mistake the band is playing songs from the 1950s or ’60s. But they soon realize it’s original music that honors that early rock ‘n’ roll tradition\, and they get up and dance along. Rob Jacobs wouldn’t have it any other way. The guitarist and vocalist has experience in several different genres\, especially in rock’s later history. He played with indie rock outfit Long\, Tall and Ugly and punk band The Perverts previously. But he found his calling in the genre’s early roots. “I wanted to not play loud and fast constantly\, all the time\,” Jacobs said. “I started writing rockabilly stuff when I was with my other band\, and the drummer was like\, ‘I don’t want to play that kind of music.’ And I said\, ‘OK\, but I have to.’ ” That instinct has led to two albums\, energetic live performances and a growing reputation in Eugene-Springfield.
URL:https://macslivemusic.com/event/daddy-rabbit-5/
LOCATION:Mac’s Nightclub\, 1626 Willamette St\, Eugene\, OR\, 97401\, United States
ATTACH;FMTTYPE=image/jpeg:https://macslivemusic.com/content/uploads/2021/05/Daddy-Rabbit-Macs.1-6322-page-001.jpg
END:VEVENT
BEGIN:VEVENT
DTSTART;TZID=America/Los_Angeles:20220604T190000
DTEND;TZID=America/Los_Angeles:20220604T220000
DTSTAMP:20260423T060302
CREATED:20220517T215222Z
LAST-MODIFIED:20220525T212710Z
UID:5314-1654369200-1654380000@macslivemusic.com
SUMMARY:FOUR
DESCRIPTION:$6 Cover \n$5 Minimum Purchase \nPlease tip the artists! \nFOUR is a 4-piece American Rock’n Roll & Blues band from Eugene\, OR. \nFormed in early 2022 from a collection of musicians who met through the Eugene open jam scene\, Jamie\, Joe\, Tom and Bart couldn’t get enough of Albert Collins\, Eric Clapton\, Paul Butterfield\, CCR & Santana. \nThe bans unique brand of entertainment features a rock-solid driving rhythm section that will rock and get your body moving. Their infectious grooves\, catchy melodies and timely riffs will make you want to dance\, sing\, clap your hands and tap your feet. \nHailed as “the good rock n roll & Blues band” by the positive vibes of their social media family. FOUR have performed all around Lane County Oregon and are ready to bring their one-of-a-kind Rock & Blues to you!
URL:https://macslivemusic.com/event/four/
LOCATION:Mac’s Nightclub\, 1626 Willamette St\, Eugene\, OR\, 97401\, United States
ATTACH;FMTTYPE=image/jpeg:https://macslivemusic.com/content/uploads/2022/05/img004-2-scaled.jpg
END:VEVENT
BEGIN:VEVENT
DTSTART;TZID=America/Los_Angeles:20220623T190000
DTEND;TZID=America/Los_Angeles:20220623T220000
DTSTAMP:20260423T060302
CREATED:20220511T230418Z
LAST-MODIFIED:20220519T205555Z
UID:5279-1656010800-1656021600@macslivemusic.com
SUMMARY:The McCallum Family Sing Along Night
DESCRIPTION:Featuring Pete Christie & Sue McCallum (Christie & McCallum)\, Chef Billy McCallum & Patrick McCallum \nThere will be McCallum family recipe Appetizer & Entree special \nOutside weather permitting \nNo Cover \n$5 Minimum Purchase \nPlease tip the artists! \nChristie & McCallum Bio \nPlaying a variety of Americana\, Country and Rock. Special tributes to Johnny Cash and Patsy Cline. Pete Christie and Suzanne McCallum are both native Oregonians who share a deep passion for music. They have been performing in the Eugene/Springfield area since 1996. Their extensive repertoire includes the music of many well known artists ranging from the rootsy sounds of Elvis and Roy Orbison\, to classic rock such as Fleetwood Mac and Bruce Springsteen. Classic country genre includes Dolly Parton\, Waylon Jennings\, Merle Haggard\, Emmy Lou Harris and many more! \n\n 
URL:https://macslivemusic.com/event/thursday-night-downbeat-13/
LOCATION:Mac’s Nightclub\, 1626 Willamette St\, Eugene\, OR\, 97401\, United States
ATTACH;FMTTYPE=image/jpeg:https://macslivemusic.com/content/uploads/2022/05/mccallum.jpg
END:VEVENT
BEGIN:VEVENT
DTSTART;TZID=America/Los_Angeles:20220624T190000
DTEND;TZID=America/Los_Angeles:20220624T220000
DTSTAMP:20260423T060302
CREATED:20210722T210325Z
LAST-MODIFIED:20220601T194545Z
UID:4967-1656097200-1656108000@macslivemusic.com
SUMMARY:Fret Logic
DESCRIPTION:Outside weather permitting \n$6 Cover \n$5 Minimum Purchase \nPlease tip the artists! \nBlues/Variety \nFeaturing Jerry Zybach\,  Mike Hatgis & Rick Markstrom
URL:https://macslivemusic.com/event/fret-logic-2/
LOCATION:Mac’s Nightclub\, 1626 Willamette St\, Eugene\, OR\, 97401\, United States
END:VEVENT
END:VCALENDAR