BEGIN:VCALENDAR
VERSION:2.0
PRODID:-//Mac&#039;s Restaurant - ECPv6.10.0//NONSGML v1.0//EN
CALSCALE:GREGORIAN
METHOD:PUBLISH
X-ORIGINAL-URL:https://macslivemusic.com
X-WR-CALDESC:Events for Mac&#039;s Restaurant
REFRESH-INTERVAL;VALUE=DURATION:PT1H
X-Robots-Tag:noindex
X-PUBLISHED-TTL:PT1H
BEGIN:VTIMEZONE
TZID:America/Los_Angeles
BEGIN:DAYLIGHT
TZOFFSETFROM:-0800
TZOFFSETTO:-0700
TZNAME:PDT
DTSTART:20220313T100000
END:DAYLIGHT
BEGIN:STANDARD
TZOFFSETFROM:-0700
TZOFFSETTO:-0800
TZNAME:PST
DTSTART:20221106T090000
END:STANDARD
END:VTIMEZONE
BEGIN:VEVENT
DTSTART;TZID=America/Los_Angeles:20220706T190000
DTEND;TZID=America/Los_Angeles:20220706T220000
DTSTAMP:20260423T035219
CREATED:20220511T232904Z
LAST-MODIFIED:20220511T232904Z
UID:5300-1657134000-1657144800@macslivemusic.com
SUMMARY:Rainy Day Blues Society Showcase
DESCRIPTION:Outside weather permitting \nNo Cover \n$5 Minimum Purchase \nPlease tip the artists! \nFeaturing a variety of local\, regional & national artists
URL:https://macslivemusic.com/event/rainy-day-blues-society-showcase-2/
LOCATION:Mac’s Nightclub\, 1626 Willamette St\, Eugene\, OR\, 97401\, United States
ATTACH;FMTTYPE=image/png:https://macslivemusic.com/content/uploads/2022/05/RDBSLogo_Hugh_blackletters.png
END:VEVENT
BEGIN:VEVENT
DTSTART;TZID=America/Los_Angeles:20220716T190000
DTEND;TZID=America/Los_Angeles:20220716T220000
DTSTAMP:20260423T035219
CREATED:20220518T221732Z
LAST-MODIFIED:20220518T221732Z
UID:5338-1657998000-1658008800@macslivemusic.com
SUMMARY:North to South Women R&B Revue
DESCRIPTION:Outside weather permitting \nNo Cover \n$5 Minimum Purchase \nPlease tip the artists! \nSonny “Smokin” Hess\, the first woman nominated in a male dominated field for Best Lead Guitar by the Cascade Blues Association\, also holds a nomination for CBA’s Lifetime Achievement Award. Sonny is also widely known for her productions of the NW Women R&B Show\, a specialty show she takes pride in producing. Her show has been seen by thousands over the past 15 years at the Safeway Waterfront Blues Festival. http://www.sonnyhess.com/ \nJoanne Broh is a column of energy\, known for her powerful\, soulful voice and the passion of her performance. Winner Female Blues Vocalist Rainy Day Blues Society\, Journey to Memphis (International Blues Challenge) Finalist Cascade Blues Association.\nA dynamic blend of smokin’ blues and R&B with a splash of funk.\nhttp://joannebroh.com/ \nTwo-time Blues Music Award winning artist Lisa Mann hails from blues-soaked Portland\, Oregon. Mann’s vocals effortlessly straddle the line between the honey sweet warmth of the south\, and the force-of-nature sound  Her clever blues and Americana balladry is complimented by her considerable prowess on bass guitar.\nhttp://www.lisamannmusic.com/ \nClaudia Paige is a highly-sought-after drummer with  over thirty years of experience in live performance\, recording and music scoring. “Claudia Paige is a dynamic drummer who knows how to add passion to the music and make it sound unique\, powerful\, sensual and edgy.” –San Francisco Chronicle. https://www.claudiathedrummer.com/ \nLinda Kanter has been playing professionally for many years & plays a variety of genres: R & B\, jazz \, rock and world. Linda holds a Bachelor of Fine Arts-Music Education and received the Lilla Jewel award from the McKenzie River Gathering for women artists for the original music album \, Westwind. https://www.reverbnation.com/musician/lindakanter
URL:https://macslivemusic.com/event/north-to-south-women-rb-revue/
LOCATION:Mac’s Nightclub\, 1626 Willamette St\, Eugene\, OR\, 97401\, United States
ATTACH;FMTTYPE=image/jpeg:https://macslivemusic.com/content/uploads/2022/05/Joanne_RB_Macs_web.jpg
END:VEVENT
BEGIN:VEVENT
DTSTART;TZID=America/Los_Angeles:20220723T190000
DTEND;TZID=America/Los_Angeles:20220723T220000
DTSTAMP:20260423T035219
CREATED:20220518T223941Z
LAST-MODIFIED:20220518T223941Z
UID:5347-1658602800-1658613600@macslivemusic.com
SUMMARY:Brian Chevalier & Heavy Chevy
DESCRIPTION:Outside weather permitting \nNo Cover \n$5 Minimum Purchase \nPlease tip the artists! \nBrian Chevalier and Heavy Chevy create old-school music with a new intensity. The blues\, zydeco and Americana group takes on a wide-range of styles and genres\, creating a fusion of blues sounds. \nComprised of award-winning vocalist Darcy Lee\, saxophonist Jesse Yonally and electric and slide guitarist Brian Chevalier\, the Heavy Chevy band weaves instrumental sounds with vocals to create powerful musical tension that veers into soul\, funk\, classic rock\, electric blues\, Mississippi hill-stomp and zydeco tunes.
URL:https://macslivemusic.com/event/brian-chevalier-heavy-chevy-2/
LOCATION:Mac’s Nightclub\, 1626 Willamette St\, Eugene\, OR\, 97401\, United States
ATTACH;FMTTYPE=image/jpeg:https://macslivemusic.com/content/uploads/2019/11/heavy.jpg
END:VEVENT
BEGIN:VEVENT
DTSTART;VALUE=DATE:20220726
DTEND;VALUE=DATE:20220727
DTSTAMP:20260423T035219
CREATED:20220511T232734Z
LAST-MODIFIED:20220714T222621Z
UID:5297-1658793600-1658879999@macslivemusic.com
SUMMARY:Closed
DESCRIPTION:Closed
URL:https://macslivemusic.com/event/roosters-blues-jam-44/
LOCATION:Mac’s Nightclub\, 1626 Willamette St\, Eugene\, OR\, 97401\, United States
ATTACH;FMTTYPE=image/jpeg:https://macslivemusic.com/content/uploads/2021/06/Rooster-Blues-Jam-11x17-1-scaled.jpg
END:VEVENT
BEGIN:VEVENT
DTSTART;VALUE=DATE:20220727
DTEND;VALUE=DATE:20220728
DTSTAMP:20260423T035219
CREATED:20220518T220522Z
LAST-MODIFIED:20220714T222703Z
UID:5329-1658880000-1658966399@macslivemusic.com
SUMMARY:Closed
DESCRIPTION:
URL:https://macslivemusic.com/event/paul-biondi-skip-jones-friends-8/
LOCATION:Mac’s Nightclub\, 1626 Willamette St\, Eugene\, OR\, 97401\, United States
ATTACH;FMTTYPE=image/jpeg:https://macslivemusic.com/content/uploads/2022/01/Paul-Gus-RIck-Skip-scaled.jpg
END:VEVENT
END:VCALENDAR