BEGIN:VCALENDAR
VERSION:2.0
PRODID:-//Mac&#039;s Restaurant - ECPv6.10.0//NONSGML v1.0//EN
CALSCALE:GREGORIAN
METHOD:PUBLISH
X-WR-CALNAME:Mac&#039;s Restaurant
X-ORIGINAL-URL:https://macslivemusic.com
X-WR-CALDESC:Events for Mac&#039;s Restaurant
REFRESH-INTERVAL;VALUE=DURATION:PT1H
X-Robots-Tag:noindex
X-PUBLISHED-TTL:PT1H
BEGIN:VTIMEZONE
TZID:America/Los_Angeles
BEGIN:DAYLIGHT
TZOFFSETFROM:-0800
TZOFFSETTO:-0700
TZNAME:PDT
DTSTART:20220313T100000
END:DAYLIGHT
BEGIN:STANDARD
TZOFFSETFROM:-0700
TZOFFSETTO:-0800
TZNAME:PST
DTSTART:20221106T090000
END:STANDARD
END:VTIMEZONE
BEGIN:VEVENT
DTSTART;TZID=America/Los_Angeles:20220902T190000
DTEND;TZID=America/Los_Angeles:20220902T220000
DTSTAMP:20260422T225924
CREATED:20220830T202455Z
LAST-MODIFIED:20220830T213509Z
UID:5460-1662145200-1662156000@macslivemusic.com
SUMMARY:The Natty "O" Band
DESCRIPTION:Outside weather permitting \nNo Cover \n$7 Minimum Purchase \nPlease tip the artists! \nFor over 50 years\, Natty “O” has been playing music. Born in Los Angeles\, and raised in the Bronx\, Natty followed his brother to Eugene and started playing bass with the popular local band “Etoufee”. \nThough Natty played with several Blues bands across the country before coming to Eugene\, He enjoyed playing locally with The Roosterman\, a popular Blues musician. \nAbout 16 years ago\, Natty was asked to host a show on KRVM. His brother\, The Leffman\, also hosted a show on another local public radio station. \nNatty is a historian on Blues music and loves being a DJ on KRVM where he can share his knowledge with listeners. His mission is to try and keep the Blues alive. \nFor Natty\, Blues music is about emotion and feeling and he tries to convey that to his listeners during his show.
URL:https://macslivemusic.com/event/the-natty-o-band/
LOCATION:Mac’s Nightclub\, 1626 Willamette St\, Eugene\, OR\, 97401\, United States
END:VEVENT
BEGIN:VEVENT
DTSTART;TZID=America/Los_Angeles:20220921T190000
DTEND;TZID=America/Los_Angeles:20220921T220000
DTSTAMP:20260422T225924
CREATED:20220824T203751Z
LAST-MODIFIED:20220824T203934Z
UID:5449-1663786800-1663797600@macslivemusic.com
SUMMARY:Sing Along Night with Natty & Danny
DESCRIPTION:No Cover \n$7 minimum purchase \nLive band Sing along hosted by Natty “O” & Dan Parslow
URL:https://macslivemusic.com/event/sing-along-night-with-natty-danny/
LOCATION:Mac’s Nightclub\, 1626 Willamette St\, Eugene\, OR\, 97401\, United States
END:VEVENT
BEGIN:VEVENT
DTSTART;TZID=America/Los_Angeles:20220923T190000
DTEND;TZID=America/Los_Angeles:20220923T220000
DTSTAMP:20260422T225924
CREATED:20220518T221349Z
LAST-MODIFIED:20220830T201715Z
UID:5335-1663959600-1663970400@macslivemusic.com
SUMMARY:The Jeanne Gregg Band
DESCRIPTION:$6 Cover \n$7 Minimum Purchase \nPlease tip the artists! \nThe Jeanne Gregg Band has gone through a few ideations since forming in 2016.  They have played clubs around Corvallis\, Albany and the Eugene area and also several of the wineries\, parks and civic music spots such as parks. Their music reflects the variety of tastes in the band and at the same time reflects a musical core that they all agree upon. Jeanne writes some of the songs and they released a CD “Jeanne Gregg Band Live! on the rooftop at Sky High Brewery” in 2019.  The Cascade Blues Society named the CD “music to listen and pay attention to” in the October 2019 issue of their newsletter.
URL:https://macslivemusic.com/event/the-jeanne-gregg-band-2/
LOCATION:Mac’s Nightclub\, 1626 Willamette St\, Eugene\, OR\, 97401\, United States
ATTACH;FMTTYPE=image/jpeg:https://macslivemusic.com/content/uploads/2021/05/Jeanne-Gregg-Band-.jpg
END:VEVENT
END:VCALENDAR