BEGIN:VCALENDAR
VERSION:2.0
PRODID:-//Mac&#039;s Restaurant - ECPv6.10.0//NONSGML v1.0//EN
CALSCALE:GREGORIAN
METHOD:PUBLISH
X-ORIGINAL-URL:https://macslivemusic.com
X-WR-CALDESC:Events for Mac&#039;s Restaurant
REFRESH-INTERVAL;VALUE=DURATION:PT1H
X-Robots-Tag:noindex
X-PUBLISHED-TTL:PT1H
BEGIN:VTIMEZONE
TZID:America/Los_Angeles
BEGIN:DAYLIGHT
TZOFFSETFROM:-0800
TZOFFSETTO:-0700
TZNAME:PDT
DTSTART:20220313T100000
END:DAYLIGHT
BEGIN:STANDARD
TZOFFSETFROM:-0700
TZOFFSETTO:-0800
TZNAME:PST
DTSTART:20221106T090000
END:STANDARD
END:VTIMEZONE
BEGIN:VEVENT
DTSTART;TZID=America/Los_Angeles:20221201T190000
DTEND;TZID=America/Los_Angeles:20221201T220000
DTSTAMP:20260422T155032
CREATED:20180710T192510Z
LAST-MODIFIED:20221111T202112Z
UID:2433-1669921200-1669932000@macslivemusic.com
SUMMARY:Christie & McCallum
DESCRIPTION:Playing a variety of Americana\, Country and Rock. Special tributes to Johnny Cash and Patsy Cline. Pete Christie and Suzanne McCallum are both native Oregonians who share a deep passion for music. They have been performing in the Eugene/Springfield area since 1996. Their extensive repertoire includes the music of many well known artists ranging from the rootsy sounds of Elvis and Roy Orbison\, to classic rock such as Fleetwood Mac and Bruce Springsteen. Classic country genre includes Dolly Parton\, Waylon Jennings\, Merle Haggard\, Emmy Lou Harris and many more!
URL:https://macslivemusic.com/event/family-bbq-night-with-christie-mccallum/
LOCATION:Mac’s Nightclub\, 1626 Willamette St\, Eugene\, OR\, 97401\, United States
ATTACH;FMTTYPE=image/jpeg:https://macslivemusic.com/content/uploads/2018/07/christiemccallum.jpg
END:VEVENT
BEGIN:VEVENT
DTSTART;TZID=America/Los_Angeles:20221202T200000
DTEND;TZID=America/Los_Angeles:20221202T230000
DTSTAMP:20260422T155032
CREATED:20221110T215418Z
LAST-MODIFIED:20221110T220805Z
UID:5564-1670011200-1670022000@macslivemusic.com
SUMMARY:The Lucky Losers CD Release with Ben Rice
DESCRIPTION:$10 Cover \n$5 for Rainy Day Blues Society Members Click here to join! \nNEW ALBUM STANDIN’ PAT\nStandin’ Pat was officially released on October 28\, 2022 on Vizztone. Recorded\, produced and engineered by Kid Andersen of Greaseland Studios\, this collection of 11 beautifully rendered original songs captures the essence of the Lucky Losers sound\, a vintage blend of blues\, late ’60’s to early ‘70’s soul\, and traditional\, electric Americana. \nThe Lucky Losers: https://www.theluckylosers.com/ \nWinners of five Independent Blues Award in 2021 including “Artist of the Year” (Cathy Lemons)\, “Song of the Year” (Godless Land)\, “The Lucky Losers are San Francisco’s finest male/female duet fronted band — a throwback to the hybrid of soul\, blues\, rock\, gospel\, and country that emerged in the late 1960’s with impassioned vocal performances\, electrifying musical interplay\, and powerful harmonica. \nDescribed as “the finest light-skinned female blues vocalist in the U.S” [Real Blues – 2010]\, fiery Dallas-born entertainer Cathy Lemons has a velvet voice with a gritty edge and the rebel conviction of a woman risen from the ashes. New Jersey native Phil Berkowitz “has earned renown as one of the West Coast’s most distinctive harp players\, as well as for his sharp\, resonant tenor” [Living Blues – 2018]. The stark contrast between incandescent Lemons and elegant Berkowitz makes for a captivating musical union\, breathing new life into American songwriting tradition and the vanishing art of duet singing. \nSince 2015\, The Lucky Losers have completed numerous national tours\, performing on stages in over 42 states. Their artistic achievements have garnered 6 national awards\, 20 award nominations\, & two International Songwriting Competition prizes as Finalists in 2018 & 2020. \n  \nBen Rice: https://www.benricelive.com/ \nBen Rice has been leaving huge impressions on audiences around the Northwest and winning awards for his vocals and guitar playing for the last seven years. In 2014 at the International Blues Challenge in Memphis\, Tennessee\, he left the audience speechless with a raw emotional delivery of his version of “Key To The Highway.” On his second consecutive trip to the International Blues Challenge\, he made the finals in the solo/duo category and was awarded the St. Blues Guitarist award for best guitarist. \n   His debut on the international stage in 2014\, was a landmark step forward in his career from being a regional act playing primarily around the NW to a national and international touring artist. Captivating audiences and presenting himself as someone who has a lot of depth in the various soundscapes of American music\, Ben is gaining fans all over the world who love his playing\, singing\, songs\, and stage performance. \n   His original music blends Soul\, Delta-Blues\, Rockabilly\, Jazz\, and Funk into a Roots Stew. Influenced heavily by his parents record collection\, from Al Green to Alice Cooper\, Teddy Pendergrass to Marshall Tucker\, at a young age Ben began investigating Blues and it’s history. Starting with B.B. King and going through the various regions and time periods\, he is inspired and influenced by historical figures like Muddy Waters\, Mississippi Fred McDowell\, Robert Johnson\, Big Bill Broonzy\, and Skip James to name a few. Ben spent his college years studying Jazz Guitar at the University of Oregon as well as classical music while also playing in the Celtic Folk ensemble and Mariachi group on campus. He is well versed in a lot of musical styles that all contribute to the unique sound of his originals. \n   As a performer Ben looks to the greats for inspiration and is always striving to connect with the audience through his music and stories. He also has an interesting arsenal of guitars playing resophonic guitars and homemade cigar box guitars. More important than the visual appeal Ben has an amazing way of making these guitars sound\, often bringing audiences to tears with his slide playing. \n   Ben Rice has been a growing talent in the NW\, winning awards for his singing\, guitar work\, writing\, and performing. He is stepping into the national and international scene using the vast influences of the American music to fuel his music and performance.
URL:https://macslivemusic.com/event/the-lucky-losers-cd-release-with-ben-rice/
LOCATION:Mac’s Nightclub\, 1626 Willamette St\, Eugene\, OR\, 97401\, United States
ATTACH;FMTTYPE=image/jpeg:https://macslivemusic.com/content/uploads/2022/11/1bestchoice2albumcoverphoto.jpg
END:VEVENT
BEGIN:VEVENT
DTSTART;TZID=America/Los_Angeles:20221216T190000
DTEND;TZID=America/Los_Angeles:20221216T220000
DTSTAMP:20260422T155032
CREATED:20221117T204333Z
LAST-MODIFIED:20221214T215438Z
UID:5588-1671217200-1671228000@macslivemusic.com
SUMMARY:SOLD OUT!!!  In the Vet's Ballroom: Curtis Salgado
DESCRIPTION:SOLD OUT! \nThe Rainy Day Blues Society is pleased to announce it’s 2022 Holiday Party with one of our favorite Bluesman\, Curtis Salgado! \nFriday December 16th 7-10 pm Doors open at 6:30 \nUpstairs in the Ballroom at the Veterans Memorial Association  \nCurtis and his band will bring you the best in blues for this “phat and funky” holiday show. \n“Curtis Salgado’s range and power as a vocalist are a tour-de-force…hard-nosed blues\, beautifully nuanced R&B\, phat and funky” –Billboard \nAward-winning vocalist\, instrumentalist and songwriter Curtis Salgado\, the man NPR calls “an icon” with “a huge voice\,” is revered worldwide for his ability to wring every ounce of soul out of every song he performs. Salgado is famed not only for his powerhouse live shows and ten previous albums\, but also for his passionate and insightful original songs. He has been nominated three times for the Blues Music Award for Song Of The Year\, winning in 2018 for Walk A Mile In My Blues from The Beautiful Lowdown. In total\, he has won nine Blues Music Awards\, including the B.B. King Entertainer Of The Year. DownBeat calls his songwriting skills “an impressive gift.” Billboard says Salgado’s music is “inspired and powerful.” Now\, after 40 years of recording\, performing\, touring and songwriting\, Salgado is back with Damage Control\, his first full band album in four years\, and it’s packed with fresh\, original material.
URL:https://macslivemusic.com/event/in-the-vets-ballroom-curtis-salgado/
LOCATION:Mac’s Nightclub\, 1626 Willamette St\, Eugene\, OR\, 97401\, United States
ATTACH;FMTTYPE=image/jpeg:https://macslivemusic.com/content/uploads/2022/11/curtis.jpg
END:VEVENT
BEGIN:VEVENT
DTSTART;TZID=America/Los_Angeles:20221217T200000
DTEND;TZID=America/Los_Angeles:20221217T220000
DTSTAMP:20260422T155032
CREATED:20211222T234533Z
LAST-MODIFIED:20221111T212229Z
UID:5121-1671307200-1671314400@macslivemusic.com
SUMMARY:The Greg Nestler Band
DESCRIPTION:$7 Cover\n\n\n$7 minimum purchase \nInterweaving soulful vocals and dynamic guitar playing\, Pacific Northwest singer-songwriter\, Greg Nestler and his band have been delivering their fiery blend of soul/rock to audiences throughout the NW. \nTrouble\, is the latest album since his previous effort\, Duality.  Duality was produced by Bryan Bell and gave Nestler the opportunity to have featured guest appearances from Ray Parker\, Jr.\, Freddie Washington (Steely Dan) and David K Mathews (Santana). \n​ \nNestler\, raised in Southeast Portland\, was first introduced to the musical arts/performance at an early age through tap dancing.  It wasn’t until years later that he began exploring his love of blues guitar and R&B/soul music.  After moving to Eugene to attend the University of Oregon\, Nestler began playing local venues with his songwriting duo\, Nestler & Hawtin.  The duo were soon playing sizable festivals throughout the Northwest (Portland Rose Festival\, Bite of Seattle\, Bite of Portland\, Taste of Tacoma). \n​ \nPulling from influences like Bill Withers to Stevie Ray Vaughn and Jimi Hendrix\, Nestler’s live performances feature superb blues guitar and groove fueled originals.
URL:https://macslivemusic.com/event/the-greg-nestler-band/
LOCATION:Mac’s Nightclub\, 1626 Willamette St\, Eugene\, OR\, 97401\, United States
ATTACH;FMTTYPE=image/jpeg:https://macslivemusic.com/content/uploads/2021/12/greg-nestler.jpg
END:VEVENT
BEGIN:VEVENT
DTSTART;TZID=America/Los_Angeles:20221221T190000
DTEND;TZID=America/Los_Angeles:20221221T220000
DTSTAMP:20260422T155032
CREATED:20200923T222832Z
LAST-MODIFIED:20221111T210831Z
UID:4650-1671649200-1671660000@macslivemusic.com
SUMMARY:The Concrete Delta Trio
DESCRIPTION:Americana (Originals & Covers) \nAmericana Music from 3 good friends (Steve Arriola\, Todd Dennis\, Paul Hobbs) who Love Guitars\, Tube amps and 3-part harmony\, paying respect to Old Country Music\, Blues\, and Rock n Roll with a polite nod to 20th century Pop & other surprises. \n$7 Minimum purchase \nAll Ages \nPlease tip the artists!
URL:https://macslivemusic.com/event/the-concrete-delta-trio/
LOCATION:Mac’s Nightclub\, 1626 Willamette St\, Eugene\, OR\, 97401\, United States
ATTACH;FMTTYPE=image/jpeg:https://macslivemusic.com/content/uploads/2020/09/concrete-delta.jpg
END:VEVENT
BEGIN:VEVENT
DTSTART;TZID=America/Los_Angeles:20221222T190000
DTEND;TZID=America/Los_Angeles:20221222T220000
DTSTAMP:20260422T155032
CREATED:20220511T233450Z
LAST-MODIFIED:20221116T220526Z
UID:5305-1671735600-1671746400@macslivemusic.com
SUMMARY:Thursday Night Downbeat
DESCRIPTION:No Cover \n$7 Minimum Purchase \nPlease tip the artists! \nFeaturing Skip Jones\, Steve Arriola\, Theo Halpert & Sylvain Duplant \n\nSkip & his group\, The Spirit of New Orleans\, play a smattering of the great rhythm and blues hits of the ’50s and ’60s\, as well as some great pop & rock organ classics of the ’60s and ’70’s. Add to that a bonifide New Orleans piano boogie-woogie and the party follows! \nOver the last 20 years\, frontman Skip Jones has enjoyed working with such bands as: The Coasters\, The Drifters\, The Platters\, Joe Houston & Bo Diddley. He toured with the great Canned Heat in 1985-86 holding down Larry Taylor’s bass position. Skip has worked with The Etouffee Band\, James Thornbury\, James Bradshaw and Henry Vestine extensively. Skip can be seen performing at least 4 times a week in Eugene at the jams and with his own band The Spirit of New Orleans. He’s taken over for the Rooster Man hosting Eugene’s longest running Blues Jam. \nFor over 30 years\, Stephen Arriola has made his music in nightclubs\, theaters\, hotel circuits\, concert halls\, festivals\, and on recordings\, using his musical skills to support songwriters as a Multi-Instrumentalist\, Vocalist\, Accompanist\, and\nComposer/Arranger.\nHe also employs his professional skills as a Consultant and Private Music Teacher.\nStephen studied guitar under GIT graduate Billy Paris\, and studied Music Theory\, Audio Engineering and Jazz at Lane Community College. \nCurrently\, he performs as leader of The Steve Arriola Band\, an Americana-Rock and Roll Band.\nHe divides the rest of his time as lead guitar for Skip Jones and the Spirit of New Orleans\, a Piano driven Blues quartet\, and The Concrete Delta Trio\, a guitar driven collective of friends playing Old Country Music\, Blues and pop. He is often employed in various duos\, trios and full bands featuring Joanne Broh\, an award winning vocalist in the Pacific Northwest.
URL:https://macslivemusic.com/event/thursday-night-downbeat-14/
LOCATION:Mac’s Nightclub\, 1626 Willamette St\, Eugene\, OR\, 97401\, United States
ATTACH;FMTTYPE=image/png:https://macslivemusic.com/content/uploads/2021/06/Thursdays-at-Macs-11x17-2.png
END:VEVENT
BEGIN:VEVENT
DTSTART;VALUE=DATE:20221224
DTEND;VALUE=DATE:20221225
DTSTAMP:20260422T155032
CREATED:20221111T214057Z
LAST-MODIFIED:20221111T214057Z
UID:5583-1671840000-1671926399@macslivemusic.com
SUMMARY:Closed
DESCRIPTION:
URL:https://macslivemusic.com/event/closed-30/
LOCATION:Mac’s Nightclub\, 1626 Willamette St\, Eugene\, OR\, 97401\, United States
END:VEVENT
BEGIN:VEVENT
DTSTART;TZID=America/Los_Angeles:20221228T190000
DTEND;TZID=America/Los_Angeles:20221228T220000
DTSTAMP:20260422T155032
CREATED:20220518T234803Z
LAST-MODIFIED:20221228T193318Z
UID:5357-1672254000-1672264800@macslivemusic.com
SUMMARY:Duck's Watch Party (No Music)
DESCRIPTION:Go Ducks!
URL:https://macslivemusic.com/event/the-blue-owens-band-3/
LOCATION:Mac’s Nightclub\, 1626 Willamette St\, Eugene\, OR\, 97401\, United States
ATTACH;FMTTYPE=image/jpeg:https://macslivemusic.com/content/uploads/2022/05/blue-owens-scaled.jpg
END:VEVENT
BEGIN:VEVENT
DTSTART;TZID=America/Los_Angeles:20221229T200000
DTEND;TZID=America/Los_Angeles:20221229T223000
DTSTAMP:20260422T155032
CREATED:20221205T221721Z
LAST-MODIFIED:20221205T221721Z
UID:5623-1672344000-1672353000@macslivemusic.com
SUMMARY:NW Premium Comedy
DESCRIPTION:$15 Advance (Online Only) Click here to get your tickets today! \n$20 Day of show \nHosted by James”Blame” & James Manning The Third \nFeaturing: Luke Miller\, Carl Lee & Amanda Arnold \n  \nLuke Miller: https://www.instagram.com/lukemillersucks/?hl=en \nCarl Lee: https://carlleecomedy.com/ \nAmanda Arnold: https://www.facebook.com/AmandaArnoldComedy/videos
URL:https://macslivemusic.com/event/nw-premium-comedy-2/
LOCATION:Mac’s Nightclub\, 1626 Willamette St\, Eugene\, OR\, 97401\, United States
ATTACH;FMTTYPE=image/jpeg:https://macslivemusic.com/content/uploads/2022/12/ECCDec29-scaled.jpg
END:VEVENT
BEGIN:VEVENT
DTSTART;TZID=America/Los_Angeles:20221231T210000
DTEND;TZID=America/Los_Angeles:20221231T210000
DTSTAMP:20260422T155032
CREATED:20220720T211358Z
LAST-MODIFIED:20221231T211113Z
UID:5417-1672520400-1672520400@macslivemusic.com
SUMMARY:In Mac's: Darline Jackson's "My Band"
DESCRIPTION:  \nAdvance tickets are closed. Tickets will be available at the door for the day of show price.$15 day of show \nChampagne toast at midnight! \n\nDarline Jackson’s “my Band” will elevate your event to a pleasurable and memorable one that lingers long after the night ends. You get the experience of talented performers who combine professionalism\, enthusiasm with a high level of competence to create an atmosphere of fun and excitement.\n\n\nIf you want to dance or enjoy easy listening\, while you relax and dine\, then Darline Jackson’s “my Band” is the band you want at your event! We cover a genre of music spanning decades\, satisfying musical tastes from nearly all age groups.\n\n\nMy band featuring Darline Jackson\, the powerhouse soul diva\, on lead vocals\, backed by keyboards\, saxophone\, and drums.
URL:https://macslivemusic.com/event/darline-jacksons-my-band-6/
LOCATION:Mac’s Nightclub\, 1626 Willamette St\, Eugene\, OR\, 97401\, United States
ATTACH;FMTTYPE=image/jpeg:https://macslivemusic.com/content/uploads/2022/05/darline.jpg
END:VEVENT
BEGIN:VEVENT
DTSTART;TZID=America/Los_Angeles:20221231T213000
DTEND;TZID=America/Los_Angeles:20221231T213000
DTSTAMP:20260422T155032
CREATED:20190423T224435Z
LAST-MODIFIED:20221231T211131Z
UID:3732-1672522200-1672522200@macslivemusic.com
SUMMARY:In the Vet's Ballroom: SoulStruck
DESCRIPTION:Advance tickets are closed. Tickets will be available at the door for the day of show price. \n$15 day of show \nChampagne toast at midnight! \nSoulStruck is a high energy funk and soul group that makes it hard to not move and will awaken your chakras \n  \n  \n 
URL:https://macslivemusic.com/event/soulicious-4/
LOCATION:Mac’s Nightclub\, 1626 Willamette St\, Eugene\, OR\, 97401\, United States
ATTACH;FMTTYPE=image/jpeg:https://macslivemusic.com/content/uploads/2019/04/Soulstruck_NYE_web1.jpg
END:VEVENT
END:VCALENDAR