BEGIN:VCALENDAR
VERSION:2.0
PRODID:-//Mac&#039;s Restaurant - ECPv6.10.0//NONSGML v1.0//EN
CALSCALE:GREGORIAN
METHOD:PUBLISH
X-ORIGINAL-URL:https://macslivemusic.com
X-WR-CALDESC:Events for Mac&#039;s Restaurant
REFRESH-INTERVAL;VALUE=DURATION:PT1H
X-Robots-Tag:noindex
X-PUBLISHED-TTL:PT1H
BEGIN:VTIMEZONE
TZID:America/Los_Angeles
BEGIN:DAYLIGHT
TZOFFSETFROM:-0800
TZOFFSETTO:-0700
TZNAME:PDT
DTSTART:20230312T100000
END:DAYLIGHT
BEGIN:STANDARD
TZOFFSETFROM:-0700
TZOFFSETTO:-0800
TZNAME:PST
DTSTART:20231105T090000
END:STANDARD
END:VTIMEZONE
BEGIN:VEVENT
DTSTART;TZID=America/Los_Angeles:20230208T190000
DTEND;TZID=America/Los_Angeles:20230208T220000
DTSTAMP:20260422T110656
CREATED:20221013T182742Z
LAST-MODIFIED:20230131T212433Z
UID:5530-1675882800-1675893600@macslivemusic.com
SUMMARY:Christie & McCallum
DESCRIPTION:Playing a variety of Americana\, Country and Rock. Special tributes to Johnny Cash and Patsy Cline. Pete Christie and Suzanne McCallum are both native Oregonians who share a deep passion for music. They have been performing in the Eugene/Springfield area since 1996. Their extensive repertoire includes the music of many well known artists ranging from the rootsy sounds of Elvis and Roy Orbison\, to classic rock such as Fleetwood Mac and Bruce Springsteen. Classic country genre includes Dolly Parton\, Waylon Jennings\, Merle Haggard\, Emmy Lou Harris and many more!
URL:https://macslivemusic.com/event/christie-mccallum-2/
LOCATION:Mac’s Nightclub\, 1626 Willamette St\, Eugene\, OR\, 97401\, United States
ATTACH;FMTTYPE=image/jpeg:https://macslivemusic.com/content/uploads/2018/07/christiemccallum.jpg
END:VEVENT
BEGIN:VEVENT
DTSTART;VALUE=DATE:20230211
DTEND;VALUE=DATE:20230212
DTSTAMP:20260422T110656
CREATED:20230119T203343Z
LAST-MODIFIED:20230119T203343Z
UID:5651-1676073600-1676159999@macslivemusic.com
SUMMARY:Closed
DESCRIPTION:
URL:https://macslivemusic.com/event/closed-32/
LOCATION:Mac’s Nightclub\, 1626 Willamette St\, Eugene\, OR\, 97401\, United States
END:VEVENT
BEGIN:VEVENT
DTSTART;TZID=America/Los_Angeles:20230223T190000
DTEND;TZID=America/Los_Angeles:20230223T210000
DTSTAMP:20260422T110656
CREATED:20230202T215412Z
LAST-MODIFIED:20230223T201007Z
UID:5689-1677178800-1677186000@macslivemusic.com
SUMMARY:NW Premium Comedy (Cancelled due to weather)
DESCRIPTION:Due to the severe weather conditions\, our comics from out of town are unable to get transportation here. Therefore we regret that we have to cancel tonight’s show. \nWe will refund any tickets sold for this event. \nHosted by James Blame & James Manning the 3rd \nFeaturing: Curtis Taylor III\, Birungi Briungi & Jamie Colson \nCurtis Taylor III: Twitter Facebook \nBirungi Birungi: Website \nBirungi is a Ugandan comedian based out of Seattle\, Washington. Although he initially moved to America for college\, he quickly found a different way to fall into debt – stand up comedy! Within 5 years of performing\, he has hit stages in multiple cities including Olympia\, Bellingham\, Portland\, Denver\, Boston\, Phoenix\, San Diego and Los Angeles. He has been featured on the “Best of the Fest” list at the Burbank Comedy Festival. Birungi also had the privilege of opening for DL Hughley (Original Kings of Comedy) at the Parlor Comedy club in Bellevue\, an experience he describes the highlight of his comedy career. \n  \nSince then\, he has performed for hundreds of people across America. Most recently\, he was a contestant in the Seattle International Comedy Competition which showcases comedians from all over US\, Canada and the rest of the world. You can find him performing in and outside major cities throughout the year. He has traveled and opened or featured for seasoned headliners like: Mateen Stewart\, Ken Hamlet\, Monica Nevi\, Susan Jones\,  Ivan Decker\, Bo Johnshon\, Luke Severeid\, Anish Shah and more. He is aware that you have never heard of these people but hopes you get the idea.
URL:https://macslivemusic.com/event/nw-premium-comedy-4/
LOCATION:Mac’s Nightclub\, 1626 Willamette St\, Eugene\, OR\, 97401\, United States
ATTACH;FMTTYPE=image/jpeg:https://macslivemusic.com/content/uploads/2023/02/ECCFeb23-scaled.jpg
END:VEVENT
BEGIN:VEVENT
DTSTART;TZID=America/Los_Angeles:20230225T200000
DTEND;TZID=America/Los_Angeles:20230225T230000
DTSTAMP:20260422T110656
CREATED:20230119T210809Z
LAST-MODIFIED:20230119T210809Z
UID:5669-1677355200-1677366000@macslivemusic.com
SUMMARY:Brian Chevalier & Heavy Chevy
DESCRIPTION:$7 Cover \n$7 minimum purchase \nPlease tip the artists! \nBrian Chevalier and Heavy Chevy create old-school music with a new intensity. \nThe blues\, zydeco and Americana group takes on a wide-range of styles and genres\, creating a fusion of blues sounds. Brian Chevalier and Heavy Chevy are playing a Friday night show in Eugene. \nComprised of award-winning vocalist Darcy Lee\, saxophonist Jesse Yonally and electric and slide guitarist Brian Chevalier\, the Heavy Chevy band weaves instrumental sounds with vocals to create powerful musical tension that veers into soul\, funk\, classic rock\, electric blues\, Mississippi hill-stomp and zydeco tunes. \nMichael Axel Fleming and Lance Seiders add to the act’s rhythm\, bringing dance-worthy grooves to every show. \nAfter years of gigs at concerts\, festivals\, benefits and jams\, the group’s dynamic has evolved from emotional and blues sounds to find a new soul-searching\, house-rocking passion.
URL:https://macslivemusic.com/event/brian-chevalier-heavy-chevy-3/
LOCATION:Mac’s Nightclub\, 1626 Willamette St\, Eugene\, OR\, 97401\, United States
ATTACH;FMTTYPE=image/jpeg:https://macslivemusic.com/content/uploads/2019/11/heavy.jpg
END:VEVENT
END:VCALENDAR