BEGIN:VCALENDAR
VERSION:2.0
PRODID:-//Mac&#039;s Restaurant - ECPv6.10.0//NONSGML v1.0//EN
CALSCALE:GREGORIAN
METHOD:PUBLISH
X-WR-CALNAME:Mac&#039;s Restaurant
X-ORIGINAL-URL:https://macslivemusic.com
X-WR-CALDESC:Events for Mac&#039;s Restaurant
REFRESH-INTERVAL;VALUE=DURATION:PT1H
X-Robots-Tag:noindex
X-PUBLISHED-TTL:PT1H
BEGIN:VTIMEZONE
TZID:America/Los_Angeles
BEGIN:DAYLIGHT
TZOFFSETFROM:-0800
TZOFFSETTO:-0700
TZNAME:PDT
DTSTART:20230312T100000
END:DAYLIGHT
BEGIN:STANDARD
TZOFFSETFROM:-0700
TZOFFSETTO:-0800
TZNAME:PST
DTSTART:20231105T090000
END:STANDARD
END:VTIMEZONE
BEGIN:VEVENT
DTSTART;TZID=America/Los_Angeles:20230506T200000
DTEND;TZID=America/Los_Angeles:20230506T233000
DTSTAMP:20260422T040655
CREATED:20230411T192159Z
LAST-MODIFIED:20230506T190337Z
UID:5762-1683403200-1683415800@macslivemusic.com
SUMMARY:Joan Armatrading/ Melissa Etheridge Tribute
DESCRIPTION:$18 Day of show \nMelissa Etheridge is one of rock music’s great female icons. Her critically acclaimed eponymous debut album was certified double platinum. Etheridge’s popularity built around such memorable songs as “Bring Me Some Water\,” “No Souvenirs” and “Ain’t It Heavy” for which she won her first Grammy for Best Female Rock Vocal. Etheridge hit her commercial and artistic stride with her fourth album\, Yes I Am\, featuring the massive hits “I’m the Only One” and “Come to My Window\,” a searing song of longing that brought her a second Grammy. \n  \n“I write\,” says Joan Armatrading\, “because I love it.” With 21 superlative albums to her credit\, the latest released world-wide on BMG in 2018\, Joan’s subtle and sublime music has touched millions of people all over the world. The very first British female singer/songwriter to gain international success\, Joan has won accolade after accolade. Having been honoured by an MBE from the Queen in 2001\, In 2020  Joan was awarded a CBE and she has even received the keys to Sydney along the way.  In 1974\, she signed to A&M world-wide and a whole plethora of classic and memorable songs followed – “Love and Affection”\, “Down To Zero”\, “Drop the Pilot”\, “Me Myself I” to name but a few. \n  \nThis tribute will be performed by top notch Pacific Northwest women: \n  \nSonny “Smokin” Hess\, the first woman nominated in a male dominated field for Best Lead Guitar by the Cascade Blues Association\, also holds a nomination for CBA’s Lifetime Achievement Award. Sonny is also widely known for her productions of the NW Women R&B Show\, a specialty show she takes pride in producing. Her show has been seen by thousands over the past 15 years at the Safeway Waterfront Blues Festival. http://www.sonnyhess.com/ \n  \nJoanne Broh is a column of energy\, known for her powerful\, soulful voice and the passion of her performance. Winner Female Blues Vocalist Rainy Day Blues Society\, Journey to Memphis (International Blues Challenge) Finalist Cascade Blues Association. \nA dynamic blend of smokin’ blues and R&B with a splash of funk. \nhttp://joannebroh.com/ \n  \nTwo-time Blues Music Award winning artist (bass) Lisa Mann’s vocals effortlessly straddle the line between the honey sweet warmth of the south\, and the force-of-nature sound  Her clever blues and Americana balladry is complimented by her considerable prowess on bass guitar. \nhttp://www.lisamannmusic.com/ \n  \n“Leah Hinchcliff is the femme fatalle of funk” The Olympian.”She is definitely the funkiest bass player I’ve seen in the entire country in the past 2 years! I was more than  humbled by her playing”. Pat Ferris\, Hot Band.”Leah Hinchcliff is the embodiment of coolness. Smart\, funny\, and incredibly talented\, I love hearing her play!” Lynette Jensen\, Education Center Director\, Beacock Music https://www.leahhinchcliff.com/ \n  \nClaudia Paige is a highly-sought-after drummer with  over thirty years of experience in live performance\, recording and music scoring. “Claudia Paige is a dynamic drummer who knows how to add passion to the music and make it sound unique\, powerful\, sensual and edgy.” –San Francisco Chronicle. https://www.claudiathedrummer.com/.
URL:https://macslivemusic.com/event/joan-armatrading-melissa-etheridge-tribute/
LOCATION:Mac’s Nightclub\, 1626 Willamette St\, Eugene\, OR\, 97401\, United States
ATTACH;FMTTYPE=image/jpeg:https://macslivemusic.com/content/uploads/2023/04/JB_MA_JA_Tribute_web3.jpg
END:VEVENT
BEGIN:VEVENT
DTSTART;TZID=America/Los_Angeles:20230518T190000
DTEND;TZID=America/Los_Angeles:20230518T220000
DTSTAMP:20260422T040655
CREATED:20230131T214237Z
LAST-MODIFIED:20230418T211547Z
UID:5686-1684436400-1684447200@macslivemusic.com
SUMMARY:Big Larry Featuring Rich Sellars from Candy Apple Bleu
DESCRIPTION:No Cover \nAll ages \n$7 minimum purchase \nBig Larry’s band live. A virtual jukebox of music from the 60’s to now. Covers and originals from Larry’s bag of tricks. Please always love the Larry!
URL:https://macslivemusic.com/event/big-larry/
LOCATION:Mac’s Nightclub\, 1626 Willamette St\, Eugene\, OR\, 97401\, United States
ATTACH;FMTTYPE=image/jpeg:https://macslivemusic.com/content/uploads/2023/03/big-larry.jpg
END:VEVENT
BEGIN:VEVENT
DTSTART;TZID=America/Los_Angeles:20230525T190000
DTEND;TZID=America/Los_Angeles:20230525T190000
DTSTAMP:20260422T040655
CREATED:20230418T211804Z
LAST-MODIFIED:20230418T212634Z
UID:5782-1685041200-1685041200@macslivemusic.com
SUMMARY:NW Premium Comedy
DESCRIPTION:$20 Ticket \nLine up TBC \nHosted By James “Blame” & James Manning The Third
URL:https://macslivemusic.com/event/nw-premium-comedy-5/
LOCATION:Mac’s Nightclub\, 1626 Willamette St\, Eugene\, OR\, 97401\, United States
END:VEVENT
BEGIN:VEVENT
DTSTART;VALUE=DATE:20230527
DTEND;VALUE=DATE:20230528
DTSTAMP:20260422T040655
CREATED:20230412T201219Z
LAST-MODIFIED:20230412T201219Z
UID:5770-1685145600-1685231999@macslivemusic.com
SUMMARY:Closed
DESCRIPTION:
URL:https://macslivemusic.com/event/closed-33/
LOCATION:Mac’s Nightclub\, 1626 Willamette St\, Eugene\, OR\, 97401\, United States
END:VEVENT
END:VCALENDAR